BEGIN:VCALENDAR
VERSION:2.0
PRODID:-// - ECPv5.7.0//NONSGML v1.0//EN
CALSCALE:GREGORIAN
METHOD:PUBLISH
X-ORIGINAL-URL:https://philadelphiadogtraining.org
X-WR-CALDESC:Events for 
BEGIN:VTIMEZONE
TZID:America/New_York
BEGIN:DAYLIGHT
TZOFFSETFROM:-0500
TZOFFSETTO:-0400
TZNAME:EDT
DTSTART:20220313T070000
END:DAYLIGHT
BEGIN:STANDARD
TZOFFSETFROM:-0400
TZOFFSETTO:-0500
TZNAME:EST
DTSTART:20221106T060000
END:STANDARD
END:VTIMEZONE
BEGIN:VEVENT
DTSTART;TZID=America/New_York:20220210T170000
DTEND;TZID=America/New_York:20220210T180000
DTSTAMP:20260425T065623
CREATED:20211114T193450Z
LAST-MODIFIED:20220205T170917Z
UID:5396-1644512400-1644516000@philadelphiadogtraining.org
SUMMARY:ADVANCED
DESCRIPTION:
URL:https://philadelphiadogtraining.org/event/advanced-55/
CATEGORIES:Light Blue
END:VEVENT
BEGIN:VEVENT
DTSTART;VALUE=DATE:20220210
DTEND;VALUE=DATE:20220211
DTSTAMP:20260425T065623
CREATED:20211114T193450Z
LAST-MODIFIED:20220205T170917Z
UID:5395-1644451200-1644537599@philadelphiadogtraining.org
SUMMARY:FIFTH NIGHT OF CLASSES
DESCRIPTION:
URL:https://philadelphiadogtraining.org/event/fifth-night-of-classes-4/
CATEGORIES:Class Nights
END:VEVENT
BEGIN:VEVENT
DTSTART;TZID=America/New_York:20220209T200000
DTEND;TZID=America/New_York:20220209T210000
DTSTAMP:20260425T065623
CREATED:20211114T193450Z
LAST-MODIFIED:20220205T170917Z
UID:5393-1644436800-1644440400@philadelphiadogtraining.org
SUMMARY:RALLY
DESCRIPTION:
URL:https://philadelphiadogtraining.org/event/rally-61/
CATEGORIES:Yellow
END:VEVENT
BEGIN:VEVENT
DTSTART;TZID=America/New_York:20220209T184500
DTEND;TZID=America/New_York:20220209T194500
DTSTAMP:20260425T065623
CREATED:20211114T193450Z
LAST-MODIFIED:20220205T170806Z
UID:5392-1644432300-1644435900@philadelphiadogtraining.org
SUMMARY:BEGINNER
DESCRIPTION:
URL:https://philadelphiadogtraining.org/event/beginner-118/
CATEGORIES:Navy
END:VEVENT
BEGIN:VEVENT
DTSTART;TZID=America/New_York:20220209T173000
DTEND;TZID=America/New_York:20220209T183000
DTSTAMP:20260425T065623
CREATED:20211114T193248Z
LAST-MODIFIED:20220205T170806Z
UID:5390-1644427800-1644431400@philadelphiadogtraining.org
SUMMARY:BEGINNER
DESCRIPTION:
URL:https://philadelphiadogtraining.org/event/beginner-117/
CATEGORIES:Light Blue
END:VEVENT
BEGIN:VEVENT
DTSTART;VALUE=DATE:20220209
DTEND;VALUE=DATE:20220210
DTSTAMP:20260425T065623
CREATED:20211114T193248Z
LAST-MODIFIED:20220205T170806Z
UID:5391-1644364800-1644451199@philadelphiadogtraining.org
SUMMARY:FIFTH NIGHT OF CLASSES
DESCRIPTION:
URL:https://philadelphiadogtraining.org/event/fifth-night-of-classes-3/
CATEGORIES:Class Nights
END:VEVENT
BEGIN:VEVENT
DTSTART;TZID=America/New_York:20220208T190000
DTEND;TZID=America/New_York:20220208T203000
DTSTAMP:20260425T065623
CREATED:20211114T193248Z
LAST-MODIFIED:20220205T170751Z
UID:5389-1644346800-1644352200@philadelphiadogtraining.org
SUMMARY:OPEN
DESCRIPTION:
URL:https://philadelphiadogtraining.org/event/open-90/
CATEGORIES:Navy
END:VEVENT
BEGIN:VEVENT
DTSTART;TZID=America/New_York:20220208T173000
DTEND;TZID=America/New_York:20220208T190000
DTSTAMP:20260425T065623
CREATED:20211114T193248Z
LAST-MODIFIED:20220205T170806Z
UID:5388-1644341400-1644346800@philadelphiadogtraining.org
SUMMARY:UTILITY
DESCRIPTION:
URL:https://philadelphiadogtraining.org/event/utility-93/
CATEGORIES:Light Blue
END:VEVENT
BEGIN:VEVENT
DTSTART;TZID=America/New_York:20220207T194500
DTEND;TZID=America/New_York:20220207T204500
DTSTAMP:20260425T065623
CREATED:20211114T193233Z
LAST-MODIFIED:20220205T170751Z
UID:5386-1644263100-1644266700@philadelphiadogtraining.org
SUMMARY:NOVICE/FOUNDATION SKILLS
DESCRIPTION:
URL:https://philadelphiadogtraining.org/event/novice-foundation-skills-21/
CATEGORIES:Light Blue
END:VEVENT
BEGIN:VEVENT
DTSTART;TZID=America/New_York:20220207T184500
DTEND;TZID=America/New_York:20220207T194500
DTSTAMP:20260425T065623
CREATED:20211114T193248Z
LAST-MODIFIED:20220205T170751Z
UID:5387-1644259500-1644263100@philadelphiadogtraining.org
SUMMARY:NOVICE RING READINESS
DESCRIPTION:
URL:https://philadelphiadogtraining.org/event/novice-ring-readiness-27/
CATEGORIES:Navy,Yellow
END:VEVENT
BEGIN:VEVENT
DTSTART;TZID=America/New_York:20220207T173000
DTEND;TZID=America/New_York:20220207T183000
DTSTAMP:20260425T065623
CREATED:20211114T193233Z
LAST-MODIFIED:20220205T170751Z
UID:5385-1644255000-1644258600@philadelphiadogtraining.org
SUMMARY:PUPPY K
DESCRIPTION:
URL:https://philadelphiadogtraining.org/event/puppy-k-61/
CATEGORIES:Light Blue
END:VEVENT
BEGIN:VEVENT
DTSTART;TZID=America/New_York:20220203T200000
DTEND;TZID=America/New_York:20220203T210000
DTSTAMP:20260425T065623
CREATED:20211114T193233Z
LAST-MODIFIED:20211115T155335Z
UID:5382-1643918400-1643922000@philadelphiadogtraining.org
SUMMARY:ADVANCED
DESCRIPTION:
URL:https://philadelphiadogtraining.org/event/advanced-54/
CATEGORIES:Light Blue
END:VEVENT
BEGIN:VEVENT
DTSTART;TZID=America/New_York:20220203T190000
DTEND;TZID=America/New_York:20220203T200000
DTSTAMP:20260425T065623
CREATED:20211114T193233Z
LAST-MODIFIED:20211115T155325Z
UID:5383-1643914800-1643918400@philadelphiadogtraining.org
SUMMARY:INTERMEDIATE
DESCRIPTION:
URL:https://philadelphiadogtraining.org/event/intermediate-49/
CATEGORIES:Yellow
END:VEVENT
BEGIN:VEVENT
DTSTART;TZID=America/New_York:20220203T180000
DTEND;TZID=America/New_York:20220203T190000
DTSTAMP:20260425T065623
CREATED:20211114T193232Z
LAST-MODIFIED:20211115T155316Z
UID:5381-1643911200-1643914800@philadelphiadogtraining.org
SUMMARY:BEGINNER
DESCRIPTION:
URL:https://philadelphiadogtraining.org/event/beginner-116/
CATEGORIES:Navy
END:VEVENT
BEGIN:VEVENT
DTSTART;TZID=America/New_York:20220203T170000
DTEND;TZID=America/New_York:20220203T180000
DTSTAMP:20260425T065623
CREATED:20211114T193232Z
LAST-MODIFIED:20211115T155311Z
UID:5380-1643907600-1643911200@philadelphiadogtraining.org
SUMMARY:ADVANCED
DESCRIPTION:
URL:https://philadelphiadogtraining.org/event/advanced-53/
CATEGORIES:Light Blue
END:VEVENT
BEGIN:VEVENT
DTSTART;VALUE=DATE:20220203
DTEND;VALUE=DATE:20220204
DTSTAMP:20260425T065623
CREATED:20211114T193232Z
LAST-MODIFIED:20211115T161957Z
UID:5377-1643846400-1643932799@philadelphiadogtraining.org
SUMMARY:FOURTH NIGHT OF CLASSES
DESCRIPTION:
URL:https://philadelphiadogtraining.org/event/fourth-night-of-classes-4/
CATEGORIES:Class Nights
END:VEVENT
BEGIN:VEVENT
DTSTART;TZID=America/New_York:20220202T200000
DTEND;TZID=America/New_York:20220202T210000
DTSTAMP:20260425T065623
CREATED:20211114T193232Z
LAST-MODIFIED:20211115T155302Z
UID:5379-1643832000-1643835600@philadelphiadogtraining.org
SUMMARY:RALLY
DESCRIPTION:
URL:https://philadelphiadogtraining.org/event/rally-60/
CATEGORIES:Yellow
END:VEVENT
BEGIN:VEVENT
DTSTART;TZID=America/New_York:20220202T184500
DTEND;TZID=America/New_York:20220202T194500
DTSTAMP:20260425T065623
CREATED:20211114T193232Z
LAST-MODIFIED:20211115T155257Z
UID:5378-1643827500-1643831100@philadelphiadogtraining.org
SUMMARY:BEGINNER
DESCRIPTION:
URL:https://philadelphiadogtraining.org/event/beginner-115/
CATEGORIES:Navy
END:VEVENT
BEGIN:VEVENT
DTSTART;TZID=America/New_York:20220202T173000
DTEND;TZID=America/New_York:20220202T183000
DTSTAMP:20260425T065623
CREATED:20211114T193221Z
LAST-MODIFIED:20211115T155246Z
UID:5374-1643823000-1643826600@philadelphiadogtraining.org
SUMMARY:BEGINNER
DESCRIPTION:
URL:https://philadelphiadogtraining.org/event/beginner-114/
CATEGORIES:Light Blue
END:VEVENT
BEGIN:VEVENT
DTSTART;VALUE=DATE:20220202
DTEND;VALUE=DATE:20220203
DTSTAMP:20260425T065623
CREATED:20211114T193221Z
LAST-MODIFIED:20211115T161957Z
UID:5375-1643760000-1643846399@philadelphiadogtraining.org
SUMMARY:FOURTH NIGHT OF CLASSES
DESCRIPTION:
URL:https://philadelphiadogtraining.org/event/fourth-night-of-classes-3/
CATEGORIES:Class Nights
END:VEVENT
BEGIN:VEVENT
DTSTART;TZID=America/New_York:20220201T190000
DTEND;TZID=America/New_York:20220201T203000
DTSTAMP:20260425T065623
CREATED:20211114T193221Z
LAST-MODIFIED:20211115T155239Z
UID:5376-1643742000-1643747400@philadelphiadogtraining.org
SUMMARY:OPEN
DESCRIPTION:
URL:https://philadelphiadogtraining.org/event/open-89/
CATEGORIES:Navy
END:VEVENT
BEGIN:VEVENT
DTSTART;TZID=America/New_York:20220201T173000
DTEND;TZID=America/New_York:20220201T190000
DTSTAMP:20260425T065623
CREATED:20211114T193220Z
LAST-MODIFIED:20211115T155233Z
UID:5373-1643736600-1643742000@philadelphiadogtraining.org
SUMMARY:UTILITY
DESCRIPTION:
URL:https://philadelphiadogtraining.org/event/utility-92/
CATEGORIES:Light Blue
END:VEVENT
BEGIN:VEVENT
DTSTART;TZID=America/New_York:20220131T194500
DTEND;TZID=America/New_York:20220131T204500
DTSTAMP:20260425T065623
CREATED:20211114T193212Z
LAST-MODIFIED:20211115T155226Z
UID:5371-1643658300-1643661900@philadelphiadogtraining.org
SUMMARY:NOVICE/FOUNDATION SKILLS
DESCRIPTION:
URL:https://philadelphiadogtraining.org/event/novice-foundation-skills-20/
CATEGORIES:Yellow
END:VEVENT
BEGIN:VEVENT
DTSTART;TZID=America/New_York:20220131T184500
DTEND;TZID=America/New_York:20220131T194500
DTSTAMP:20260425T065623
CREATED:20211114T193220Z
LAST-MODIFIED:20211115T155219Z
UID:5372-1643654700-1643658300@philadelphiadogtraining.org
SUMMARY:NOVICE RING READINESS
DESCRIPTION:
URL:https://philadelphiadogtraining.org/event/novice-ring-readiness-26/
CATEGORIES:Navy
END:VEVENT
BEGIN:VEVENT
DTSTART;TZID=America/New_York:20220131T173000
DTEND;TZID=America/New_York:20220131T183000
DTSTAMP:20260425T065623
CREATED:20211114T193212Z
LAST-MODIFIED:20211115T155214Z
UID:5370-1643650200-1643653800@philadelphiadogtraining.org
SUMMARY:PUPPY K
DESCRIPTION:
URL:https://philadelphiadogtraining.org/event/puppy-k-59/
CATEGORIES:Light Blue
END:VEVENT
BEGIN:VEVENT
DTSTART;TZID=America/New_York:20220127T200000
DTEND;TZID=America/New_York:20220127T210000
DTSTAMP:20260425T065623
CREATED:20211114T193212Z
LAST-MODIFIED:20211115T155204Z
UID:5369-1643313600-1643317200@philadelphiadogtraining.org
SUMMARY:ADVANCED
DESCRIPTION:
URL:https://philadelphiadogtraining.org/event/advanced-52/
CATEGORIES:Light Blue
END:VEVENT
BEGIN:VEVENT
DTSTART;TZID=America/New_York:20220127T190000
DTEND;TZID=America/New_York:20220127T200000
DTSTAMP:20260425T065623
CREATED:20211114T193100Z
LAST-MODIFIED:20211115T155157Z
UID:5366-1643310000-1643313600@philadelphiadogtraining.org
SUMMARY:INTERMEDIATE
DESCRIPTION:
URL:https://philadelphiadogtraining.org/event/intermediate-48/
CATEGORIES:Yellow
END:VEVENT
BEGIN:VEVENT
DTSTART;TZID=America/New_York:20220127T180000
DTEND;TZID=America/New_York:20220127T190000
DTSTAMP:20260425T065623
CREATED:20211114T193212Z
LAST-MODIFIED:20211115T155145Z
UID:5367-1643306400-1643310000@philadelphiadogtraining.org
SUMMARY:BEGINNER
DESCRIPTION:
URL:https://philadelphiadogtraining.org/event/beginner-113/
CATEGORIES:Navy
END:VEVENT
BEGIN:VEVENT
DTSTART;TZID=America/New_York:20220127T170000
DTEND;TZID=America/New_York:20220127T180000
DTSTAMP:20260425T065623
CREATED:20211114T193100Z
LAST-MODIFIED:20211115T155140Z
UID:5365-1643302800-1643306400@philadelphiadogtraining.org
SUMMARY:ADVANCED
DESCRIPTION:
URL:https://philadelphiadogtraining.org/event/advanced-51/
CATEGORIES:Light Blue
END:VEVENT
BEGIN:VEVENT
DTSTART;VALUE=DATE:20220127
DTEND;VALUE=DATE:20220128
DTSTAMP:20260425T065623
CREATED:20211114T193212Z
LAST-MODIFIED:20211115T161934Z
UID:5368-1643241600-1643327999@philadelphiadogtraining.org
SUMMARY:THIRD NIGHT OF CLASSES
DESCRIPTION:
URL:https://philadelphiadogtraining.org/event/third-night-of-classes-4/
CATEGORIES:Class Nights
END:VEVENT
END:VCALENDAR