BEGIN:VCALENDAR
VERSION:2.0
PRODID:-// - ECPv5.7.0//NONSGML v1.0//EN
CALSCALE:GREGORIAN
METHOD:PUBLISH
X-ORIGINAL-URL:https://philadelphiadogtraining.org
X-WR-CALDESC:Events for 
BEGIN:VTIMEZONE
TZID:America/New_York
BEGIN:DAYLIGHT
TZOFFSETFROM:-0500
TZOFFSETTO:-0400
TZNAME:EDT
DTSTART:20220313T070000
END:DAYLIGHT
BEGIN:STANDARD
TZOFFSETFROM:-0400
TZOFFSETTO:-0500
TZNAME:EST
DTSTART:20221106T060000
END:STANDARD
END:VTIMEZONE
BEGIN:VEVENT
DTSTART;TZID=America/New_York:20220310T190000
DTEND;TZID=America/New_York:20220310T200000
DTSTAMP:20260422T003027
CREATED:20211114T193824Z
LAST-MODIFIED:20220205T171214Z
UID:5452-1646938800-1646942400@philadelphiadogtraining.org
SUMMARY:INTERMEDIATE
DESCRIPTION:
URL:https://philadelphiadogtraining.org/event/intermediate-53/
CATEGORIES:Yellow
END:VEVENT
BEGIN:VEVENT
DTSTART;TZID=America/New_York:20220310T180000
DTEND;TZID=America/New_York:20220310T190000
DTSTAMP:20260422T003027
CREATED:20211114T193824Z
LAST-MODIFIED:20220209T210157Z
UID:5455-1646935200-1646938800@philadelphiadogtraining.org
SUMMARY:ADVANCED
DESCRIPTION:
URL:https://philadelphiadogtraining.org/event/advanced-62/
CATEGORIES:Navy
END:VEVENT
BEGIN:VEVENT
DTSTART;TZID=America/New_York:20220310T170000
DTEND;TZID=America/New_York:20220310T180000
DTSTAMP:20260422T003027
CREATED:20211114T193824Z
LAST-MODIFIED:20220205T171214Z
UID:5454-1646931600-1646935200@philadelphiadogtraining.org
SUMMARY:ADVANCED
DESCRIPTION:
URL:https://philadelphiadogtraining.org/event/advanced-61/
CATEGORIES:Light Blue
END:VEVENT
BEGIN:VEVENT
DTSTART;VALUE=DATE:20220310
DTEND;VALUE=DATE:20220311
DTSTAMP:20260422T003027
CREATED:20211114T193821Z
LAST-MODIFIED:20220205T171229Z
UID:5449-1646870400-1646956799@philadelphiadogtraining.org
SUMMARY:SECOND NIGHT OF CLASSES
DESCRIPTION:
URL:https://philadelphiadogtraining.org/event/second-night-of-classes-5/
CATEGORIES:Class Nights
END:VEVENT
BEGIN:VEVENT
DTSTART;TZID=America/New_York:20220309T200000
DTEND;TZID=America/New_York:20220309T210000
DTSTAMP:20260422T003027
CREATED:20211114T193821Z
LAST-MODIFIED:20220209T210145Z
UID:5448-1646856000-1646859600@philadelphiadogtraining.org
SUMMARY:RALLY
DESCRIPTION:
URL:https://philadelphiadogtraining.org/event/rally-64/
CATEGORIES:Navy
END:VEVENT
BEGIN:VEVENT
DTSTART;TZID=America/New_York:20220309T184500
DTEND;TZID=America/New_York:20220309T194500
DTSTAMP:20260422T003027
CREATED:20211114T193821Z
LAST-MODIFIED:20220209T210132Z
UID:5451-1646851500-1646855100@philadelphiadogtraining.org
SUMMARY:BEGINNER
DESCRIPTION:
URL:https://philadelphiadogtraining.org/event/beginner-128/
CATEGORIES:Light Blue
END:VEVENT
BEGIN:VEVENT
DTSTART;VALUE=DATE:20220309
DTEND;VALUE=DATE:20220310
DTSTAMP:20260422T003027
CREATED:20211114T193821Z
LAST-MODIFIED:20220205T171214Z
UID:5450-1646784000-1646870399@philadelphiadogtraining.org
SUMMARY:SECOND NIGHT OF CLASSES
DESCRIPTION:
URL:https://philadelphiadogtraining.org/event/second-night-of-classes-6/
CATEGORIES:Class Nights
END:VEVENT
BEGIN:VEVENT
DTSTART;TZID=America/New_York:20220308T190000
DTEND;TZID=America/New_York:20220308T203000
DTSTAMP:20260422T003027
CREATED:20211114T193807Z
LAST-MODIFIED:20220205T171159Z
UID:5445-1646766000-1646771400@philadelphiadogtraining.org
SUMMARY:OPEN
DESCRIPTION:
URL:https://philadelphiadogtraining.org/event/open-94/
CATEGORIES:Navy
END:VEVENT
BEGIN:VEVENT
DTSTART;TZID=America/New_York:20220308T173000
DTEND;TZID=America/New_York:20220308T190000
DTSTAMP:20260422T003027
CREATED:20211114T193807Z
LAST-MODIFIED:20220205T171159Z
UID:5446-1646760600-1646766000@philadelphiadogtraining.org
SUMMARY:UTILITY
DESCRIPTION:
URL:https://philadelphiadogtraining.org/event/utility-97/
CATEGORIES:Light Blue
END:VEVENT
BEGIN:VEVENT
DTSTART;TZID=America/New_York:20220307T194500
DTEND;TZID=America/New_York:20220307T204500
DTSTAMP:20260422T003027
CREATED:20211114T193807Z
LAST-MODIFIED:20220205T171159Z
UID:5443-1646682300-1646685900@philadelphiadogtraining.org
SUMMARY:NOVICE/FOUNDATION SKILLS
DESCRIPTION:
URL:https://philadelphiadogtraining.org/event/novice-foundation-skills-25/
CATEGORIES:Yellow
END:VEVENT
BEGIN:VEVENT
DTSTART;TZID=America/New_York:20220307T184500
DTEND;TZID=America/New_York:20220307T194500
DTSTAMP:20260422T003027
CREATED:20211114T193807Z
LAST-MODIFIED:20220205T171144Z
UID:5444-1646678700-1646682300@philadelphiadogtraining.org
SUMMARY:NOVICE RING READINESS
DESCRIPTION:
URL:https://philadelphiadogtraining.org/event/novice-ring-readiness-31/
CATEGORIES:Navy
END:VEVENT
BEGIN:VEVENT
DTSTART;TZID=America/New_York:20220307T173000
DTEND;TZID=America/New_York:20220307T183000
DTSTAMP:20260422T003027
CREATED:20211114T193807Z
LAST-MODIFIED:20220205T171144Z
UID:5442-1646674200-1646677800@philadelphiadogtraining.org
SUMMARY:PUPPY K
DESCRIPTION:
URL:https://philadelphiadogtraining.org/event/puppy-k-67/
CATEGORIES:Light Blue
END:VEVENT
BEGIN:VEVENT
DTSTART;TZID=America/New_York:20220303T190000
DTEND;TZID=America/New_York:20220303T200000
DTSTAMP:20260422T003027
CREATED:20211114T193806Z
LAST-MODIFIED:20220205T171129Z
UID:5437-1646334000-1646337600@philadelphiadogtraining.org
SUMMARY:INTERMEDIATE
DESCRIPTION:
URL:https://philadelphiadogtraining.org/event/intermediate-52/
CATEGORIES:Yellow
END:VEVENT
BEGIN:VEVENT
DTSTART;TZID=America/New_York:20220303T180000
DTEND;TZID=America/New_York:20220303T190000
DTSTAMP:20260422T003027
CREATED:20211114T193804Z
LAST-MODIFIED:20220209T210047Z
UID:5436-1646330400-1646334000@philadelphiadogtraining.org
SUMMARY:ADVANCED
DESCRIPTION:
URL:https://philadelphiadogtraining.org/event/advanced-59/
CATEGORIES:Navy
END:VEVENT
BEGIN:VEVENT
DTSTART;TZID=America/New_York:20220303T170000
DTEND;TZID=America/New_York:20220303T180000
DTSTAMP:20260422T003027
CREATED:20211114T193807Z
LAST-MODIFIED:20220205T171129Z
UID:5439-1646326800-1646330400@philadelphiadogtraining.org
SUMMARY:ADVANCED
DESCRIPTION:
URL:https://philadelphiadogtraining.org/event/advanced-60/
CATEGORIES:Light Blue
END:VEVENT
BEGIN:VEVENT
DTSTART;VALUE=DATE:20220303
DTEND;VALUE=DATE:20220304
DTSTAMP:20260422T003027
CREATED:20211114T193807Z
LAST-MODIFIED:20220205T171144Z
UID:5440-1646265600-1646351999@philadelphiadogtraining.org
SUMMARY:FIRST NIGHT OF CLASSES
DESCRIPTION:
URL:https://philadelphiadogtraining.org/event/first-night-of-classes-17/
CATEGORIES:Class Nights
END:VEVENT
BEGIN:VEVENT
DTSTART;TZID=America/New_York:20220302T200000
DTEND;TZID=America/New_York:20220302T210000
DTSTAMP:20260422T003027
CREATED:20211114T193804Z
LAST-MODIFIED:20220209T210112Z
UID:5435-1646251200-1646254800@philadelphiadogtraining.org
SUMMARY:RALLY
DESCRIPTION:
URL:https://philadelphiadogtraining.org/event/rally-63/
CATEGORIES:Navy
END:VEVENT
BEGIN:VEVENT
DTSTART;TZID=America/New_York:20220302T184500
DTEND;TZID=America/New_York:20220302T194500
DTSTAMP:20260422T003027
CREATED:20211114T193804Z
LAST-MODIFIED:20220209T210000Z
UID:5434-1646246700-1646250300@philadelphiadogtraining.org
SUMMARY:BEGINNER
DESCRIPTION:
URL:https://philadelphiadogtraining.org/event/beginner-125/
CATEGORIES:Light Blue
END:VEVENT
BEGIN:VEVENT
DTSTART;VALUE=DATE:20220302
DTEND;VALUE=DATE:20220303
DTSTAMP:20260422T003027
CREATED:20211114T193807Z
LAST-MODIFIED:20220205T171114Z
UID:5441-1646179200-1646265599@philadelphiadogtraining.org
SUMMARY:FIRST NIGHT OF CLASSES
DESCRIPTION:
URL:https://philadelphiadogtraining.org/event/first-night-of-classes-18/
CATEGORIES:Class Nights
END:VEVENT
BEGIN:VEVENT
DTSTART;TZID=America/New_York:20220301T190000
DTEND;TZID=America/New_York:20220301T203000
DTSTAMP:20260422T003027
CREATED:20211114T193752Z
LAST-MODIFIED:20220205T171114Z
UID:5431-1646161200-1646166600@philadelphiadogtraining.org
SUMMARY:OPEN
DESCRIPTION:
URL:https://philadelphiadogtraining.org/event/open-93/
CATEGORIES:Navy
END:VEVENT
BEGIN:VEVENT
DTSTART;TZID=America/New_York:20220301T173000
DTEND;TZID=America/New_York:20220301T190000
DTSTAMP:20260422T003027
CREATED:20211114T193804Z
LAST-MODIFIED:20220205T171115Z
UID:5432-1646155800-1646161200@philadelphiadogtraining.org
SUMMARY:UTILITY
DESCRIPTION:
URL:https://philadelphiadogtraining.org/event/utility-96/
CATEGORIES:Light Blue
END:VEVENT
BEGIN:VEVENT
DTSTART;TZID=America/New_York:20220228T194500
DTEND;TZID=America/New_York:20220228T204500
DTSTAMP:20260422T003027
CREATED:20211114T193751Z
LAST-MODIFIED:20220205T171114Z
UID:5429-1646077500-1646081100@philadelphiadogtraining.org
SUMMARY:NOVICE/FOUNDATION SKILLS
DESCRIPTION:
URL:https://philadelphiadogtraining.org/event/novice-foundation-skills-24/
CATEGORIES:Yellow
END:VEVENT
BEGIN:VEVENT
DTSTART;TZID=America/New_York:20220228T184500
DTEND;TZID=America/New_York:20220228T194500
DTSTAMP:20260422T003027
CREATED:20211114T193751Z
LAST-MODIFIED:20220205T171114Z
UID:5430-1646073900-1646077500@philadelphiadogtraining.org
SUMMARY:NOVICE RING READINESS
DESCRIPTION:
URL:https://philadelphiadogtraining.org/event/novice-ring-readiness-30/
CATEGORIES:Navy
END:VEVENT
BEGIN:VEVENT
DTSTART;TZID=America/New_York:20220228T173000
DTEND;TZID=America/New_York:20220228T183000
DTSTAMP:20260422T003027
CREATED:20211114T193751Z
LAST-MODIFIED:20220205T171100Z
UID:5428-1646069400-1646073000@philadelphiadogtraining.org
SUMMARY:PUPPY K
DESCRIPTION:
URL:https://philadelphiadogtraining.org/event/puppy-k-66/
CATEGORIES:Light Blue
END:VEVENT
BEGIN:VEVENT
DTSTART;TZID=America/New_York:20220224T170000
DTEND;TZID=America/New_York:20220224T200000
DTSTAMP:20260422T003027
CREATED:20211114T193751Z
LAST-MODIFIED:20220205T171100Z
UID:5426-1645722000-1645732800@philadelphiadogtraining.org
SUMMARY:CGC TESTING
DESCRIPTION:
URL:https://philadelphiadogtraining.org/event/cgc-testing-6/
CATEGORIES:Light Blue
END:VEVENT
BEGIN:VEVENT
DTSTART;VALUE=DATE:20220223
DTEND;VALUE=DATE:20220225
DTSTAMP:20260422T003027
CREATED:20211114T193751Z
LAST-MODIFIED:20220205T171100Z
UID:5427-1645574400-1645747199@philadelphiadogtraining.org
SUMMARY:NO CLASSES
DESCRIPTION:
URL:https://philadelphiadogtraining.org/event/no-classes-28/
CATEGORIES:NO CLASSES
END:VEVENT
BEGIN:VEVENT
DTSTART;TZID=America/New_York:20220222T190000
DTEND;TZID=America/New_York:20220222T203000
DTSTAMP:20260422T003027
CREATED:20211114T193751Z
LAST-MODIFIED:20220205T171059Z
UID:5424-1645556400-1645561800@philadelphiadogtraining.org
SUMMARY:OPEN
DESCRIPTION:
URL:https://philadelphiadogtraining.org/event/open-92/
CATEGORIES:Navy
END:VEVENT
BEGIN:VEVENT
DTSTART;TZID=America/New_York:20220222T173000
DTEND;TZID=America/New_York:20220222T190000
DTSTAMP:20260422T003027
CREATED:20211114T193751Z
LAST-MODIFIED:20220205T171044Z
UID:5423-1645551000-1645556400@philadelphiadogtraining.org
SUMMARY:UTILITY
DESCRIPTION:
URL:https://philadelphiadogtraining.org/event/utility-95/
CATEGORIES:Light Blue
END:VEVENT
BEGIN:VEVENT
DTSTART;TZID=America/New_York:20220221T194500
DTEND;TZID=America/New_York:20220221T204500
DTSTAMP:20260422T003027
CREATED:20211114T193747Z
LAST-MODIFIED:20220205T171044Z
UID:5421-1645472700-1645476300@philadelphiadogtraining.org
SUMMARY:NOVICE/FOUNDATION SKILLS
DESCRIPTION:
URL:https://philadelphiadogtraining.org/event/novice-foundation-skills-23/
CATEGORIES:Yellow
END:VEVENT
BEGIN:VEVENT
DTSTART;TZID=America/New_York:20220221T184500
DTEND;TZID=America/New_York:20220221T194500
DTSTAMP:20260422T003027
CREATED:20211114T193751Z
LAST-MODIFIED:20220205T171044Z
UID:5422-1645469100-1645472700@philadelphiadogtraining.org
SUMMARY:NOVICE RING READINESS
DESCRIPTION:
URL:https://philadelphiadogtraining.org/event/novice-ring-readiness-29/
CATEGORIES:Navy
END:VEVENT
END:VCALENDAR