BEGIN:VCALENDAR
VERSION:2.0
PRODID:-// - ECPv5.7.0//NONSGML v1.0//EN
CALSCALE:GREGORIAN
METHOD:PUBLISH
X-ORIGINAL-URL:https://philadelphiadogtraining.org
X-WR-CALDESC:Events for 
BEGIN:VTIMEZONE
TZID:America/New_York
BEGIN:DAYLIGHT
TZOFFSETFROM:-0500
TZOFFSETTO:-0400
TZNAME:EDT
DTSTART:20220313T070000
END:DAYLIGHT
BEGIN:STANDARD
TZOFFSETFROM:-0400
TZOFFSETTO:-0500
TZNAME:EST
DTSTART:20221106T060000
END:STANDARD
END:VTIMEZONE
BEGIN:VEVENT
DTSTART;TZID=America/New_York:20220324T190000
DTEND;TZID=America/New_York:20220324T200000
DTSTAMP:20260421T213207
CREATED:20211114T193921Z
LAST-MODIFIED:20220205T171653Z
UID:5481-1648148400-1648152000@philadelphiadogtraining.org
SUMMARY:INTERMEDIATE
DESCRIPTION:
URL:https://philadelphiadogtraining.org/event/intermediate-55/
CATEGORIES:Yellow
END:VEVENT
BEGIN:VEVENT
DTSTART;TZID=America/New_York:20220324T180000
DTEND;TZID=America/New_York:20220324T190000
DTSTAMP:20260421T213207
CREATED:20211114T193921Z
LAST-MODIFIED:20220209T210359Z
UID:5480-1648144800-1648148400@philadelphiadogtraining.org
SUMMARY:ADVANCED
DESCRIPTION:
URL:https://philadelphiadogtraining.org/event/advanced-66/
CATEGORIES:Navy
END:VEVENT
BEGIN:VEVENT
DTSTART;TZID=America/New_York:20220324T170000
DTEND;TZID=America/New_York:20220324T180000
DTSTAMP:20260421T213207
CREATED:20211114T193921Z
LAST-MODIFIED:20220205T171653Z
UID:5479-1648141200-1648144800@philadelphiadogtraining.org
SUMMARY:ADVANCED
DESCRIPTION:
URL:https://philadelphiadogtraining.org/event/advanced-65/
CATEGORIES:Light Blue
END:VEVENT
BEGIN:VEVENT
DTSTART;VALUE=DATE:20220324
DTEND;VALUE=DATE:20220325
DTSTAMP:20260421T213207
CREATED:20211114T194007Z
LAST-MODIFIED:20220205T171653Z
UID:5482-1648080000-1648166399@philadelphiadogtraining.org
SUMMARY:FOURTH NIGHT OF CLASSES
DESCRIPTION:
URL:https://philadelphiadogtraining.org/event/fourth-night-of-classes-6/
CATEGORIES:Class Nights
END:VEVENT
BEGIN:VEVENT
DTSTART;TZID=America/New_York:20220323T200000
DTEND;TZID=America/New_York:20220323T210000
DTSTAMP:20260421T213207
CREATED:20211114T193921Z
LAST-MODIFIED:20220209T210347Z
UID:5478-1648065600-1648069200@philadelphiadogtraining.org
SUMMARY:RALLY
DESCRIPTION:
URL:https://philadelphiadogtraining.org/event/rally-66/
CATEGORIES:Navy
END:VEVENT
BEGIN:VEVENT
DTSTART;TZID=America/New_York:20220323T184500
DTEND;TZID=America/New_York:20220323T194500
DTSTAMP:20260421T213207
CREATED:20211114T193921Z
LAST-MODIFIED:20220209T210338Z
UID:5477-1648061100-1648064700@philadelphiadogtraining.org
SUMMARY:BEGINNER
DESCRIPTION:
URL:https://philadelphiadogtraining.org/event/beginner-134/
CATEGORIES:Light Blue
END:VEVENT
BEGIN:VEVENT
DTSTART;VALUE=DATE:20220323
DTEND;VALUE=DATE:20220324
DTSTAMP:20260421T213207
CREATED:20211114T193919Z
LAST-MODIFIED:20220209T210331Z
UID:5476-1647993600-1648079999@philadelphiadogtraining.org
SUMMARY:FOURTH NIGHT OF CLASSES
DESCRIPTION:
URL:https://philadelphiadogtraining.org/event/fourth-night-of-classes-5/
CATEGORIES:Class Nights
END:VEVENT
BEGIN:VEVENT
DTSTART;TZID=America/New_York:20220322T190000
DTEND;TZID=America/New_York:20220322T203000
DTSTAMP:20260421T213207
CREATED:20211114T193919Z
LAST-MODIFIED:20220205T171452Z
UID:5473-1647975600-1647981000@philadelphiadogtraining.org
SUMMARY:OPEN
DESCRIPTION:
URL:https://philadelphiadogtraining.org/event/open-96/
CATEGORIES:Navy
END:VEVENT
BEGIN:VEVENT
DTSTART;TZID=America/New_York:20220322T173000
DTEND;TZID=America/New_York:20220322T190000
DTSTAMP:20260421T213207
CREATED:20211114T193919Z
LAST-MODIFIED:20220205T171436Z
UID:5474-1647970200-1647975600@philadelphiadogtraining.org
SUMMARY:UTILITY
DESCRIPTION:
URL:https://philadelphiadogtraining.org/event/utility-99/
CATEGORIES:Light Blue
END:VEVENT
BEGIN:VEVENT
DTSTART;TZID=America/New_York:20220321T194500
DTEND;TZID=America/New_York:20220321T204500
DTSTAMP:20260421T213207
CREATED:20211114T193912Z
LAST-MODIFIED:20220205T171436Z
UID:5471-1647891900-1647895500@philadelphiadogtraining.org
SUMMARY:NOVICE/FOUNDATION SKILLS
DESCRIPTION:
URL:https://philadelphiadogtraining.org/event/novice-foundation-skills-27/
CATEGORIES:Yellow
END:VEVENT
BEGIN:VEVENT
DTSTART;TZID=America/New_York:20220321T184500
DTEND;TZID=America/New_York:20220321T194500
DTSTAMP:20260421T213207
CREATED:20211114T193919Z
LAST-MODIFIED:20220205T171436Z
UID:5472-1647888300-1647891900@philadelphiadogtraining.org
SUMMARY:NOVICE RING READINESS
DESCRIPTION:
URL:https://philadelphiadogtraining.org/event/novice-ring-readiness-33/
CATEGORIES:Navy
END:VEVENT
BEGIN:VEVENT
DTSTART;TZID=America/New_York:20220321T173000
DTEND;TZID=America/New_York:20220321T183000
DTSTAMP:20260421T213207
CREATED:20211114T193912Z
LAST-MODIFIED:20220205T171436Z
UID:5470-1647883800-1647887400@philadelphiadogtraining.org
SUMMARY:PUPPY K
DESCRIPTION:
URL:https://philadelphiadogtraining.org/event/puppy-k-69/
CATEGORIES:Light Blue
END:VEVENT
BEGIN:VEVENT
DTSTART;TZID=America/New_York:20220317T190000
DTEND;TZID=America/New_York:20220317T200000
DTSTAMP:20260421T213207
CREATED:20211114T193912Z
LAST-MODIFIED:20220205T171436Z
UID:5469-1647543600-1647547200@philadelphiadogtraining.org
SUMMARY:INTERMEDIATE
DESCRIPTION:
URL:https://philadelphiadogtraining.org/event/intermediate-54/
CATEGORIES:Yellow
END:VEVENT
BEGIN:VEVENT
DTSTART;TZID=America/New_York:20220317T180000
DTEND;TZID=America/New_York:20220317T190000
DTSTAMP:20260421T213207
CREATED:20211114T193840Z
LAST-MODIFIED:20220209T210256Z
UID:5463-1647540000-1647543600@philadelphiadogtraining.org
SUMMARY:ADVANCED
DESCRIPTION:
URL:https://philadelphiadogtraining.org/event/advanced-63/
CATEGORIES:Navy
END:VEVENT
BEGIN:VEVENT
DTSTART;TZID=America/New_York:20220317T170000
DTEND;TZID=America/New_York:20220317T180000
DTSTAMP:20260421T213207
CREATED:20211114T193912Z
LAST-MODIFIED:20220209T210247Z
UID:5467-1647536400-1647540000@philadelphiadogtraining.org
SUMMARY:ADVANCED
DESCRIPTION:
URL:https://philadelphiadogtraining.org/event/advanced-64/
CATEGORIES:Light Blue
END:VEVENT
BEGIN:VEVENT
DTSTART;VALUE=DATE:20220317
DTEND;VALUE=DATE:20220318
DTSTAMP:20260421T213207
CREATED:20211114T193840Z
LAST-MODIFIED:20220205T171245Z
UID:5464-1647475200-1647561599@philadelphiadogtraining.org
SUMMARY:THIRD NIGHT OF CLASSES
DESCRIPTION:
URL:https://philadelphiadogtraining.org/event/third-night-of-classes-5/
CATEGORIES:Class Nights
END:VEVENT
BEGIN:VEVENT
DTSTART;TZID=America/New_York:20220316T200000
DTEND;TZID=America/New_York:20220316T210000
DTSTAMP:20260421T213207
CREATED:20211114T193840Z
LAST-MODIFIED:20220209T210237Z
UID:5462-1647460800-1647464400@philadelphiadogtraining.org
SUMMARY:RALLY
DESCRIPTION:
URL:https://philadelphiadogtraining.org/event/rally-65/
CATEGORIES:Navy
END:VEVENT
BEGIN:VEVENT
DTSTART;TZID=America/New_York:20220316T184500
DTEND;TZID=America/New_York:20220316T194500
DTSTAMP:20260421T213207
CREATED:20211114T193840Z
LAST-MODIFIED:20220209T210230Z
UID:5466-1647456300-1647459900@philadelphiadogtraining.org
SUMMARY:BEGINNER
DESCRIPTION:
URL:https://philadelphiadogtraining.org/event/beginner-131/
CATEGORIES:Light Blue
END:VEVENT
BEGIN:VEVENT
DTSTART;VALUE=DATE:20220316
DTEND;VALUE=DATE:20220317
DTSTAMP:20260421T213207
CREATED:20211114T193840Z
LAST-MODIFIED:20220205T171300Z
UID:5465-1647388800-1647475199@philadelphiadogtraining.org
SUMMARY:THIRD NIGHT OF CLASSES
DESCRIPTION:
URL:https://philadelphiadogtraining.org/event/third-night-of-classes-6/
CATEGORIES:Class Nights
END:VEVENT
BEGIN:VEVENT
DTSTART;TZID=America/New_York:20220315T190000
DTEND;TZID=America/New_York:20220315T203000
DTSTAMP:20260421T213207
CREATED:20211114T193829Z
LAST-MODIFIED:20220205T171244Z
UID:5459-1647370800-1647376200@philadelphiadogtraining.org
SUMMARY:OPEN
DESCRIPTION:
URL:https://philadelphiadogtraining.org/event/open-95/
CATEGORIES:Navy
END:VEVENT
BEGIN:VEVENT
DTSTART;TZID=America/New_York:20220315T173000
DTEND;TZID=America/New_York:20220315T190000
DTSTAMP:20260421T213207
CREATED:20211114T193829Z
LAST-MODIFIED:20220205T171244Z
UID:5460-1647365400-1647370800@philadelphiadogtraining.org
SUMMARY:UTILITY
DESCRIPTION:
URL:https://philadelphiadogtraining.org/event/utility-98/
CATEGORIES:Light Blue
END:VEVENT
BEGIN:VEVENT
DTSTART;TZID=America/New_York:20220314T194500
DTEND;TZID=America/New_York:20220314T204500
DTSTAMP:20260421T213207
CREATED:20211114T193829Z
LAST-MODIFIED:20220205T171229Z
UID:5457-1647287100-1647290700@philadelphiadogtraining.org
SUMMARY:NOVICE/FOUNDATION SKILLS
DESCRIPTION:
URL:https://philadelphiadogtraining.org/event/novice-foundation-skills-26/
CATEGORIES:Yellow
END:VEVENT
BEGIN:VEVENT
DTSTART;TZID=America/New_York:20220314T184500
DTEND;TZID=America/New_York:20220314T194500
DTSTAMP:20260421T213207
CREATED:20211114T193829Z
LAST-MODIFIED:20220205T171229Z
UID:5458-1647283500-1647287100@philadelphiadogtraining.org
SUMMARY:NOVICE RING READINESS
DESCRIPTION:
URL:https://philadelphiadogtraining.org/event/novice-ring-readiness-32/
CATEGORIES:Navy
END:VEVENT
BEGIN:VEVENT
DTSTART;TZID=America/New_York:20220314T173000
DTEND;TZID=America/New_York:20220314T183000
DTSTAMP:20260421T213207
CREATED:20211114T193824Z
LAST-MODIFIED:20220205T171229Z
UID:5456-1647279000-1647282600@philadelphiadogtraining.org
SUMMARY:PUPPY K
DESCRIPTION:
URL:https://philadelphiadogtraining.org/event/puppy-k-68/
CATEGORIES:Light Blue
END:VEVENT
BEGIN:VEVENT
DTSTART;TZID=America/New_York:20220310T190000
DTEND;TZID=America/New_York:20220310T200000
DTSTAMP:20260421T213207
CREATED:20211114T193824Z
LAST-MODIFIED:20220205T171214Z
UID:5452-1646938800-1646942400@philadelphiadogtraining.org
SUMMARY:INTERMEDIATE
DESCRIPTION:
URL:https://philadelphiadogtraining.org/event/intermediate-53/
CATEGORIES:Yellow
END:VEVENT
BEGIN:VEVENT
DTSTART;TZID=America/New_York:20220310T180000
DTEND;TZID=America/New_York:20220310T190000
DTSTAMP:20260421T213207
CREATED:20211114T193824Z
LAST-MODIFIED:20220209T210157Z
UID:5455-1646935200-1646938800@philadelphiadogtraining.org
SUMMARY:ADVANCED
DESCRIPTION:
URL:https://philadelphiadogtraining.org/event/advanced-62/
CATEGORIES:Navy
END:VEVENT
BEGIN:VEVENT
DTSTART;TZID=America/New_York:20220310T170000
DTEND;TZID=America/New_York:20220310T180000
DTSTAMP:20260421T213207
CREATED:20211114T193824Z
LAST-MODIFIED:20220205T171214Z
UID:5454-1646931600-1646935200@philadelphiadogtraining.org
SUMMARY:ADVANCED
DESCRIPTION:
URL:https://philadelphiadogtraining.org/event/advanced-61/
CATEGORIES:Light Blue
END:VEVENT
BEGIN:VEVENT
DTSTART;VALUE=DATE:20220310
DTEND;VALUE=DATE:20220311
DTSTAMP:20260421T213207
CREATED:20211114T193821Z
LAST-MODIFIED:20220205T171229Z
UID:5449-1646870400-1646956799@philadelphiadogtraining.org
SUMMARY:SECOND NIGHT OF CLASSES
DESCRIPTION:
URL:https://philadelphiadogtraining.org/event/second-night-of-classes-5/
CATEGORIES:Class Nights
END:VEVENT
BEGIN:VEVENT
DTSTART;TZID=America/New_York:20220309T200000
DTEND;TZID=America/New_York:20220309T210000
DTSTAMP:20260421T213207
CREATED:20211114T193821Z
LAST-MODIFIED:20220209T210145Z
UID:5448-1646856000-1646859600@philadelphiadogtraining.org
SUMMARY:RALLY
DESCRIPTION:
URL:https://philadelphiadogtraining.org/event/rally-64/
CATEGORIES:Navy
END:VEVENT
BEGIN:VEVENT
DTSTART;TZID=America/New_York:20220309T184500
DTEND;TZID=America/New_York:20220309T194500
DTSTAMP:20260421T213207
CREATED:20211114T193821Z
LAST-MODIFIED:20220209T210132Z
UID:5451-1646851500-1646855100@philadelphiadogtraining.org
SUMMARY:BEGINNER
DESCRIPTION:
URL:https://philadelphiadogtraining.org/event/beginner-128/
CATEGORIES:Light Blue
END:VEVENT
END:VCALENDAR