BEGIN:VCALENDAR
VERSION:2.0
PRODID:-// - ECPv5.7.0//NONSGML v1.0//EN
CALSCALE:GREGORIAN
METHOD:PUBLISH
X-ORIGINAL-URL:https://philadelphiadogtraining.org
X-WR-CALDESC:Events for 
BEGIN:VTIMEZONE
TZID:America/New_York
BEGIN:DAYLIGHT
TZOFFSETFROM:-0500
TZOFFSETTO:-0400
TZNAME:EDT
DTSTART:20210314T070000
END:DAYLIGHT
BEGIN:STANDARD
TZOFFSETFROM:-0400
TZOFFSETTO:-0500
TZNAME:EST
DTSTART:20211107T060000
END:STANDARD
END:VTIMEZONE
BEGIN:VEVENT
DTSTART;VALUE=DATE:20210930
DTEND;VALUE=DATE:20211001
DTSTAMP:20260425T122028
CREATED:20210716T191725Z
LAST-MODIFIED:20210924T202016Z
UID:4704-1632960000-1633046399@philadelphiadogtraining.org
SUMMARY:3RD NIGHT OF CLASSES
DESCRIPTION:
URL:https://philadelphiadogtraining.org/event/3rd-night-of-classes-11/
CATEGORIES:Class Nights
END:VEVENT
BEGIN:VEVENT
DTSTART;TZID=America/New_York:20210929T200000
DTEND;TZID=America/New_York:20210929T210000
DTSTAMP:20260425T122028
CREATED:20210716T195807Z
LAST-MODIFIED:20210924T202017Z
UID:4826-1632945600-1632949200@philadelphiadogtraining.org
SUMMARY:RALLY
DESCRIPTION:
URL:https://philadelphiadogtraining.org/event/rally-45/
CATEGORIES:Yellow
END:VEVENT
BEGIN:VEVENT
DTSTART;TZID=America/New_York:20210929T184500
DTEND;TZID=America/New_York:20210929T194500
DTSTAMP:20260425T122028
CREATED:20210716T191725Z
LAST-MODIFIED:20210924T202016Z
UID:4706-1632941100-1632944700@philadelphiadogtraining.org
SUMMARY:BEGINNER
DESCRIPTION:
URL:https://philadelphiadogtraining.org/event/rally-39/
CATEGORIES:Navy
END:VEVENT
BEGIN:VEVENT
DTSTART;TZID=America/New_York:20210929T173000
DTEND;TZID=America/New_York:20210929T183000
DTSTAMP:20260425T122028
CREATED:20210716T191710Z
LAST-MODIFIED:20210924T202016Z
UID:4697-1632936600-1632940200@philadelphiadogtraining.org
SUMMARY:BEGINNER
DESCRIPTION:
URL:https://philadelphiadogtraining.org/event/beginner-74/
CATEGORIES:Light Blue
END:VEVENT
BEGIN:VEVENT
DTSTART;VALUE=DATE:20210929
DTEND;VALUE=DATE:20210930
DTSTAMP:20260425T122028
CREATED:20210716T191725Z
LAST-MODIFIED:20210924T202017Z
UID:4705-1632873600-1632959999@philadelphiadogtraining.org
SUMMARY:3RD NIGHT OF CLASSES
DESCRIPTION:
URL:https://philadelphiadogtraining.org/event/3rd-night-of-classes-12/
CATEGORIES:Class Nights
END:VEVENT
BEGIN:VEVENT
DTSTART;TZID=America/New_York:20210928T190000
DTEND;TZID=America/New_York:20210928T203000
DTSTAMP:20260425T122028
CREATED:20210716T195807Z
LAST-MODIFIED:20210717T134014Z
UID:4823-1632855600-1632861000@philadelphiadogtraining.org
SUMMARY:OPEN
DESCRIPTION:
URL:https://philadelphiadogtraining.org/event/open-65/
CATEGORIES:Navy
END:VEVENT
BEGIN:VEVENT
DTSTART;TZID=America/New_York:20210928T173000
DTEND;TZID=America/New_York:20210928T190000
DTSTAMP:20260425T122028
CREATED:20210716T195807Z
LAST-MODIFIED:20210717T134127Z
UID:4825-1632850200-1632855600@philadelphiadogtraining.org
SUMMARY:UTILITY
DESCRIPTION:
URL:https://philadelphiadogtraining.org/event/utility-73/
CATEGORIES:Light Blue
END:VEVENT
BEGIN:VEVENT
DTSTART;TZID=America/New_York:20210927T194500
DTEND;TZID=America/New_York:20210927T204500
DTSTAMP:20260425T122028
CREATED:20210716T191710Z
LAST-MODIFIED:20210717T135146Z
UID:4694-1632771900-1632775500@philadelphiadogtraining.org
SUMMARY:NOVICE/FOUNDATION SKILLS
DESCRIPTION:
URL:https://philadelphiadogtraining.org/event/introduction-to-novice-foundation-skills-3/
CATEGORIES:Yellow
END:VEVENT
BEGIN:VEVENT
DTSTART;TZID=America/New_York:20210927T184500
DTEND;TZID=America/New_York:20210927T194500
DTSTAMP:20260425T122028
CREATED:20210716T191621Z
LAST-MODIFIED:20210717T134520Z
UID:4692-1632768300-1632771900@philadelphiadogtraining.org
SUMMARY:NOVICE RING READINESS
DESCRIPTION:
URL:https://philadelphiadogtraining.org/event/novice-ring-readiness-3/
CATEGORIES:Navy
END:VEVENT
BEGIN:VEVENT
DTSTART;TZID=America/New_York:20210927T173000
DTEND;TZID=America/New_York:20210927T183000
DTSTAMP:20260425T122028
CREATED:20210716T191622Z
LAST-MODIFIED:20210924T202014Z
UID:4693-1632763800-1632767400@philadelphiadogtraining.org
SUMMARY:PUPPY K
DESCRIPTION:
URL:https://philadelphiadogtraining.org/event/puppy-k-40/
CATEGORIES:Light Blue
END:VEVENT
BEGIN:VEVENT
DTSTART;TZID=America/New_York:20210923T190000
DTEND;TZID=America/New_York:20210923T200000
DTSTAMP:20260425T122028
CREATED:20210716T191621Z
LAST-MODIFIED:20210819T172915Z
UID:4691-1632423600-1632427200@philadelphiadogtraining.org
SUMMARY:INTERMEDIATE
DESCRIPTION:
URL:https://philadelphiadogtraining.org/event/intermediate-35/
CATEGORIES:Yellow
END:VEVENT
BEGIN:VEVENT
DTSTART;TZID=America/New_York:20210923T180000
DTEND;TZID=America/New_York:20210923T190000
DTSTAMP:20260425T122028
CREATED:20210716T191618Z
LAST-MODIFIED:20210819T172915Z
UID:4687-1632420000-1632423600@philadelphiadogtraining.org
SUMMARY:BEGINNER
DESCRIPTION:
URL:https://philadelphiadogtraining.org/event/beginner-73/
CATEGORIES:Navy
END:VEVENT
BEGIN:VEVENT
DTSTART;TZID=America/New_York:20210923T170000
DTEND;TZID=America/New_York:20210923T180000
DTSTAMP:20260425T122028
CREATED:20210716T191621Z
LAST-MODIFIED:20210819T172915Z
UID:4690-1632416400-1632420000@philadelphiadogtraining.org
SUMMARY:ADVANCED
DESCRIPTION:
URL:https://philadelphiadogtraining.org/event/advanced-35/
CATEGORIES:Light Blue
END:VEVENT
BEGIN:VEVENT
DTSTART;VALUE=DATE:20210923
DTEND;VALUE=DATE:20210924
DTSTAMP:20260425T122028
CREATED:20210716T191618Z
LAST-MODIFIED:20210819T172911Z
UID:4688-1632355200-1632441599@philadelphiadogtraining.org
SUMMARY:2ND NIGHT OF CLASSES
DESCRIPTION:
URL:https://philadelphiadogtraining.org/event/2nd-night-of-classes-11/
CATEGORIES:Class Nights
END:VEVENT
BEGIN:VEVENT
DTSTART;TZID=America/New_York:20210922T200000
DTEND;TZID=America/New_York:20210922T210000
DTSTAMP:20260425T122028
CREATED:20210716T195805Z
LAST-MODIFIED:20210819T172915Z
UID:4821-1632340800-1632344400@philadelphiadogtraining.org
SUMMARY:RALLY
DESCRIPTION:
URL:https://philadelphiadogtraining.org/event/rally-44/
CATEGORIES:Yellow
END:VEVENT
BEGIN:VEVENT
DTSTART;TZID=America/New_York:20210922T184500
DTEND;TZID=America/New_York:20210922T194500
DTSTAMP:20260425T122028
CREATED:20210716T191618Z
LAST-MODIFIED:20210819T172911Z
UID:4686-1632336300-1632339900@philadelphiadogtraining.org
SUMMARY:BEGINNER
DESCRIPTION:
URL:https://philadelphiadogtraining.org/event/rally-38/
CATEGORIES:Navy
END:VEVENT
BEGIN:VEVENT
DTSTART;TZID=America/New_York:20210922T173000
DTEND;TZID=America/New_York:20210922T183000
DTSTAMP:20260425T122028
CREATED:20210716T191618Z
LAST-MODIFIED:20210819T172911Z
UID:4685-1632331800-1632335400@philadelphiadogtraining.org
SUMMARY:BEGINNER
DESCRIPTION:
URL:https://philadelphiadogtraining.org/event/beginner-72/
CATEGORIES:Light Blue
END:VEVENT
BEGIN:VEVENT
DTSTART;VALUE=DATE:20210922
DTEND;VALUE=DATE:20210923
DTSTAMP:20260425T122028
CREATED:20210716T191621Z
LAST-MODIFIED:20210819T172915Z
UID:4689-1632268800-1632355199@philadelphiadogtraining.org
SUMMARY:2ND NIGHT OF CLASSES
DESCRIPTION:
URL:https://philadelphiadogtraining.org/event/2nd-night-of-classes-12/
CATEGORIES:Class Nights
END:VEVENT
BEGIN:VEVENT
DTSTART;TZID=America/New_York:20210921T190000
DTEND;TZID=America/New_York:20210921T203000
DTSTAMP:20260425T122028
CREATED:20210716T195803Z
LAST-MODIFIED:20210717T134020Z
UID:4818-1632250800-1632256200@philadelphiadogtraining.org
SUMMARY:OPEN
DESCRIPTION:
URL:https://philadelphiadogtraining.org/event/open-64/
CATEGORIES:Navy
END:VEVENT
BEGIN:VEVENT
DTSTART;TZID=America/New_York:20210921T173000
DTEND;TZID=America/New_York:20210921T190000
DTSTAMP:20260425T122028
CREATED:20210716T195804Z
LAST-MODIFIED:20210717T134134Z
UID:4819-1632245400-1632250800@philadelphiadogtraining.org
SUMMARY:UTILITY
DESCRIPTION:
URL:https://philadelphiadogtraining.org/event/utility-72/
CATEGORIES:Light Blue
END:VEVENT
BEGIN:VEVENT
DTSTART;TZID=America/New_York:20210920T194500
DTEND;TZID=America/New_York:20210920T204500
DTSTAMP:20260425T122028
CREATED:20210716T191617Z
LAST-MODIFIED:20210717T135212Z
UID:4681-1632167100-1632170700@philadelphiadogtraining.org
SUMMARY:NOVICE/FOUNDATION SKILLS
DESCRIPTION:
URL:https://philadelphiadogtraining.org/event/introduction-to-novice-foundation-skills-2/
CATEGORIES:Yellow
END:VEVENT
BEGIN:VEVENT
DTSTART;TZID=America/New_York:20210920T184500
DTEND;TZID=America/New_York:20210920T194500
DTSTAMP:20260425T122028
CREATED:20210716T191617Z
LAST-MODIFIED:20210717T134540Z
UID:4682-1632163500-1632167100@philadelphiadogtraining.org
SUMMARY:NOVICE RING READINESS
DESCRIPTION:
URL:https://philadelphiadogtraining.org/event/novice-ring-readiness-2/
CATEGORIES:Navy
END:VEVENT
BEGIN:VEVENT
DTSTART;TZID=America/New_York:20210920T173000
DTEND;TZID=America/New_York:20210920T183000
DTSTAMP:20260425T122028
CREATED:20210716T191616Z
LAST-MODIFIED:20210819T172908Z
UID:4680-1632159000-1632162600@philadelphiadogtraining.org
SUMMARY:PUPPY K
DESCRIPTION:
URL:https://philadelphiadogtraining.org/event/puppy-k-39/
CATEGORIES:Light Blue
END:VEVENT
BEGIN:VEVENT
DTSTART;TZID=America/New_York:20210916T190000
DTEND;TZID=America/New_York:20210916T200000
DTSTAMP:20260425T122028
CREATED:20210716T191613Z
LAST-MODIFIED:20210819T172907Z
UID:4678-1631818800-1631822400@philadelphiadogtraining.org
SUMMARY:INTERMEDIATE
DESCRIPTION:
URL:https://philadelphiadogtraining.org/event/intermediate-34/
CATEGORIES:Yellow
END:VEVENT
BEGIN:VEVENT
DTSTART;TZID=America/New_York:20210916T180000
DTEND;TZID=America/New_York:20210916T190000
DTSTAMP:20260425T122028
CREATED:20210716T191616Z
LAST-MODIFIED:20210819T172908Z
UID:4679-1631815200-1631818800@philadelphiadogtraining.org
SUMMARY:BEGINNER
DESCRIPTION:
URL:https://philadelphiadogtraining.org/event/beginner-71/
CATEGORIES:Navy
END:VEVENT
BEGIN:VEVENT
DTSTART;TZID=America/New_York:20210916T170000
DTEND;TZID=America/New_York:20210916T180000
DTSTAMP:20260425T122028
CREATED:20210716T191613Z
LAST-MODIFIED:20210819T172901Z
UID:4677-1631811600-1631815200@philadelphiadogtraining.org
SUMMARY:ADVANCED
DESCRIPTION:
URL:https://philadelphiadogtraining.org/event/advanced-34/
CATEGORIES:Light Blue
END:VEVENT
BEGIN:VEVENT
DTSTART;VALUE=DATE:20210916
DTEND;VALUE=DATE:20210917
DTSTAMP:20260425T122028
CREATED:20210716T191613Z
LAST-MODIFIED:20210819T172901Z
UID:4676-1631750400-1631836799@philadelphiadogtraining.org
SUMMARY:FIRST NIGHT OF CLASSES
DESCRIPTION:
URL:https://philadelphiadogtraining.org/event/first-night-of-classes-12/
CATEGORIES:Class Nights
END:VEVENT
BEGIN:VEVENT
DTSTART;TZID=America/New_York:20210915T200000
DTEND;TZID=America/New_York:20210915T210000
DTSTAMP:20260425T122028
CREATED:20210716T195751Z
LAST-MODIFIED:20210819T172901Z
UID:4816-1631736000-1631739600@philadelphiadogtraining.org
SUMMARY:RALLY
DESCRIPTION:
URL:https://philadelphiadogtraining.org/event/rally-43/
CATEGORIES:Yellow
END:VEVENT
BEGIN:VEVENT
DTSTART;TZID=America/New_York:20210915T184500
DTEND;TZID=America/New_York:20210915T194500
DTSTAMP:20260425T122028
CREATED:20210716T191613Z
LAST-MODIFIED:20210819T172901Z
UID:4674-1631731500-1631735100@philadelphiadogtraining.org
SUMMARY:BEGINNER
DESCRIPTION:
URL:https://philadelphiadogtraining.org/event/rally-37/
CATEGORIES:Navy
END:VEVENT
BEGIN:VEVENT
DTSTART;TZID=America/New_York:20210915T173000
DTEND;TZID=America/New_York:20210915T183000
DTSTAMP:20260425T122028
CREATED:20210716T191525Z
LAST-MODIFIED:20210819T172901Z
UID:4673-1631727000-1631730600@philadelphiadogtraining.org
SUMMARY:BEGINNER
DESCRIPTION:
URL:https://philadelphiadogtraining.org/event/beginner-70/
CATEGORIES:Light Blue
END:VEVENT
END:VCALENDAR