BEGIN:VCALENDAR
VERSION:2.0
PRODID:-// - ECPv5.7.0//NONSGML v1.0//EN
CALSCALE:GREGORIAN
METHOD:PUBLISH
X-ORIGINAL-URL:https://philadelphiadogtraining.org
X-WR-CALDESC:Events for 
BEGIN:VTIMEZONE
TZID:America/New_York
BEGIN:DAYLIGHT
TZOFFSETFROM:-0500
TZOFFSETTO:-0400
TZNAME:EDT
DTSTART:20210314T070000
END:DAYLIGHT
BEGIN:STANDARD
TZOFFSETFROM:-0400
TZOFFSETTO:-0500
TZNAME:EST
DTSTART:20211107T060000
END:STANDARD
END:VTIMEZONE
BEGIN:VEVENT
DTSTART;VALUE=DATE:20211108
DTEND;VALUE=DATE:20211112
DTSTAMP:20260425T183524
CREATED:20210723T160405Z
LAST-MODIFIED:20210723T160405Z
UID:4927-1636329600-1636675199@philadelphiadogtraining.org
SUMMARY:NO CLASSES
DESCRIPTION:
URL:https://philadelphiadogtraining.org/event/no-classes-16/
CATEGORIES:NO CLASSES
END:VEVENT
BEGIN:VEVENT
DTSTART;TZID=America/New_York:20211104T190000
DTEND;TZID=America/New_York:20211104T200000
DTSTAMP:20260425T183524
CREATED:20210819T173046Z
LAST-MODIFIED:20210924T202051Z
UID:5064-1636052400-1636056000@philadelphiadogtraining.org
SUMMARY:INTERMEDIATE
DESCRIPTION:
URL:https://philadelphiadogtraining.org/event/intermediate-40/
CATEGORIES:Yellow
END:VEVENT
BEGIN:VEVENT
DTSTART;TZID=America/New_York:20211104T180000
DTEND;TZID=America/New_York:20211104T190000
DTSTAMP:20260425T183524
CREATED:20210819T173035Z
LAST-MODIFIED:20210924T202051Z
UID:5061-1636048800-1636052400@philadelphiadogtraining.org
SUMMARY:BEGINNER
DESCRIPTION:
URL:https://philadelphiadogtraining.org/event/beginner-84/
CATEGORIES:Navy
END:VEVENT
BEGIN:VEVENT
DTSTART;TZID=America/New_York:20211104T170000
DTEND;TZID=America/New_York:20211104T180000
DTSTAMP:20260425T183524
CREATED:20210819T173036Z
LAST-MODIFIED:20210924T202054Z
UID:5062-1636045200-1636048800@philadelphiadogtraining.org
SUMMARY:ADVANCED
DESCRIPTION:
URL:https://philadelphiadogtraining.org/event/advanced-40/
CATEGORIES:Light Blue
END:VEVENT
BEGIN:VEVENT
DTSTART;VALUE=DATE:20211104
DTEND;VALUE=DATE:20211105
DTSTAMP:20260425T183524
CREATED:20210819T173036Z
LAST-MODIFIED:20210924T202051Z
UID:5063-1635984000-1636070399@philadelphiadogtraining.org
SUMMARY:FIRST NIGHT OF CLASSES
DESCRIPTION:
URL:https://philadelphiadogtraining.org/event/first-night-of-classes-14/
CATEGORIES:Class Nights
END:VEVENT
BEGIN:VEVENT
DTSTART;TZID=America/New_York:20211103T200000
DTEND;TZID=America/New_York:20211103T210000
DTSTAMP:20260425T183524
CREATED:20210819T173035Z
LAST-MODIFIED:20210924T202048Z
UID:5059-1635969600-1635973200@philadelphiadogtraining.org
SUMMARY:RALLY
DESCRIPTION:
URL:https://philadelphiadogtraining.org/event/rally-49/
CATEGORIES:Yellow
END:VEVENT
BEGIN:VEVENT
DTSTART;TZID=America/New_York:20211103T184500
DTEND;TZID=America/New_York:20211103T194500
DTSTAMP:20260425T183524
CREATED:20210819T173031Z
LAST-MODIFIED:20210924T202051Z
UID:5058-1635965100-1635968700@philadelphiadogtraining.org
SUMMARY:BEGINNER
DESCRIPTION:
URL:https://philadelphiadogtraining.org/event/beginner-83/
CATEGORIES:Navy
END:VEVENT
BEGIN:VEVENT
DTSTART;TZID=America/New_York:20211103T173000
DTEND;TZID=America/New_York:20211103T183000
DTSTAMP:20260425T183524
CREATED:20210819T173031Z
LAST-MODIFIED:20210924T202048Z
UID:5057-1635960600-1635964200@philadelphiadogtraining.org
SUMMARY:BEGINNER
DESCRIPTION:
URL:https://philadelphiadogtraining.org/event/beginner-82/
CATEGORIES:Light Blue
END:VEVENT
BEGIN:VEVENT
DTSTART;VALUE=DATE:20211103
DTEND;VALUE=DATE:20211104
DTSTAMP:20260425T183524
CREATED:20210819T173035Z
LAST-MODIFIED:20210924T202051Z
UID:5060-1635897600-1635983999@philadelphiadogtraining.org
SUMMARY:FIRST NIGHT OF CLASSES
DESCRIPTION:
URL:https://philadelphiadogtraining.org/event/first-night-of-classes-13/
CATEGORIES:Class Nights
END:VEVENT
BEGIN:VEVENT
DTSTART;VALUE=DATE:20211102
DTEND;VALUE=DATE:20211103
DTSTAMP:20260425T183524
CREATED:20210723T160333Z
LAST-MODIFIED:20210723T160333Z
UID:4928-1635811200-1635897599@philadelphiadogtraining.org
SUMMARY:NO CLASSES
DESCRIPTION:
URL:https://philadelphiadogtraining.org/event/no-classes-15/
CATEGORIES:NO CLASSES
END:VEVENT
BEGIN:VEVENT
DTSTART;VALUE=DATE:20211101
DTEND;VALUE=DATE:20211102
DTSTAMP:20260425T183524
CREATED:20211130T220127Z
LAST-MODIFIED:20211130T220127Z
UID:5725-1635724800-1635811199@philadelphiadogtraining.org
SUMMARY:NO CLASSES
DESCRIPTION:
URL:https://philadelphiadogtraining.org/event/no-classes-24/
CATEGORIES:NO CLASSES,Yellow
END:VEVENT
BEGIN:VEVENT
DTSTART;VALUE=DATE:20211027
DTEND;VALUE=DATE:20211029
DTSTAMP:20260425T183524
CREATED:20210716T200011Z
LAST-MODIFIED:20210924T202045Z
UID:4848-1635292800-1635465599@philadelphiadogtraining.org
SUMMARY:NO CLASSES
DESCRIPTION:
URL:https://philadelphiadogtraining.org/event/no-classes-14/
CATEGORIES:NO CLASSES
END:VEVENT
BEGIN:VEVENT
DTSTART;TZID=America/New_York:20211026T190000
DTEND;TZID=America/New_York:20211026T203000
DTSTAMP:20260425T183524
CREATED:20210716T200011Z
LAST-MODIFIED:20210717T133945Z
UID:4847-1635274800-1635280200@philadelphiadogtraining.org
SUMMARY:OPEN
DESCRIPTION:
URL:https://philadelphiadogtraining.org/event/open-69/
CATEGORIES:Navy
END:VEVENT
BEGIN:VEVENT
DTSTART;TZID=America/New_York:20211026T173000
DTEND;TZID=America/New_York:20211026T190000
DTSTAMP:20260425T183524
CREATED:20210819T173025Z
LAST-MODIFIED:20210924T202045Z
UID:5051-1635269400-1635274800@philadelphiadogtraining.org
SUMMARY:UTILITY
DESCRIPTION:
URL:https://philadelphiadogtraining.org/event/utility-79/
CATEGORIES:Light Blue
END:VEVENT
BEGIN:VEVENT
DTSTART;TZID=America/New_York:20211026T173000
DTEND;TZID=America/New_York:20211026T190000
DTSTAMP:20260425T183524
CREATED:20210716T200011Z
LAST-MODIFIED:20210717T134101Z
UID:4846-1635269400-1635274800@philadelphiadogtraining.org
SUMMARY:UTILITY
DESCRIPTION:
URL:https://philadelphiadogtraining.org/event/utility-77/
CATEGORIES:Light Blue
END:VEVENT
BEGIN:VEVENT
DTSTART;TZID=America/New_York:20211025T194500
DTEND;TZID=America/New_York:20211025T204500
DTSTAMP:20260425T183524
CREATED:20210716T200010Z
LAST-MODIFIED:20210717T134945Z
UID:4844-1635191100-1635194700@philadelphiadogtraining.org
SUMMARY:NOVICE/FOUNDATION SKILLS
DESCRIPTION:
URL:https://philadelphiadogtraining.org/event/novice-foundation-skills/
CATEGORIES:Yellow
END:VEVENT
BEGIN:VEVENT
DTSTART;TZID=America/New_York:20211025T184500
DTEND;TZID=America/New_York:20211025T194500
DTSTAMP:20260425T183524
CREATED:20210716T200010Z
LAST-MODIFIED:20210717T134347Z
UID:4845-1635187500-1635191100@philadelphiadogtraining.org
SUMMARY:NOVICE RING READINESS
DESCRIPTION:
URL:https://philadelphiadogtraining.org/event/novice-ring-readiness-7/
CATEGORIES:Navy
END:VEVENT
BEGIN:VEVENT
DTSTART;TZID=America/New_York:20211025T173000
DTEND;TZID=America/New_York:20211025T183000
DTSTAMP:20260425T183524
CREATED:20210716T200010Z
LAST-MODIFIED:20210924T202043Z
UID:4843-1635183000-1635186600@philadelphiadogtraining.org
SUMMARY:PUPPY K
DESCRIPTION:
URL:https://philadelphiadogtraining.org/event/puppy-k-45/
CATEGORIES:Light Blue
END:VEVENT
BEGIN:VEVENT
DTSTART;TZID=America/New_York:20211021T190000
DTEND;TZID=America/New_York:20211021T200000
DTSTAMP:20260425T183524
CREATED:20210716T192048Z
LAST-MODIFIED:20210924T202039Z
UID:4741-1634842800-1634846400@philadelphiadogtraining.org
SUMMARY:INTERMEDIATE
DESCRIPTION:
URL:https://philadelphiadogtraining.org/event/intermediate-39/
CATEGORIES:Yellow
END:VEVENT
BEGIN:VEVENT
DTSTART;TZID=America/New_York:20211021T180000
DTEND;TZID=America/New_York:20211021T190000
DTSTAMP:20260425T183524
CREATED:20210716T192048Z
LAST-MODIFIED:20210924T202042Z
UID:4742-1634839200-1634842800@philadelphiadogtraining.org
SUMMARY:BEGINNER
DESCRIPTION:
URL:https://philadelphiadogtraining.org/event/beginner-81/
CATEGORIES:Navy
END:VEVENT
BEGIN:VEVENT
DTSTART;TZID=America/New_York:20211021T170000
DTEND;TZID=America/New_York:20211021T180000
DTSTAMP:20260425T183524
CREATED:20210716T192048Z
LAST-MODIFIED:20210924T202043Z
UID:4743-1634835600-1634839200@philadelphiadogtraining.org
SUMMARY:ADVANCED
DESCRIPTION:
URL:https://philadelphiadogtraining.org/event/advanced-39/
CATEGORIES:Light Blue
END:VEVENT
BEGIN:VEVENT
DTSTART;VALUE=DATE:20211021
DTEND;VALUE=DATE:20211022
DTSTAMP:20260425T183524
CREATED:20210716T192128Z
LAST-MODIFIED:20210924T202039Z
UID:4744-1634774400-1634860799@philadelphiadogtraining.org
SUMMARY:6TH NIGHT OF CLASSES
DESCRIPTION:
URL:https://philadelphiadogtraining.org/event/6th-night-of-classes-2/
CATEGORIES:Class Nights
END:VEVENT
BEGIN:VEVENT
DTSTART;TZID=America/New_York:20211020T200000
DTEND;TZID=America/New_York:20211020T210000
DTSTAMP:20260425T183524
CREATED:20210716T195958Z
LAST-MODIFIED:20210924T202039Z
UID:4841-1634760000-1634763600@philadelphiadogtraining.org
SUMMARY:RALLY
DESCRIPTION:
URL:https://philadelphiadogtraining.org/event/rally-48/
CATEGORIES:Yellow
END:VEVENT
BEGIN:VEVENT
DTSTART;TZID=America/New_York:20211020T184500
DTEND;TZID=America/New_York:20211020T194500
DTSTAMP:20260425T183524
CREATED:20210716T191942Z
LAST-MODIFIED:20210924T202039Z
UID:4736-1634755500-1634759100@philadelphiadogtraining.org
SUMMARY:BEGINNER
DESCRIPTION:
URL:https://philadelphiadogtraining.org/event/rally-42/
CATEGORIES:Navy
END:VEVENT
BEGIN:VEVENT
DTSTART;TZID=America/New_York:20211020T173000
DTEND;TZID=America/New_York:20211020T183000
DTSTAMP:20260425T183524
CREATED:20210716T192048Z
LAST-MODIFIED:20210924T202037Z
UID:4740-1634751000-1634754600@philadelphiadogtraining.org
SUMMARY:BEGINNER
DESCRIPTION:
URL:https://philadelphiadogtraining.org/event/beginner-80/
CATEGORIES:Light Blue
END:VEVENT
BEGIN:VEVENT
DTSTART;VALUE=DATE:20211020
DTEND;VALUE=DATE:20211021
DTSTAMP:20260425T183524
CREATED:20210716T191942Z
LAST-MODIFIED:20210924T202039Z
UID:4737-1634688000-1634774399@philadelphiadogtraining.org
SUMMARY:6TH NIGHT OF CLASSES
DESCRIPTION:
URL:https://philadelphiadogtraining.org/event/6th-night-of-classes/
CATEGORIES:Class Nights
END:VEVENT
BEGIN:VEVENT
DTSTART;TZID=America/New_York:20211019T190000
DTEND;TZID=America/New_York:20211019T203000
DTSTAMP:20260425T183524
CREATED:20210716T195958Z
LAST-MODIFIED:20210717T133952Z
UID:4839-1634670000-1634675400@philadelphiadogtraining.org
SUMMARY:OPEN
DESCRIPTION:
URL:https://philadelphiadogtraining.org/event/open-68/
CATEGORIES:Navy
END:VEVENT
BEGIN:VEVENT
DTSTART;TZID=America/New_York:20211019T173000
DTEND;TZID=America/New_York:20211019T190000
DTSTAMP:20260425T183524
CREATED:20210716T195959Z
LAST-MODIFIED:20210717T134108Z
UID:4842-1634664600-1634670000@philadelphiadogtraining.org
SUMMARY:UTILITY
DESCRIPTION:
URL:https://philadelphiadogtraining.org/event/utility-76/
CATEGORIES:Light Blue
END:VEVENT
BEGIN:VEVENT
DTSTART;TZID=America/New_York:20211018T194500
DTEND;TZID=America/New_York:20211018T204500
DTSTAMP:20260425T183524
CREATED:20210716T191941Z
LAST-MODIFIED:20210717T135004Z
UID:4735-1634586300-1634589900@philadelphiadogtraining.org
SUMMARY:NOVICE/FOUNDATION SKILLS
DESCRIPTION:
URL:https://philadelphiadogtraining.org/event/introduction-to-novice-foundation-skills-6/
CATEGORIES:Yellow
END:VEVENT
BEGIN:VEVENT
DTSTART;TZID=America/New_York:20211018T184500
DTEND;TZID=America/New_York:20211018T194500
DTSTAMP:20260425T183524
CREATED:20210716T191941Z
LAST-MODIFIED:20210717T134412Z
UID:4733-1634582700-1634586300@philadelphiadogtraining.org
SUMMARY:NOVICE RING READINESS
DESCRIPTION:
URL:https://philadelphiadogtraining.org/event/novice-ring-readiness-6/
CATEGORIES:Navy
END:VEVENT
END:VCALENDAR