BEGIN:VCALENDAR
VERSION:2.0
PRODID:-// - ECPv5.7.0//NONSGML v1.0//EN
CALSCALE:GREGORIAN
METHOD:PUBLISH
X-ORIGINAL-URL:https://philadelphiadogtraining.org
X-WR-CALDESC:Events for 
BEGIN:VTIMEZONE
TZID:America/New_York
BEGIN:DAYLIGHT
TZOFFSETFROM:-0500
TZOFFSETTO:-0400
TZNAME:EDT
DTSTART:20220313T070000
END:DAYLIGHT
BEGIN:STANDARD
TZOFFSETFROM:-0400
TZOFFSETTO:-0500
TZNAME:EST
DTSTART:20221106T060000
END:STANDARD
END:VTIMEZONE
BEGIN:VEVENT
DTSTART;TZID=America/New_York:20220418T194500
DTEND;TZID=America/New_York:20220418T204500
DTSTAMP:20260421T165344
CREATED:20220205T172234Z
LAST-MODIFIED:20220205T173630Z
UID:5875-1650311100-1650314700@philadelphiadogtraining.org
SUMMARY:NOVICE/FOUNDATION SKILLS
DESCRIPTION:
URL:https://philadelphiadogtraining.org/event/novice-foundation-skills-32/
CATEGORIES:Yellow
END:VEVENT
BEGIN:VEVENT
DTSTART;TZID=America/New_York:20220418T184500
DTEND;TZID=America/New_York:20220418T194500
DTSTAMP:20260421T165344
CREATED:20220205T172234Z
LAST-MODIFIED:20220205T173621Z
UID:5874-1650307500-1650311100@philadelphiadogtraining.org
SUMMARY:NOVICE RING READINESS
DESCRIPTION:
URL:https://philadelphiadogtraining.org/event/novice-ring-readiness-38/
CATEGORIES:Navy
END:VEVENT
BEGIN:VEVENT
DTSTART;TZID=America/New_York:20220418T173000
DTEND;TZID=America/New_York:20220418T183000
DTSTAMP:20260421T165344
CREATED:20220205T172234Z
LAST-MODIFIED:20220205T173617Z
UID:5873-1650303000-1650306600@philadelphiadogtraining.org
SUMMARY:PUPPY K
DESCRIPTION:
URL:https://philadelphiadogtraining.org/event/puppy-k-74/
CATEGORIES:Light Blue
END:VEVENT
BEGIN:VEVENT
DTSTART;TZID=America/New_York:20220414T170000
DTEND;TZID=America/New_York:20220414T200000
DTSTAMP:20260421T165344
CREATED:20220207T195511Z
LAST-MODIFIED:20220207T195523Z
UID:6007-1649955600-1649966400@philadelphiadogtraining.org
SUMMARY:CGC TESTING
DESCRIPTION:
URL:https://philadelphiadogtraining.org/event/cgc-testing-4/
CATEGORIES:Light Blue
END:VEVENT
BEGIN:VEVENT
DTSTART;VALUE=DATE:20220414
DTEND;VALUE=DATE:20220415
DTSTAMP:20260421T165344
CREATED:20210926T155554Z
LAST-MODIFIED:20220207T194428Z
UID:5274-1649894400-1649980799@philadelphiadogtraining.org
SUMMARY:NO CLASSES
DESCRIPTION:
URL:https://philadelphiadogtraining.org/event/no-classes-18/
CATEGORIES:NO CLASSES,Yellow
END:VEVENT
BEGIN:VEVENT
DTSTART;TZID=America/New_York:20220413T184500
DTEND;TZID=America/New_York:20220413T194500
DTSTAMP:20260421T165344
CREATED:20220209T211059Z
LAST-MODIFIED:20220209T211059Z
UID:6098-1649875500-1649879100@philadelphiadogtraining.org
SUMMARY:BEGINNER
DESCRIPTION:
URL:https://philadelphiadogtraining.org/event/beginner-165/
CATEGORIES:Light Blue
END:VEVENT
BEGIN:VEVENT
DTSTART;VALUE=DATE:20220413
DTEND;VALUE=DATE:20220414
DTSTAMP:20260421T165344
CREATED:20220209T210918Z
LAST-MODIFIED:20220209T210918Z
UID:6096-1649808000-1649894399@philadelphiadogtraining.org
SUMMARY:LAST NIGHT OF CLASSES
DESCRIPTION:
URL:https://philadelphiadogtraining.org/event/last-night-of-classes-23/
CATEGORIES:Class Nights,Light Blue
END:VEVENT
BEGIN:VEVENT
DTSTART;TZID=America/New_York:20220412T190000
DTEND;TZID=America/New_York:20220412T203000
DTSTAMP:20260421T165344
CREATED:20220205T172027Z
LAST-MODIFIED:20220205T173449Z
UID:5865-1649790000-1649795400@philadelphiadogtraining.org
SUMMARY:OPEN
DESCRIPTION:
URL:https://philadelphiadogtraining.org/event/open-100/
CATEGORIES:Navy
END:VEVENT
BEGIN:VEVENT
DTSTART;TZID=America/New_York:20220412T173000
DTEND;TZID=America/New_York:20220412T190000
DTSTAMP:20260421T165344
CREATED:20220205T172027Z
LAST-MODIFIED:20220205T173437Z
UID:5864-1649784600-1649790000@philadelphiadogtraining.org
SUMMARY:UTILITY
DESCRIPTION:
URL:https://philadelphiadogtraining.org/event/utility-103/
CATEGORIES:Light Blue
END:VEVENT
BEGIN:VEVENT
DTSTART;TZID=America/New_York:20220411T194500
DTEND;TZID=America/New_York:20220411T204500
DTSTAMP:20260421T165344
CREATED:20220205T172027Z
LAST-MODIFIED:20220205T173419Z
UID:5862-1649706300-1649709900@philadelphiadogtraining.org
SUMMARY:NOVICE/FOUNDATION SKILLS
DESCRIPTION:
URL:https://philadelphiadogtraining.org/event/novice-foundation-skills-31/
CATEGORIES:Yellow
END:VEVENT
BEGIN:VEVENT
DTSTART;TZID=America/New_York:20220411T184500
DTEND;TZID=America/New_York:20220411T194500
DTSTAMP:20260421T165344
CREATED:20220205T172027Z
LAST-MODIFIED:20220205T173414Z
UID:5863-1649702700-1649706300@philadelphiadogtraining.org
SUMMARY:NOVICE RING READINESS
DESCRIPTION:
URL:https://philadelphiadogtraining.org/event/novice-ring-readiness-37/
CATEGORIES:Navy
END:VEVENT
BEGIN:VEVENT
DTSTART;TZID=America/New_York:20220411T173000
DTEND;TZID=America/New_York:20220411T183000
DTSTAMP:20260421T165344
CREATED:20220205T171826Z
LAST-MODIFIED:20220205T173408Z
UID:5861-1649698200-1649701800@philadelphiadogtraining.org
SUMMARY:PUPPY K
DESCRIPTION:
URL:https://philadelphiadogtraining.org/event/puppy-k-73/
CATEGORIES:Light Blue
END:VEVENT
BEGIN:VEVENT
DTSTART;TZID=America/New_York:20220407T190000
DTEND;TZID=America/New_York:20220407T200000
DTSTAMP:20260421T165344
CREATED:20220205T172045Z
LAST-MODIFIED:20220207T195027Z
UID:5870-1649358000-1649361600@philadelphiadogtraining.org
SUMMARY:INTERMEDIATE
DESCRIPTION:
URL:https://philadelphiadogtraining.org/event/intermediate-58/
CATEGORIES:Yellow
END:VEVENT
BEGIN:VEVENT
DTSTART;TZID=America/New_York:20220407T180000
DTEND;TZID=America/New_York:20220407T190000
DTSTAMP:20260421T165344
CREATED:20220205T172234Z
LAST-MODIFIED:20220209T210618Z
UID:5872-1649354400-1649358000@philadelphiadogtraining.org
SUMMARY:ADVANCED
DESCRIPTION:
URL:https://philadelphiadogtraining.org/event/advanced-72/
CATEGORIES:Navy
END:VEVENT
BEGIN:VEVENT
DTSTART;TZID=America/New_York:20220407T170000
DTEND;TZID=America/New_York:20220407T180000
DTSTAMP:20260421T165344
CREATED:20220205T172044Z
LAST-MODIFIED:20220207T194920Z
UID:5869-1649350800-1649354400@philadelphiadogtraining.org
SUMMARY:ADVANCED
DESCRIPTION:
URL:https://philadelphiadogtraining.org/event/advanced-71/
CATEGORIES:Light Blue
END:VEVENT
BEGIN:VEVENT
DTSTART;VALUE=DATE:20220407
DTEND;VALUE=DATE:20220408
DTSTAMP:20260421T165344
CREATED:20220207T195401Z
LAST-MODIFIED:20220207T195401Z
UID:6005-1649289600-1649375999@philadelphiadogtraining.org
SUMMARY:LAST NIGHT OF CLASSES
DESCRIPTION:
URL:https://philadelphiadogtraining.org/event/last-night-of-classes-21/
CATEGORIES:Class Nights,Light Blue
END:VEVENT
BEGIN:VEVENT
DTSTART;TZID=America/New_York:20220406T200000
DTEND;TZID=America/New_York:20220406T210000
DTSTAMP:20260421T165344
CREATED:20220205T172044Z
LAST-MODIFIED:20220209T210608Z
UID:5868-1649275200-1649278800@philadelphiadogtraining.org
SUMMARY:RALLY
DESCRIPTION:
URL:https://philadelphiadogtraining.org/event/rally-70/
CATEGORIES:Navy
END:VEVENT
BEGIN:VEVENT
DTSTART;TZID=America/New_York:20220406T184500
DTEND;TZID=America/New_York:20220406T194500
DTSTAMP:20260421T165344
CREATED:20220205T172043Z
LAST-MODIFIED:20220209T210559Z
UID:5867-1649270700-1649274300@philadelphiadogtraining.org
SUMMARY:BEGINNER
DESCRIPTION:
URL:https://philadelphiadogtraining.org/event/beginner-145/
CATEGORIES:Light Blue
END:VEVENT
BEGIN:VEVENT
DTSTART;VALUE=DATE:20220406
DTEND;VALUE=DATE:20220407
DTSTAMP:20260421T165344
CREATED:20220207T195255Z
LAST-MODIFIED:20220209T210729Z
UID:6003-1649203200-1649289599@philadelphiadogtraining.org
SUMMARY:SIXTH NIGHT OF CLASSES
DESCRIPTION:
URL:https://philadelphiadogtraining.org/event/last-night-of-classes-20/
CATEGORIES:Class Nights,Light Blue
END:VEVENT
BEGIN:VEVENT
DTSTART;TZID=America/New_York:20220405T190000
DTEND;TZID=America/New_York:20220405T203000
DTSTAMP:20260421T165344
CREATED:20220205T171826Z
LAST-MODIFIED:20220205T173347Z
UID:5860-1649185200-1649190600@philadelphiadogtraining.org
SUMMARY:OPEN
DESCRIPTION:
URL:https://philadelphiadogtraining.org/event/open-99/
CATEGORIES:Navy
END:VEVENT
BEGIN:VEVENT
DTSTART;TZID=America/New_York:20220405T173000
DTEND;TZID=America/New_York:20220405T190000
DTSTAMP:20260421T165344
CREATED:20220205T171826Z
LAST-MODIFIED:20220205T173342Z
UID:5859-1649179800-1649185200@philadelphiadogtraining.org
SUMMARY:UTILITY
DESCRIPTION:
URL:https://philadelphiadogtraining.org/event/utility-102/
CATEGORIES:Light Blue
END:VEVENT
BEGIN:VEVENT
DTSTART;TZID=America/New_York:20220404T194500
DTEND;TZID=America/New_York:20220404T204500
DTSTAMP:20260421T165344
CREATED:20220205T171826Z
LAST-MODIFIED:20220205T173325Z
UID:5857-1649101500-1649105100@philadelphiadogtraining.org
SUMMARY:NOVICE/FOUNDATION SKILLS
DESCRIPTION:
URL:https://philadelphiadogtraining.org/event/novice-foundation-skills-30/
CATEGORIES:Yellow
END:VEVENT
BEGIN:VEVENT
DTSTART;TZID=America/New_York:20220404T184500
DTEND;TZID=America/New_York:20220404T194500
DTSTAMP:20260421T165344
CREATED:20220205T171826Z
LAST-MODIFIED:20220205T173315Z
UID:5858-1649097900-1649101500@philadelphiadogtraining.org
SUMMARY:NOVICE RING READINESS
DESCRIPTION:
URL:https://philadelphiadogtraining.org/event/novice-ring-readiness-36/
CATEGORIES:Navy
END:VEVENT
BEGIN:VEVENT
DTSTART;TZID=America/New_York:20220404T173000
DTEND;TZID=America/New_York:20220404T183000
DTSTAMP:20260421T165344
CREATED:20220205T171810Z
LAST-MODIFIED:20220205T173257Z
UID:5856-1649093400-1649097000@philadelphiadogtraining.org
SUMMARY:PUPPY K
DESCRIPTION:
URL:https://philadelphiadogtraining.org/event/puppy-k-72/
CATEGORIES:Light Blue
END:VEVENT
BEGIN:VEVENT
DTSTART;TZID=America/New_York:20220331T190000
DTEND;TZID=America/New_York:20220331T200000
DTSTAMP:20260421T165344
CREATED:20211114T194210Z
LAST-MODIFIED:20211115T161425Z
UID:5495-1648753200-1648756800@philadelphiadogtraining.org
SUMMARY:INTERMEDIATE
DESCRIPTION:
URL:https://philadelphiadogtraining.org/event/intermediate-56/
CATEGORIES:Yellow
END:VEVENT
BEGIN:VEVENT
DTSTART;TZID=America/New_York:20220331T180000
DTEND;TZID=America/New_York:20220331T190000
DTSTAMP:20260421T165344
CREATED:20211114T194210Z
LAST-MODIFIED:20220209T210522Z
UID:5496-1648749600-1648753200@philadelphiadogtraining.org
SUMMARY:ADVANCED
DESCRIPTION:
URL:https://philadelphiadogtraining.org/event/advanced-68/
CATEGORIES:Navy
END:VEVENT
BEGIN:VEVENT
DTSTART;TZID=America/New_York:20220331T170000
DTEND;TZID=America/New_York:20220331T180000
DTSTAMP:20260421T165344
CREATED:20211114T194210Z
LAST-MODIFIED:20211115T161358Z
UID:5494-1648746000-1648749600@philadelphiadogtraining.org
SUMMARY:ADVANCED
DESCRIPTION:
URL:https://philadelphiadogtraining.org/event/advanced-67/
CATEGORIES:Light Blue
END:VEVENT
BEGIN:VEVENT
DTSTART;VALUE=DATE:20220331
DTEND;VALUE=DATE:20220401
DTSTAMP:20260421T165344
CREATED:20211114T194416Z
LAST-MODIFIED:20220207T194132Z
UID:5497-1648684800-1648771199@philadelphiadogtraining.org
SUMMARY:FIFTH NIGHT OF CLASSES
DESCRIPTION:
URL:https://philadelphiadogtraining.org/event/last-night-of-classes-18/
CATEGORIES:Class Nights
END:VEVENT
BEGIN:VEVENT
DTSTART;TZID=America/New_York:20220330T200000
DTEND;TZID=America/New_York:20220330T210000
DTSTAMP:20260421T165344
CREATED:20211114T194210Z
LAST-MODIFIED:20220209T210511Z
UID:5492-1648670400-1648674000@philadelphiadogtraining.org
SUMMARY:RALLY
DESCRIPTION:
URL:https://philadelphiadogtraining.org/event/rally-67/
CATEGORIES:Navy
END:VEVENT
BEGIN:VEVENT
DTSTART;TZID=America/New_York:20220330T184500
DTEND;TZID=America/New_York:20220330T194500
DTSTAMP:20260421T165344
CREATED:20211114T194007Z
LAST-MODIFIED:20220209T210428Z
UID:5491-1648665900-1648669500@philadelphiadogtraining.org
SUMMARY:BEGINNER
DESCRIPTION:
URL:https://philadelphiadogtraining.org/event/beginner-137/
CATEGORIES:Light Blue
END:VEVENT
END:VCALENDAR