BEGIN:VCALENDAR
VERSION:2.0
PRODID:-// - ECPv5.7.0//NONSGML v1.0//EN
CALSCALE:GREGORIAN
METHOD:PUBLISH
X-ORIGINAL-URL:https://philadelphiadogtraining.org
X-WR-CALDESC:Events for 
BEGIN:VTIMEZONE
TZID:America/New_York
BEGIN:DAYLIGHT
TZOFFSETFROM:-0500
TZOFFSETTO:-0400
TZNAME:EDT
DTSTART:20210314T070000
END:DAYLIGHT
BEGIN:STANDARD
TZOFFSETFROM:-0400
TZOFFSETTO:-0500
TZNAME:EST
DTSTART:20211107T060000
END:STANDARD
END:VTIMEZONE
BEGIN:VEVENT
DTSTART;TZID=America/New_York:20211020T173000
DTEND;TZID=America/New_York:20211020T183000
DTSTAMP:20260425T071719
CREATED:20210716T192048Z
LAST-MODIFIED:20210924T202037Z
UID:4740-1634751000-1634754600@philadelphiadogtraining.org
SUMMARY:BEGINNER
DESCRIPTION:
URL:https://philadelphiadogtraining.org/event/beginner-80/
CATEGORIES:Light Blue
END:VEVENT
BEGIN:VEVENT
DTSTART;VALUE=DATE:20211020
DTEND;VALUE=DATE:20211021
DTSTAMP:20260425T071719
CREATED:20210716T191942Z
LAST-MODIFIED:20210924T202039Z
UID:4737-1634688000-1634774399@philadelphiadogtraining.org
SUMMARY:6TH NIGHT OF CLASSES
DESCRIPTION:
URL:https://philadelphiadogtraining.org/event/6th-night-of-classes/
CATEGORIES:Class Nights
END:VEVENT
BEGIN:VEVENT
DTSTART;TZID=America/New_York:20211019T190000
DTEND;TZID=America/New_York:20211019T203000
DTSTAMP:20260425T071719
CREATED:20210716T195958Z
LAST-MODIFIED:20210717T133952Z
UID:4839-1634670000-1634675400@philadelphiadogtraining.org
SUMMARY:OPEN
DESCRIPTION:
URL:https://philadelphiadogtraining.org/event/open-68/
CATEGORIES:Navy
END:VEVENT
BEGIN:VEVENT
DTSTART;TZID=America/New_York:20211019T173000
DTEND;TZID=America/New_York:20211019T190000
DTSTAMP:20260425T071719
CREATED:20210716T195959Z
LAST-MODIFIED:20210717T134108Z
UID:4842-1634664600-1634670000@philadelphiadogtraining.org
SUMMARY:UTILITY
DESCRIPTION:
URL:https://philadelphiadogtraining.org/event/utility-76/
CATEGORIES:Light Blue
END:VEVENT
BEGIN:VEVENT
DTSTART;TZID=America/New_York:20211018T194500
DTEND;TZID=America/New_York:20211018T204500
DTSTAMP:20260425T071719
CREATED:20210716T191941Z
LAST-MODIFIED:20210717T135004Z
UID:4735-1634586300-1634589900@philadelphiadogtraining.org
SUMMARY:NOVICE/FOUNDATION SKILLS
DESCRIPTION:
URL:https://philadelphiadogtraining.org/event/introduction-to-novice-foundation-skills-6/
CATEGORIES:Yellow
END:VEVENT
BEGIN:VEVENT
DTSTART;TZID=America/New_York:20211018T184500
DTEND;TZID=America/New_York:20211018T194500
DTSTAMP:20260425T071719
CREATED:20210716T191941Z
LAST-MODIFIED:20210717T134412Z
UID:4733-1634582700-1634586300@philadelphiadogtraining.org
SUMMARY:NOVICE RING READINESS
DESCRIPTION:
URL:https://philadelphiadogtraining.org/event/novice-ring-readiness-6/
CATEGORIES:Navy
END:VEVENT
BEGIN:VEVENT
DTSTART;TZID=America/New_York:20211018T173000
DTEND;TZID=America/New_York:20211018T183000
DTSTAMP:20260425T071719
CREATED:20210716T191941Z
LAST-MODIFIED:20210716T193008Z
UID:4734-1634578200-1634581800@philadelphiadogtraining.org
SUMMARY:PUPPY K
DESCRIPTION:
URL:https://philadelphiadogtraining.org/event/puppy-k-43/
CATEGORIES:Light Blue
END:VEVENT
BEGIN:VEVENT
DTSTART;TZID=America/New_York:20211014T190000
DTEND;TZID=America/New_York:20211014T200000
DTSTAMP:20260425T071719
CREATED:20210716T191941Z
LAST-MODIFIED:20210924T202033Z
UID:4732-1634238000-1634241600@philadelphiadogtraining.org
SUMMARY:INTERMEDIATE
DESCRIPTION:
URL:https://philadelphiadogtraining.org/event/intermediate-38/
CATEGORIES:Yellow
END:VEVENT
BEGIN:VEVENT
DTSTART;TZID=America/New_York:20211014T180000
DTEND;TZID=America/New_York:20211014T190000
DTSTAMP:20260425T071719
CREATED:20210716T191941Z
LAST-MODIFIED:20210924T202033Z
UID:4729-1634234400-1634238000@philadelphiadogtraining.org
SUMMARY:BEGINNER
DESCRIPTION:
URL:https://philadelphiadogtraining.org/event/beginner-79/
CATEGORIES:Navy
END:VEVENT
BEGIN:VEVENT
DTSTART;TZID=America/New_York:20211014T170000
DTEND;TZID=America/New_York:20211014T180000
DTSTAMP:20260425T071719
CREATED:20210716T191941Z
LAST-MODIFIED:20210924T202033Z
UID:4730-1634230800-1634234400@philadelphiadogtraining.org
SUMMARY:ADVANCED
DESCRIPTION:
URL:https://philadelphiadogtraining.org/event/advanced-38/
CATEGORIES:Light Blue
END:VEVENT
BEGIN:VEVENT
DTSTART;VALUE=DATE:20211014
DTEND;VALUE=DATE:20211015
DTSTAMP:20260425T071719
CREATED:20210716T191941Z
LAST-MODIFIED:20210924T202031Z
UID:4731-1634169600-1634255999@philadelphiadogtraining.org
SUMMARY:5TH NIGHT OF CLASSES
DESCRIPTION:
URL:https://philadelphiadogtraining.org/event/5th-night-of-classes-12/
CATEGORIES:Class Nights
END:VEVENT
BEGIN:VEVENT
DTSTART;TZID=America/New_York:20211013T200000
DTEND;TZID=America/New_York:20211013T210000
DTSTAMP:20260425T071719
CREATED:20210716T195853Z
LAST-MODIFIED:20210924T202033Z
UID:4836-1634155200-1634158800@philadelphiadogtraining.org
SUMMARY:RALLY
DESCRIPTION:
URL:https://philadelphiadogtraining.org/event/rally-47/
CATEGORIES:Yellow
END:VEVENT
BEGIN:VEVENT
DTSTART;TZID=America/New_York:20211013T184500
DTEND;TZID=America/New_York:20211013T194500
DTSTAMP:20260425T071719
CREATED:20210716T191928Z
LAST-MODIFIED:20210924T202031Z
UID:4727-1634150700-1634154300@philadelphiadogtraining.org
SUMMARY:BEGINNER
DESCRIPTION:
URL:https://philadelphiadogtraining.org/event/rally-41/
CATEGORIES:Navy
END:VEVENT
BEGIN:VEVENT
DTSTART;TZID=America/New_York:20211013T173000
DTEND;TZID=America/New_York:20211013T183000
DTSTAMP:20260425T071719
CREATED:20210716T191928Z
LAST-MODIFIED:20210924T202031Z
UID:4726-1634146200-1634149800@philadelphiadogtraining.org
SUMMARY:BEGINNER
DESCRIPTION:
URL:https://philadelphiadogtraining.org/event/beginner-78/
CATEGORIES:Light Blue
END:VEVENT
BEGIN:VEVENT
DTSTART;VALUE=DATE:20211013
DTEND;VALUE=DATE:20211014
DTSTAMP:20260425T071719
CREATED:20210716T191928Z
LAST-MODIFIED:20210924T202031Z
UID:4728-1634083200-1634169599@philadelphiadogtraining.org
SUMMARY:5TH NIGHT OF CLASSES
DESCRIPTION:
URL:https://philadelphiadogtraining.org/event/5th-night-of-classes-11/
CATEGORIES:Class Nights
END:VEVENT
BEGIN:VEVENT
DTSTART;TZID=America/New_York:20211012T190000
DTEND;TZID=America/New_York:20211012T203000
DTSTAMP:20260425T071719
CREATED:20210716T195853Z
LAST-MODIFIED:20210717T133959Z
UID:4834-1634065200-1634070600@philadelphiadogtraining.org
SUMMARY:OPEN
DESCRIPTION:
URL:https://philadelphiadogtraining.org/event/open-67/
CATEGORIES:Navy
END:VEVENT
BEGIN:VEVENT
DTSTART;TZID=America/New_York:20211012T173000
DTEND;TZID=America/New_York:20211012T190000
DTSTAMP:20260425T071719
CREATED:20210716T195853Z
LAST-MODIFIED:20210717T134114Z
UID:4833-1634059800-1634065200@philadelphiadogtraining.org
SUMMARY:UTILITY
DESCRIPTION:
URL:https://philadelphiadogtraining.org/event/utility-75/
CATEGORIES:Light Blue
END:VEVENT
BEGIN:VEVENT
DTSTART;TZID=America/New_York:20211011T194500
DTEND;TZID=America/New_York:20211011T204500
DTSTAMP:20260425T071719
CREATED:20210716T191927Z
LAST-MODIFIED:20210717T135041Z
UID:4723-1633981500-1633985100@philadelphiadogtraining.org
SUMMARY:NOVICE/FOUNDATION SKILLS
DESCRIPTION:
URL:https://philadelphiadogtraining.org/event/introduction-to-novice-foundation-skills-5/
CATEGORIES:Yellow
END:VEVENT
BEGIN:VEVENT
DTSTART;TZID=America/New_York:20211011T184500
DTEND;TZID=America/New_York:20211011T194500
DTSTAMP:20260425T071719
CREATED:20210716T191927Z
LAST-MODIFIED:20210717T134432Z
UID:4721-1633977900-1633981500@philadelphiadogtraining.org
SUMMARY:NOVICE RING READINESS
DESCRIPTION:
URL:https://philadelphiadogtraining.org/event/novice-ring-readiness-5/
CATEGORIES:Navy
END:VEVENT
BEGIN:VEVENT
DTSTART;TZID=America/New_York:20211011T173000
DTEND;TZID=America/New_York:20211011T183000
DTSTAMP:20260425T071719
CREATED:20210716T191927Z
LAST-MODIFIED:20210924T202027Z
UID:4722-1633973400-1633977000@philadelphiadogtraining.org
SUMMARY:PUPPY K
DESCRIPTION:
URL:https://philadelphiadogtraining.org/event/puppy-k-42/
CATEGORIES:Light Blue
END:VEVENT
BEGIN:VEVENT
DTSTART;TZID=America/New_York:20211007T190000
DTEND;TZID=America/New_York:20211007T200000
DTSTAMP:20260425T071719
CREATED:20210716T191840Z
LAST-MODIFIED:20210924T202025Z
UID:4717-1633633200-1633636800@philadelphiadogtraining.org
SUMMARY:INTERMEDIATE
DESCRIPTION:
URL:https://philadelphiadogtraining.org/event/intermediate-37/
CATEGORIES:Yellow
END:VEVENT
BEGIN:VEVENT
DTSTART;TZID=America/New_York:20211007T180000
DTEND;TZID=America/New_York:20211007T190000
DTSTAMP:20260425T071719
CREATED:20210716T191927Z
LAST-MODIFIED:20210924T202027Z
UID:4719-1633629600-1633633200@philadelphiadogtraining.org
SUMMARY:BEGINNER
DESCRIPTION:
URL:https://philadelphiadogtraining.org/event/beginner-77/
CATEGORIES:Navy
END:VEVENT
BEGIN:VEVENT
DTSTART;TZID=America/New_York:20211007T170000
DTEND;TZID=America/New_York:20211007T180000
DTSTAMP:20260425T071719
CREATED:20210716T191927Z
LAST-MODIFIED:20210924T202025Z
UID:4720-1633626000-1633629600@philadelphiadogtraining.org
SUMMARY:ADVANCED
DESCRIPTION:
URL:https://philadelphiadogtraining.org/event/advanced-37/
CATEGORIES:Light Blue
END:VEVENT
BEGIN:VEVENT
DTSTART;VALUE=DATE:20211007
DTEND;VALUE=DATE:20211008
DTSTAMP:20260425T071719
CREATED:20210716T191840Z
LAST-MODIFIED:20210924T202025Z
UID:4718-1633564800-1633651199@philadelphiadogtraining.org
SUMMARY:4TH NIGHT OF CLASSES
DESCRIPTION:
URL:https://philadelphiadogtraining.org/event/4th-night-of-classes-12/
CATEGORIES:Class Nights
END:VEVENT
BEGIN:VEVENT
DTSTART;TZID=America/New_York:20211006T200000
DTEND;TZID=America/New_York:20211006T210000
DTSTAMP:20260425T071719
CREATED:20210716T195822Z
LAST-MODIFIED:20210924T202025Z
UID:4831-1633550400-1633554000@philadelphiadogtraining.org
SUMMARY:RALLY
DESCRIPTION:
URL:https://philadelphiadogtraining.org/event/rally-46/
CATEGORIES:Yellow
END:VEVENT
BEGIN:VEVENT
DTSTART;TZID=America/New_York:20211006T184500
DTEND;TZID=America/New_York:20211006T194500
DTSTAMP:20260425T071719
CREATED:20210716T191840Z
LAST-MODIFIED:20210924T202023Z
UID:4715-1633545900-1633549500@philadelphiadogtraining.org
SUMMARY:BEGINNER
DESCRIPTION:
URL:https://philadelphiadogtraining.org/event/rally-40/
CATEGORIES:Navy
END:VEVENT
BEGIN:VEVENT
DTSTART;TZID=America/New_York:20211006T173000
DTEND;TZID=America/New_York:20211006T183000
DTSTAMP:20260425T071719
CREATED:20210716T191840Z
LAST-MODIFIED:20210924T202023Z
UID:4714-1633541400-1633545000@philadelphiadogtraining.org
SUMMARY:BEGINNER
DESCRIPTION:
URL:https://philadelphiadogtraining.org/event/beginner-76/
CATEGORIES:Light Blue
END:VEVENT
BEGIN:VEVENT
DTSTART;VALUE=DATE:20211006
DTEND;VALUE=DATE:20211007
DTSTAMP:20260425T071719
CREATED:20210716T191840Z
LAST-MODIFIED:20210924T202025Z
UID:4716-1633478400-1633564799@philadelphiadogtraining.org
SUMMARY:4TH NIGHT OF CLASSES
DESCRIPTION:
URL:https://philadelphiadogtraining.org/event/4th-night-of-classes-11/
CATEGORIES:Class Nights
END:VEVENT
BEGIN:VEVENT
DTSTART;TZID=America/New_York:20211005T190000
DTEND;TZID=America/New_York:20211005T203000
DTSTAMP:20260425T071719
CREATED:20210716T195822Z
LAST-MODIFIED:20210717T134005Z
UID:4828-1633460400-1633465800@philadelphiadogtraining.org
SUMMARY:OPEN
DESCRIPTION:
URL:https://philadelphiadogtraining.org/event/open-66/
CATEGORIES:Navy
END:VEVENT
BEGIN:VEVENT
DTSTART;TZID=America/New_York:20211005T173000
DTEND;TZID=America/New_York:20211005T190000
DTSTAMP:20260425T071719
CREATED:20210716T195822Z
LAST-MODIFIED:20210717T134121Z
UID:4829-1633455000-1633460400@philadelphiadogtraining.org
SUMMARY:UTILITY
DESCRIPTION:
URL:https://philadelphiadogtraining.org/event/utility-74/
CATEGORIES:Light Blue
END:VEVENT
END:VCALENDAR