BEGIN:VCALENDAR
VERSION:2.0
PRODID:-// - ECPv5.7.0//NONSGML v1.0//EN
CALSCALE:GREGORIAN
METHOD:PUBLISH
X-ORIGINAL-URL:https://philadelphiadogtraining.org
X-WR-CALDESC:Events for 
BEGIN:VTIMEZONE
TZID:America/New_York
BEGIN:DAYLIGHT
TZOFFSETFROM:-0500
TZOFFSETTO:-0400
TZNAME:EDT
DTSTART:20220313T070000
END:DAYLIGHT
BEGIN:STANDARD
TZOFFSETFROM:-0400
TZOFFSETTO:-0500
TZNAME:EST
DTSTART:20221106T060000
END:STANDARD
END:VTIMEZONE
BEGIN:VEVENT
DTSTART;TZID=America/New_York:20220502T194500
DTEND;TZID=America/New_York:20220502T204500
DTSTAMP:20260421T125039
CREATED:20220205T172258Z
LAST-MODIFIED:20220205T174012Z
UID:5898-1651520700-1651524300@philadelphiadogtraining.org
SUMMARY:NOVICE/FOUNDATION SKILLS
DESCRIPTION:
URL:https://philadelphiadogtraining.org/event/novice-foundation-skills-34/
CATEGORIES:Yellow
END:VEVENT
BEGIN:VEVENT
DTSTART;TZID=America/New_York:20220502T184500
DTEND;TZID=America/New_York:20220502T194500
DTSTAMP:20260421T125039
CREATED:20220205T172258Z
LAST-MODIFIED:20220205T174005Z
UID:5899-1651517100-1651520700@philadelphiadogtraining.org
SUMMARY:NOVICE RING READINESS
DESCRIPTION:
URL:https://philadelphiadogtraining.org/event/novice-ring-readiness-40/
CATEGORIES:Navy
END:VEVENT
BEGIN:VEVENT
DTSTART;TZID=America/New_York:20220502T173000
DTEND;TZID=America/New_York:20220502T183000
DTSTAMP:20260421T125039
CREATED:20220205T172258Z
LAST-MODIFIED:20220205T173959Z
UID:5897-1651512600-1651516200@philadelphiadogtraining.org
SUMMARY:PUPPY K
DESCRIPTION:
URL:https://philadelphiadogtraining.org/event/puppy-k-76/
CATEGORIES:Light Blue
END:VEVENT
BEGIN:VEVENT
DTSTART;TZID=America/New_York:20220428T190000
DTEND;TZID=America/New_York:20220428T200000
DTSTAMP:20260421T125039
CREATED:20220205T172254Z
LAST-MODIFIED:20220205T173942Z
UID:5895-1651172400-1651176000@philadelphiadogtraining.org
SUMMARY:INTERMEDIATE
DESCRIPTION:
URL:https://philadelphiadogtraining.org/event/intermediate-60/
CATEGORIES:Yellow
END:VEVENT
BEGIN:VEVENT
DTSTART;TZID=America/New_York:20220428T180000
DTEND;TZID=America/New_York:20220428T190000
DTSTAMP:20260421T125039
CREATED:20220205T172254Z
LAST-MODIFIED:20220210T211103Z
UID:5894-1651168800-1651172400@philadelphiadogtraining.org
SUMMARY:ADVANCED
DESCRIPTION:
URL:https://philadelphiadogtraining.org/event/advanced-76/
CATEGORIES:Navy
END:VEVENT
BEGIN:VEVENT
DTSTART;TZID=America/New_York:20220428T170000
DTEND;TZID=America/New_York:20220428T180000
DTSTAMP:20260421T125039
CREATED:20220205T172254Z
LAST-MODIFIED:20220205T173931Z
UID:5893-1651165200-1651168800@philadelphiadogtraining.org
SUMMARY:ADVANCED
DESCRIPTION:
URL:https://philadelphiadogtraining.org/event/advanced-75/
CATEGORIES:Light Blue
END:VEVENT
BEGIN:VEVENT
DTSTART;TZID=America/New_York:20220427T200000
DTEND;TZID=America/New_York:20220427T210000
DTSTAMP:20260421T125039
CREATED:20220205T172254Z
LAST-MODIFIED:20220205T173920Z
UID:5892-1651089600-1651093200@philadelphiadogtraining.org
SUMMARY:RALLY
DESCRIPTION:
URL:https://philadelphiadogtraining.org/event/rally-72/
CATEGORIES:Yellow
END:VEVENT
BEGIN:VEVENT
DTSTART;TZID=America/New_York:20220427T184500
DTEND;TZID=America/New_York:20220427T194500
DTSTAMP:20260421T125039
CREATED:20220205T172243Z
LAST-MODIFIED:20220205T173904Z
UID:5891-1651085100-1651088700@philadelphiadogtraining.org
SUMMARY:BEGINNER
DESCRIPTION:
URL:https://philadelphiadogtraining.org/event/beginner-151/
CATEGORIES:Navy
END:VEVENT
BEGIN:VEVENT
DTSTART;TZID=America/New_York:20220427T173000
DTEND;TZID=America/New_York:20220427T183000
DTSTAMP:20260421T125039
CREATED:20220205T172243Z
LAST-MODIFIED:20220205T173912Z
UID:5890-1651080600-1651084200@philadelphiadogtraining.org
SUMMARY:BEGINNER
DESCRIPTION:
URL:https://philadelphiadogtraining.org/event/beginner-150/
CATEGORIES:Light Blue
END:VEVENT
BEGIN:VEVENT
DTSTART;VALUE=DATE:20220427
DTEND;VALUE=DATE:20220429
DTSTAMP:20260421T125039
CREATED:20220207T201955Z
LAST-MODIFIED:20220207T201955Z
UID:6042-1651017600-1651190399@philadelphiadogtraining.org
SUMMARY:SECOND NIGHT OF CLASSES
DESCRIPTION:
URL:https://philadelphiadogtraining.org/event/second-night-of-classes-7/
CATEGORIES:Class Nights
END:VEVENT
BEGIN:VEVENT
DTSTART;TZID=America/New_York:20220426T190000
DTEND;TZID=America/New_York:20220426T203000
DTSTAMP:20260421T125039
CREATED:20220205T172243Z
LAST-MODIFIED:20220205T173843Z
UID:5888-1650999600-1651005000@philadelphiadogtraining.org
SUMMARY:OPEN
DESCRIPTION:
URL:https://philadelphiadogtraining.org/event/open-102/
CATEGORIES:Navy
END:VEVENT
BEGIN:VEVENT
DTSTART;TZID=America/New_York:20220426T173000
DTEND;TZID=America/New_York:20220426T190000
DTSTAMP:20260421T125039
CREATED:20220205T172243Z
LAST-MODIFIED:20220205T173834Z
UID:5889-1650994200-1650999600@philadelphiadogtraining.org
SUMMARY:UTILITY
DESCRIPTION:
URL:https://philadelphiadogtraining.org/event/utility-105/
CATEGORIES:Light Blue
END:VEVENT
BEGIN:VEVENT
DTSTART;TZID=America/New_York:20220425T194500
DTEND;TZID=America/New_York:20220425T204500
DTSTAMP:20260421T125039
CREATED:20220205T172243Z
LAST-MODIFIED:20220205T173825Z
UID:5886-1650915900-1650919500@philadelphiadogtraining.org
SUMMARY:NOVICE/FOUNDATION SKILLS
DESCRIPTION:
URL:https://philadelphiadogtraining.org/event/novice-foundation-skills-33/
CATEGORIES:Yellow
END:VEVENT
BEGIN:VEVENT
DTSTART;TZID=America/New_York:20220425T184500
DTEND;TZID=America/New_York:20220425T194500
DTSTAMP:20260421T125039
CREATED:20220205T172243Z
LAST-MODIFIED:20220205T173819Z
UID:5887-1650912300-1650915900@philadelphiadogtraining.org
SUMMARY:NOVICE RING READINESS
DESCRIPTION:
URL:https://philadelphiadogtraining.org/event/novice-ring-readiness-39/
CATEGORIES:Navy
END:VEVENT
BEGIN:VEVENT
DTSTART;TZID=America/New_York:20220425T173000
DTEND;TZID=America/New_York:20220425T183000
DTSTAMP:20260421T125039
CREATED:20220205T172243Z
LAST-MODIFIED:20220205T173814Z
UID:5885-1650907800-1650911400@philadelphiadogtraining.org
SUMMARY:PUPPY K
DESCRIPTION:
URL:https://philadelphiadogtraining.org/event/puppy-k-75/
CATEGORIES:Light Blue
END:VEVENT
BEGIN:VEVENT
DTSTART;TZID=America/New_York:20220421T190000
DTEND;TZID=America/New_York:20220421T200000
DTSTAMP:20260421T125039
CREATED:20220205T172242Z
LAST-MODIFIED:20220205T173736Z
UID:5884-1650567600-1650571200@philadelphiadogtraining.org
SUMMARY:INTERMEDIATE
DESCRIPTION:
URL:https://philadelphiadogtraining.org/event/intermediate-59/
CATEGORIES:Yellow
END:VEVENT
BEGIN:VEVENT
DTSTART;TZID=America/New_York:20220421T180000
DTEND;TZID=America/New_York:20220421T190000
DTSTAMP:20260421T125039
CREATED:20220205T172242Z
LAST-MODIFIED:20220210T211033Z
UID:5883-1650564000-1650567600@philadelphiadogtraining.org
SUMMARY:ADVANCED
DESCRIPTION:
URL:https://philadelphiadogtraining.org/event/advanced-74/
CATEGORIES:Navy
END:VEVENT
BEGIN:VEVENT
DTSTART;TZID=America/New_York:20220421T170000
DTEND;TZID=America/New_York:20220421T180000
DTSTAMP:20260421T125039
CREATED:20220205T172242Z
LAST-MODIFIED:20220205T173722Z
UID:5882-1650560400-1650564000@philadelphiadogtraining.org
SUMMARY:ADVANCED
DESCRIPTION:
URL:https://philadelphiadogtraining.org/event/advanced-73/
CATEGORIES:Light Blue
END:VEVENT
BEGIN:VEVENT
DTSTART;TZID=America/New_York:20220420T200000
DTEND;TZID=America/New_York:20220420T210000
DTSTAMP:20260421T125039
CREATED:20220205T172239Z
LAST-MODIFIED:20220205T173710Z
UID:5880-1650484800-1650488400@philadelphiadogtraining.org
SUMMARY:RALLY
DESCRIPTION:
URL:https://philadelphiadogtraining.org/event/rally-71/
CATEGORIES:Yellow
END:VEVENT
BEGIN:VEVENT
DTSTART;TZID=America/New_York:20220420T184500
DTEND;TZID=America/New_York:20220420T194500
DTSTAMP:20260421T125039
CREATED:20220205T172239Z
LAST-MODIFIED:20220205T173702Z
UID:5879-1650480300-1650483900@philadelphiadogtraining.org
SUMMARY:BEGINNER
DESCRIPTION:
URL:https://philadelphiadogtraining.org/event/beginner-148/
CATEGORIES:Navy
END:VEVENT
BEGIN:VEVENT
DTSTART;TZID=America/New_York:20220420T173000
DTEND;TZID=America/New_York:20220420T183000
DTSTAMP:20260421T125039
CREATED:20220205T172239Z
LAST-MODIFIED:20220205T173656Z
UID:5878-1650475800-1650479400@philadelphiadogtraining.org
SUMMARY:BEGINNER
DESCRIPTION:
URL:https://philadelphiadogtraining.org/event/beginner-147/
CATEGORIES:Light Blue
END:VEVENT
BEGIN:VEVENT
DTSTART;VALUE=DATE:20220420
DTEND;VALUE=DATE:20220422
DTSTAMP:20260421T125039
CREATED:20220207T201902Z
LAST-MODIFIED:20220207T201902Z
UID:6040-1650412800-1650585599@philadelphiadogtraining.org
SUMMARY:FIRST NIGHT OF CLASSES
DESCRIPTION:
URL:https://philadelphiadogtraining.org/event/first-night-of-classes-19/
CATEGORIES:Class Nights
END:VEVENT
BEGIN:VEVENT
DTSTART;TZID=America/New_York:20220419T190000
DTEND;TZID=America/New_York:20220419T203000
DTSTAMP:20260421T125039
CREATED:20220205T172239Z
LAST-MODIFIED:20220205T173649Z
UID:5877-1650394800-1650400200@philadelphiadogtraining.org
SUMMARY:OPEN
DESCRIPTION:
URL:https://philadelphiadogtraining.org/event/open-101/
CATEGORIES:Navy
END:VEVENT
BEGIN:VEVENT
DTSTART;TZID=America/New_York:20220419T173000
DTEND;TZID=America/New_York:20220419T190000
DTSTAMP:20260421T125039
CREATED:20220205T172234Z
LAST-MODIFIED:20220205T173644Z
UID:5876-1650389400-1650394800@philadelphiadogtraining.org
SUMMARY:UTILITY
DESCRIPTION:
URL:https://philadelphiadogtraining.org/event/utility-104/
CATEGORIES:Light Blue
END:VEVENT
BEGIN:VEVENT
DTSTART;TZID=America/New_York:20220418T194500
DTEND;TZID=America/New_York:20220418T204500
DTSTAMP:20260421T125039
CREATED:20220205T172234Z
LAST-MODIFIED:20220205T173630Z
UID:5875-1650311100-1650314700@philadelphiadogtraining.org
SUMMARY:NOVICE/FOUNDATION SKILLS
DESCRIPTION:
URL:https://philadelphiadogtraining.org/event/novice-foundation-skills-32/
CATEGORIES:Yellow
END:VEVENT
BEGIN:VEVENT
DTSTART;TZID=America/New_York:20220418T184500
DTEND;TZID=America/New_York:20220418T194500
DTSTAMP:20260421T125039
CREATED:20220205T172234Z
LAST-MODIFIED:20220205T173621Z
UID:5874-1650307500-1650311100@philadelphiadogtraining.org
SUMMARY:NOVICE RING READINESS
DESCRIPTION:
URL:https://philadelphiadogtraining.org/event/novice-ring-readiness-38/
CATEGORIES:Navy
END:VEVENT
BEGIN:VEVENT
DTSTART;TZID=America/New_York:20220418T173000
DTEND;TZID=America/New_York:20220418T183000
DTSTAMP:20260421T125039
CREATED:20220205T172234Z
LAST-MODIFIED:20220205T173617Z
UID:5873-1650303000-1650306600@philadelphiadogtraining.org
SUMMARY:PUPPY K
DESCRIPTION:
URL:https://philadelphiadogtraining.org/event/puppy-k-74/
CATEGORIES:Light Blue
END:VEVENT
BEGIN:VEVENT
DTSTART;TZID=America/New_York:20220414T170000
DTEND;TZID=America/New_York:20220414T200000
DTSTAMP:20260421T125039
CREATED:20220207T195511Z
LAST-MODIFIED:20220207T195523Z
UID:6007-1649955600-1649966400@philadelphiadogtraining.org
SUMMARY:CGC TESTING
DESCRIPTION:
URL:https://philadelphiadogtraining.org/event/cgc-testing-4/
CATEGORIES:Light Blue
END:VEVENT
BEGIN:VEVENT
DTSTART;VALUE=DATE:20220414
DTEND;VALUE=DATE:20220415
DTSTAMP:20260421T125039
CREATED:20210926T155554Z
LAST-MODIFIED:20220207T194428Z
UID:5274-1649894400-1649980799@philadelphiadogtraining.org
SUMMARY:NO CLASSES
DESCRIPTION:
URL:https://philadelphiadogtraining.org/event/no-classes-18/
CATEGORIES:NO CLASSES,Yellow
END:VEVENT
BEGIN:VEVENT
DTSTART;TZID=America/New_York:20220413T184500
DTEND;TZID=America/New_York:20220413T194500
DTSTAMP:20260421T125039
CREATED:20220209T211059Z
LAST-MODIFIED:20220209T211059Z
UID:6098-1649875500-1649879100@philadelphiadogtraining.org
SUMMARY:BEGINNER
DESCRIPTION:
URL:https://philadelphiadogtraining.org/event/beginner-165/
CATEGORIES:Light Blue
END:VEVENT
END:VCALENDAR