BEGIN:VCALENDAR
VERSION:2.0
PRODID:-// - ECPv5.7.0//NONSGML v1.0//EN
CALSCALE:GREGORIAN
METHOD:PUBLISH
X-ORIGINAL-URL:https://philadelphiadogtraining.org
X-WR-CALDESC:Events for 
BEGIN:VTIMEZONE
TZID:America/New_York
BEGIN:DAYLIGHT
TZOFFSETFROM:-0500
TZOFFSETTO:-0400
TZNAME:EDT
DTSTART:20210314T070000
END:DAYLIGHT
BEGIN:STANDARD
TZOFFSETFROM:-0400
TZOFFSETTO:-0500
TZNAME:EST
DTSTART:20211107T060000
END:STANDARD
END:VTIMEZONE
BEGIN:VEVENT
DTSTART;VALUE=DATE:20211221
DTEND;VALUE=DATE:20211222
DTSTAMP:20260425T084952
CREATED:20211130T220231Z
LAST-MODIFIED:20211130T220231Z
UID:5727-1640044800-1640131199@philadelphiadogtraining.org
SUMMARY:NO CLASSES
DESCRIPTION:
URL:https://philadelphiadogtraining.org/event/no-classes-25/
CATEGORIES:NO CLASSES,Yellow
END:VEVENT
BEGIN:VEVENT
DTSTART;TZID=America/New_York:20211220T173000
DTEND;TZID=America/New_York:20211220T183000
DTSTAMP:20260425T084952
CREATED:20210819T173147Z
LAST-MODIFIED:20211114T192643Z
UID:5124-1640021400-1640025000@philadelphiadogtraining.org
SUMMARY:PUPPY K
DESCRIPTION:
URL:https://philadelphiadogtraining.org/event/puppy-k-53/
CATEGORIES:Light Blue
END:VEVENT
BEGIN:VEVENT
DTSTART;TZID=America/New_York:20211216T190000
DTEND;TZID=America/New_York:20211216T200000
DTSTAMP:20260425T084952
CREATED:20210819T173131Z
LAST-MODIFIED:20211114T192441Z
UID:5108-1639681200-1639684800@philadelphiadogtraining.org
SUMMARY:INTERMEDIATE
DESCRIPTION:
URL:https://philadelphiadogtraining.org/event/intermediate-43/
CATEGORIES:Yellow
END:VEVENT
BEGIN:VEVENT
DTSTART;TZID=America/New_York:20211216T180000
DTEND;TZID=America/New_York:20211216T190000
DTSTAMP:20260425T084952
CREATED:20210819T173137Z
LAST-MODIFIED:20211114T192441Z
UID:5109-1639677600-1639681200@philadelphiadogtraining.org
SUMMARY:BEGINNER
DESCRIPTION:
URL:https://philadelphiadogtraining.org/event/beginner-93/
CATEGORIES:Navy
END:VEVENT
BEGIN:VEVENT
DTSTART;TZID=America/New_York:20211216T170000
DTEND;TZID=America/New_York:20211216T180000
DTSTAMP:20260425T084952
CREATED:20210819T173137Z
LAST-MODIFIED:20211114T192441Z
UID:5110-1639674000-1639677600@philadelphiadogtraining.org
SUMMARY:ADVANCED
DESCRIPTION:
URL:https://philadelphiadogtraining.org/event/advanced-43/
CATEGORIES:Light Blue
END:VEVENT
BEGIN:VEVENT
DTSTART;VALUE=DATE:20211216
DTEND;VALUE=DATE:20211217
DTSTAMP:20260425T084952
CREATED:20210819T173120Z
LAST-MODIFIED:20211114T192440Z
UID:5103-1639612800-1639699199@philadelphiadogtraining.org
SUMMARY:FOURTH NIGHT OF CLASSES
DESCRIPTION:
URL:https://philadelphiadogtraining.org/event/fourth-night-of-classes/
CATEGORIES:Class Nights
END:VEVENT
BEGIN:VEVENT
DTSTART;TZID=America/New_York:20211215T200000
DTEND;TZID=America/New_York:20211215T210000
DTSTAMP:20260425T084952
CREATED:20210819T173131Z
LAST-MODIFIED:20211114T192441Z
UID:5107-1639598400-1639602000@philadelphiadogtraining.org
SUMMARY:RALLY
DESCRIPTION:
URL:https://philadelphiadogtraining.org/event/rally-52/
CATEGORIES:Yellow
END:VEVENT
BEGIN:VEVENT
DTSTART;TZID=America/New_York:20211215T184500
DTEND;TZID=America/New_York:20211215T194500
DTSTAMP:20260425T084952
CREATED:20210819T173143Z
LAST-MODIFIED:20211114T192436Z
UID:5117-1639593900-1639597500@philadelphiadogtraining.org
SUMMARY:BEGINNER
DESCRIPTION:
URL:https://philadelphiadogtraining.org/event/beginner-95/
CATEGORIES:Navy
END:VEVENT
BEGIN:VEVENT
DTSTART;TZID=America/New_York:20211215T173000
DTEND;TZID=America/New_York:20211215T183000
DTSTAMP:20260425T084952
CREATED:20210819T173143Z
LAST-MODIFIED:20211114T192436Z
UID:5116-1639589400-1639593000@philadelphiadogtraining.org
SUMMARY:BEGINNER
DESCRIPTION:
URL:https://philadelphiadogtraining.org/event/beginner-94/
CATEGORIES:Light Blue
END:VEVENT
BEGIN:VEVENT
DTSTART;VALUE=DATE:20211215
DTEND;VALUE=DATE:20211216
DTSTAMP:20260425T084952
CREATED:20210819T173130Z
LAST-MODIFIED:20211114T192440Z
UID:5105-1639526400-1639612799@philadelphiadogtraining.org
SUMMARY:FOURTH NIGHT OF CLASSES
DESCRIPTION:
URL:https://philadelphiadogtraining.org/event/fourth-night-of-classes-2/
CATEGORIES:Class Nights
END:VEVENT
BEGIN:VEVENT
DTSTART;TZID=America/New_York:20211214T190000
DTEND;TZID=America/New_York:20211214T203000
DTSTAMP:20260425T084952
CREATED:20210819T173143Z
LAST-MODIFIED:20211114T192436Z
UID:5114-1639508400-1639513800@philadelphiadogtraining.org
SUMMARY:OPEN
DESCRIPTION:
URL:https://philadelphiadogtraining.org/event/open-81/
CATEGORIES:Navy
END:VEVENT
BEGIN:VEVENT
DTSTART;TZID=America/New_York:20211214T173000
DTEND;TZID=America/New_York:20211214T190000
DTSTAMP:20260425T084952
CREATED:20210819T173143Z
LAST-MODIFIED:20211114T192436Z
UID:5115-1639503000-1639508400@philadelphiadogtraining.org
SUMMARY:UTILITY
DESCRIPTION:
URL:https://philadelphiadogtraining.org/event/utility-84/
CATEGORIES:Light Blue
END:VEVENT
BEGIN:VEVENT
DTSTART;TZID=America/New_York:20211213T194500
DTEND;TZID=America/New_York:20211213T204500
DTSTAMP:20260425T084952
CREATED:20210819T173137Z
LAST-MODIFIED:20211114T192435Z
UID:5113-1639424700-1639428300@philadelphiadogtraining.org
SUMMARY:NOVICE/FOUNDATION SKILLS
DESCRIPTION:
URL:https://philadelphiadogtraining.org/event/novice-foundation-skills-13/
CATEGORIES:Yellow
END:VEVENT
BEGIN:VEVENT
DTSTART;TZID=America/New_York:20211213T184500
DTEND;TZID=America/New_York:20211213T194500
DTSTAMP:20260425T084952
CREATED:20210819T173137Z
LAST-MODIFIED:20211114T192434Z
UID:5112-1639421100-1639424700@philadelphiadogtraining.org
SUMMARY:NOVICE RING READINESS
DESCRIPTION:
URL:https://philadelphiadogtraining.org/event/novice-ring-readiness-19/
CATEGORIES:Navy
END:VEVENT
BEGIN:VEVENT
DTSTART;TZID=America/New_York:20211213T173000
DTEND;TZID=America/New_York:20211213T183000
DTSTAMP:20260425T084952
CREATED:20210819T173137Z
LAST-MODIFIED:20211114T192434Z
UID:5111-1639416600-1639420200@philadelphiadogtraining.org
SUMMARY:PUPPY K
DESCRIPTION:
URL:https://philadelphiadogtraining.org/event/puppy-k-52/
CATEGORIES:Light Blue
END:VEVENT
BEGIN:VEVENT
DTSTART;VALUE=DATE:20211206
DTEND;VALUE=DATE:20211210
DTSTAMP:20260425T084952
CREATED:20211114T192434Z
LAST-MODIFIED:20211115T152850Z
UID:5310-1638748800-1639094399@philadelphiadogtraining.org
SUMMARY:NO CLASSES
DESCRIPTION:
URL:https://philadelphiadogtraining.org/event/no-classes-26/
CATEGORIES:NO CLASSES
END:VEVENT
BEGIN:VEVENT
DTSTART;TZID=America/New_York:20211202T190000
DTEND;TZID=America/New_York:20211202T200000
DTSTAMP:20260425T084952
CREATED:20210819T173116Z
LAST-MODIFIED:20211114T192425Z
UID:5097-1638471600-1638475200@philadelphiadogtraining.org
SUMMARY:INTERMEDIATE
DESCRIPTION:
URL:https://philadelphiadogtraining.org/event/intermediate-42/
CATEGORIES:Yellow
END:VEVENT
BEGIN:VEVENT
DTSTART;TZID=America/New_York:20211202T180000
DTEND;TZID=America/New_York:20211202T190000
DTSTAMP:20260425T084952
CREATED:20210819T173116Z
LAST-MODIFIED:20211114T192434Z
UID:5096-1638468000-1638471600@philadelphiadogtraining.org
SUMMARY:BEGINNER
DESCRIPTION:
URL:https://philadelphiadogtraining.org/event/beginner-90/
CATEGORIES:Navy
END:VEVENT
BEGIN:VEVENT
DTSTART;TZID=America/New_York:20211202T170000
DTEND;TZID=America/New_York:20211202T180000
DTSTAMP:20260425T084952
CREATED:20210819T173116Z
LAST-MODIFIED:20211114T192434Z
UID:5095-1638464400-1638468000@philadelphiadogtraining.org
SUMMARY:ADVANCED
DESCRIPTION:
URL:https://philadelphiadogtraining.org/event/advanced-42/
CATEGORIES:Light Blue
END:VEVENT
BEGIN:VEVENT
DTSTART;VALUE=DATE:20211202
DTEND;VALUE=DATE:20211203
DTSTAMP:20260425T084952
CREATED:20210819T173115Z
LAST-MODIFIED:20211114T192425Z
UID:5093-1638403200-1638489599@philadelphiadogtraining.org
SUMMARY:THIRD NIGHT OF CLASSES
DESCRIPTION:
URL:https://philadelphiadogtraining.org/event/third-night-of-classes/
CATEGORIES:Class Nights
END:VEVENT
BEGIN:VEVENT
DTSTART;TZID=America/New_York:20211201T200000
DTEND;TZID=America/New_York:20211201T210000
DTSTAMP:20260425T084952
CREATED:20210819T173115Z
LAST-MODIFIED:20211114T192425Z
UID:5092-1638388800-1638392400@philadelphiadogtraining.org
SUMMARY:RALLY
DESCRIPTION:
URL:https://philadelphiadogtraining.org/event/rally-51/
CATEGORIES:Yellow
END:VEVENT
BEGIN:VEVENT
DTSTART;TZID=America/New_York:20211201T184500
DTEND;TZID=America/New_York:20211201T194500
DTSTAMP:20260425T084952
CREATED:20210819T173115Z
LAST-MODIFIED:20211114T192425Z
UID:5091-1638384300-1638387900@philadelphiadogtraining.org
SUMMARY:BEGINNER
DESCRIPTION:
URL:https://philadelphiadogtraining.org/event/beginner-89/
CATEGORIES:Navy
END:VEVENT
BEGIN:VEVENT
DTSTART;TZID=America/New_York:20211201T173000
DTEND;TZID=America/New_York:20211201T183000
DTSTAMP:20260425T084952
CREATED:20210819T173115Z
LAST-MODIFIED:20211114T192425Z
UID:5090-1638379800-1638383400@philadelphiadogtraining.org
SUMMARY:BEGINNER
DESCRIPTION:
URL:https://philadelphiadogtraining.org/event/beginner-88/
CATEGORIES:Light Blue
END:VEVENT
BEGIN:VEVENT
DTSTART;VALUE=DATE:20211201
DTEND;VALUE=DATE:20211202
DTSTAMP:20260425T084952
CREATED:20210819T173116Z
LAST-MODIFIED:20211114T192425Z
UID:5094-1638316800-1638403199@philadelphiadogtraining.org
SUMMARY:THIRD NIGHT OF CLASSES
DESCRIPTION:
URL:https://philadelphiadogtraining.org/event/third-night-of-classes-2/
CATEGORIES:Class Nights
END:VEVENT
BEGIN:VEVENT
DTSTART;TZID=America/New_York:20211130T190000
DTEND;TZID=America/New_York:20211130T203000
DTSTAMP:20260425T084952
CREATED:20210819T173113Z
LAST-MODIFIED:20211114T192425Z
UID:5088-1638298800-1638304200@philadelphiadogtraining.org
SUMMARY:OPEN
DESCRIPTION:
URL:https://philadelphiadogtraining.org/event/open-79/
CATEGORIES:Navy
END:VEVENT
BEGIN:VEVENT
DTSTART;TZID=America/New_York:20211130T173000
DTEND;TZID=America/New_York:20211130T190000
DTSTAMP:20260425T084952
CREATED:20210819T173115Z
LAST-MODIFIED:20211114T192425Z
UID:5089-1638293400-1638298800@philadelphiadogtraining.org
SUMMARY:UTILITY
DESCRIPTION:
URL:https://philadelphiadogtraining.org/event/utility-82/
CATEGORIES:Light Blue
END:VEVENT
BEGIN:VEVENT
DTSTART;TZID=America/New_York:20211129T194500
DTEND;TZID=America/New_York:20211129T204500
DTSTAMP:20260425T084952
CREATED:20210819T173113Z
LAST-MODIFIED:20211114T192425Z
UID:5087-1638215100-1638218700@philadelphiadogtraining.org
SUMMARY:NOVICE/FOUNDATION SKILLS
DESCRIPTION:
URL:https://philadelphiadogtraining.org/event/novice-foundation-skills-11/
CATEGORIES:Yellow
END:VEVENT
BEGIN:VEVENT
DTSTART;TZID=America/New_York:20211129T184500
DTEND;TZID=America/New_York:20211129T194500
DTSTAMP:20260425T084952
CREATED:20210819T173113Z
LAST-MODIFIED:20211114T192425Z
UID:5086-1638211500-1638215100@philadelphiadogtraining.org
SUMMARY:NOVICE RING READINESS
DESCRIPTION:
URL:https://philadelphiadogtraining.org/event/novice-ring-readiness-17/
CATEGORIES:Navy
END:VEVENT
BEGIN:VEVENT
DTSTART;TZID=America/New_York:20211129T173000
DTEND;TZID=America/New_York:20211129T183000
DTSTAMP:20260425T084952
CREATED:20210819T173113Z
LAST-MODIFIED:20211114T192403Z
UID:5085-1638207000-1638210600@philadelphiadogtraining.org
SUMMARY:PUPPY K
DESCRIPTION:
URL:https://philadelphiadogtraining.org/event/puppy-k-50/
CATEGORIES:Light Blue
END:VEVENT
BEGIN:VEVENT
DTSTART;VALUE=DATE:20211124
DTEND;VALUE=DATE:20211126
DTSTAMP:20260425T084952
CREATED:20210819T173113Z
LAST-MODIFIED:20211114T192403Z
UID:5084-1637712000-1637884799@philadelphiadogtraining.org
SUMMARY:NO CLASSES
DESCRIPTION:
URL:https://philadelphiadogtraining.org/event/no-classes-21/
CATEGORIES:NO CLASSES
END:VEVENT
END:VCALENDAR