BEGIN:VCALENDAR
VERSION:2.0
PRODID:-// - ECPv5.7.0//NONSGML v1.0//EN
CALSCALE:GREGORIAN
METHOD:PUBLISH
X-ORIGINAL-URL:https://philadelphiadogtraining.org
X-WR-CALDESC:Events for 
BEGIN:VTIMEZONE
TZID:America/New_York
BEGIN:DAYLIGHT
TZOFFSETFROM:-0500
TZOFFSETTO:-0400
TZNAME:EDT
DTSTART:20220313T070000
END:DAYLIGHT
BEGIN:STANDARD
TZOFFSETFROM:-0400
TZOFFSETTO:-0500
TZNAME:EST
DTSTART:20221106T060000
END:STANDARD
END:VTIMEZONE
BEGIN:VEVENT
DTSTART;VALUE=DATE:20220615
DTEND;VALUE=DATE:20220617
DTSTAMP:20260421T045739
CREATED:20220415T191900Z
LAST-MODIFIED:20220423T145220Z
UID:6369-1655251200-1655423999@philadelphiadogtraining.org
SUMMARY:FIRST NIGHT OF CLASSES
DESCRIPTION:
URL:https://philadelphiadogtraining.org/event/first-night-of-classes-20/
CATEGORIES:Class Nights
END:VEVENT
BEGIN:VEVENT
DTSTART;TZID=America/New_York:20220614T190000
DTEND;TZID=America/New_York:20220614T203000
DTSTAMP:20260421T045739
CREATED:20220419T024213Z
LAST-MODIFIED:20220419T024213Z
UID:6459-1655233200-1655238600@philadelphiadogtraining.org
SUMMARY:OPEN
DESCRIPTION:
URL:https://philadelphiadogtraining.org/event/open-113/
CATEGORIES:Navy
END:VEVENT
BEGIN:VEVENT
DTSTART;TZID=America/New_York:20220614T173000
DTEND;TZID=America/New_York:20220614T190000
DTSTAMP:20260421T045739
CREATED:20220419T023548Z
LAST-MODIFIED:20220419T023628Z
UID:6438-1655227800-1655233200@philadelphiadogtraining.org
SUMMARY:UTILITY
DESCRIPTION:
URL:https://philadelphiadogtraining.org/event/utility-114/
CATEGORIES:Light Blue
END:VEVENT
BEGIN:VEVENT
DTSTART;TZID=America/New_York:20220613T194500
DTEND;TZID=America/New_York:20220613T204500
DTSTAMP:20260421T045739
CREATED:20220419T023228Z
LAST-MODIFIED:20220419T023228Z
UID:6425-1655149500-1655153100@philadelphiadogtraining.org
SUMMARY:NOVICE/FOUNDATION SKILLS
DESCRIPTION:
URL:https://philadelphiadogtraining.org/event/novice-foundation-skills-43/
CATEGORIES:Yellow
END:VEVENT
BEGIN:VEVENT
DTSTART;TZID=America/New_York:20220613T184500
DTEND;TZID=America/New_York:20220613T194500
DTSTAMP:20260421T045739
CREATED:20220419T022451Z
LAST-MODIFIED:20220419T022451Z
UID:6405-1655145900-1655149500@philadelphiadogtraining.org
SUMMARY:NOVICE RING READINESS
DESCRIPTION:
URL:https://philadelphiadogtraining.org/event/novice-ring-readiness-44/
CATEGORIES:Navy
END:VEVENT
BEGIN:VEVENT
DTSTART;TZID=America/New_York:20220613T173000
DTEND;TZID=America/New_York:20220613T183000
DTSTAMP:20260421T045739
CREATED:20220419T021859Z
LAST-MODIFIED:20220419T021859Z
UID:6390-1655141400-1655145000@philadelphiadogtraining.org
SUMMARY:PUPPY K
DESCRIPTION:
URL:https://philadelphiadogtraining.org/event/puppy-k-80/
CATEGORIES:Light Blue
END:VEVENT
BEGIN:VEVENT
DTSTART;VALUE=DATE:20220608
DTEND;VALUE=DATE:20220610
DTSTAMP:20260421T045739
CREATED:20220423T144830Z
LAST-MODIFIED:20220423T144830Z
UID:6487-1654646400-1654819199@philadelphiadogtraining.org
SUMMARY:NO CLASSES
DESCRIPTION:
URL:https://philadelphiadogtraining.org/event/no-classes-35/
CATEGORIES:NO CLASSES,Yellow
END:VEVENT
BEGIN:VEVENT
DTSTART;TZID=America/New_York:20220607T190000
DTEND;TZID=America/New_York:20220607T203000
DTSTAMP:20260421T045739
CREATED:20220419T024233Z
LAST-MODIFIED:20220419T024233Z
UID:6460-1654628400-1654633800@philadelphiadogtraining.org
SUMMARY:OPEN
DESCRIPTION:
URL:https://philadelphiadogtraining.org/event/open-114/
CATEGORIES:Navy
END:VEVENT
BEGIN:VEVENT
DTSTART;TZID=America/New_York:20220607T173000
DTEND;TZID=America/New_York:20220607T190000
DTSTAMP:20260421T045739
CREATED:20220419T023651Z
LAST-MODIFIED:20220419T023651Z
UID:6436-1654623000-1654628400@philadelphiadogtraining.org
SUMMARY:UTILITY
DESCRIPTION:
URL:https://philadelphiadogtraining.org/event/utility-115/
CATEGORIES:Light Blue
END:VEVENT
BEGIN:VEVENT
DTSTART;VALUE=DATE:20220606
DTEND;VALUE=DATE:20220607
DTSTAMP:20260421T045739
CREATED:20220423T144707Z
LAST-MODIFIED:20220423T144707Z
UID:6485-1654473600-1654559999@philadelphiadogtraining.org
SUMMARY:NO CLASSES
DESCRIPTION:
URL:https://philadelphiadogtraining.org/event/no-classes-11/
CATEGORIES:NO CLASSES,Yellow
END:VEVENT
BEGIN:VEVENT
DTSTART;TZID=America/New_York:20220602T170000
DTEND;TZID=America/New_York:20220602T200000
DTSTAMP:20260421T045739
CREATED:20220207T195840Z
LAST-MODIFIED:20220207T195840Z
UID:5283-1654189200-1654200000@philadelphiadogtraining.org
SUMMARY:CGC TESTING
DESCRIPTION:
URL:https://philadelphiadogtraining.org/event/cgc-testing-7/
CATEGORIES:CGC TESTING
END:VEVENT
BEGIN:VEVENT
DTSTART;VALUE=DATE:20220602
DTEND;VALUE=DATE:20220603
DTSTAMP:20260421T045739
CREATED:20220207T200012Z
LAST-MODIFIED:20220210T211446Z
UID:6010-1654128000-1654214399@philadelphiadogtraining.org
SUMMARY:NO CLASSES
DESCRIPTION:
URL:https://philadelphiadogtraining.org/event/no-classes-32/
CATEGORIES:NO CLASSES,Yellow
END:VEVENT
BEGIN:VEVENT
DTSTART;TZID=America/New_York:20220601T184500
DTEND;TZID=America/New_York:20220601T194500
DTSTAMP:20260421T045739
CREATED:20220210T210747Z
LAST-MODIFIED:20220210T210820Z
UID:6118-1654109100-1654112700@philadelphiadogtraining.org
SUMMARY:BEGINNER
DESCRIPTION:
URL:https://philadelphiadogtraining.org/event/beginner-164/
CATEGORIES:Navy
END:VEVENT
BEGIN:VEVENT
DTSTART;TZID=America/New_York:20220601T173000
DTEND;TZID=America/New_York:20220601T183000
DTSTAMP:20260421T045739
CREATED:20220210T210702Z
LAST-MODIFIED:20220210T210702Z
UID:6116-1654104600-1654108200@philadelphiadogtraining.org
SUMMARY:BEGINNER
DESCRIPTION:
URL:https://philadelphiadogtraining.org/event/beginner-163/
CATEGORIES:Light Blue
END:VEVENT
BEGIN:VEVENT
DTSTART;VALUE=DATE:20220601
DTEND;VALUE=DATE:20220602
DTSTAMP:20260421T045739
CREATED:20220210T210927Z
LAST-MODIFIED:20220210T210927Z
UID:6120-1654041600-1654127999@philadelphiadogtraining.org
SUMMARY:LAST NIGHT OF CLASSES
DESCRIPTION:
URL:https://philadelphiadogtraining.org/event/last-night-of-classes-24/
CATEGORIES:Class Nights,Light Blue
END:VEVENT
BEGIN:VEVENT
DTSTART;TZID=America/New_York:20220531T190000
DTEND;TZID=America/New_York:20220531T203000
DTSTAMP:20260421T045739
CREATED:20220207T202908Z
LAST-MODIFIED:20220207T202908Z
UID:6064-1654023600-1654029000@philadelphiadogtraining.org
SUMMARY:OPEN
DESCRIPTION:
URL:https://philadelphiadogtraining.org/event/open-107/
CATEGORIES:Navy
END:VEVENT
BEGIN:VEVENT
DTSTART;TZID=America/New_York:20220531T173000
DTEND;TZID=America/New_York:20220531T190000
DTSTAMP:20260421T045739
CREATED:20220419T023837Z
LAST-MODIFIED:20220419T023837Z
UID:6450-1654018200-1654023600@philadelphiadogtraining.org
SUMMARY:UTILITY
DESCRIPTION:
URL:https://philadelphiadogtraining.org/event/utility-117/
CATEGORIES:Light Blue
END:VEVENT
BEGIN:VEVENT
DTSTART;VALUE=DATE:20220530
DTEND;VALUE=DATE:20220531
DTSTAMP:20260421T045739
CREATED:20220406T010452Z
LAST-MODIFIED:20220406T010452Z
UID:6274-1653868800-1653955199@philadelphiadogtraining.org
SUMMARY:NO CLASSES
DESCRIPTION:
URL:https://philadelphiadogtraining.org/event/no-classes-33/
CATEGORIES:NO CLASSES,Yellow
END:VEVENT
BEGIN:VEVENT
DTSTART;TZID=America/New_York:20220526T190000
DTEND;TZID=America/New_York:20220526T200000
DTSTAMP:20260421T045739
CREATED:20220207T201650Z
LAST-MODIFIED:20220207T201650Z
UID:6038-1653591600-1653595200@philadelphiadogtraining.org
SUMMARY:INTERMEDIATE
DESCRIPTION:
URL:https://philadelphiadogtraining.org/event/intermediate-64/
CATEGORIES:Yellow
END:VEVENT
BEGIN:VEVENT
DTSTART;TZID=America/New_York:20220526T180000
DTEND;TZID=America/New_York:20220526T190000
DTSTAMP:20260421T045739
CREATED:20220207T200956Z
LAST-MODIFIED:20220210T211301Z
UID:6026-1653588000-1653591600@philadelphiadogtraining.org
SUMMARY:ADVANCED
DESCRIPTION:
URL:https://philadelphiadogtraining.org/event/advanced-82/
CATEGORIES:Navy
END:VEVENT
BEGIN:VEVENT
DTSTART;TZID=America/New_York:20220526T170000
DTEND;TZID=America/New_York:20220526T180000
DTSTAMP:20260421T045739
CREATED:20220207T201353Z
LAST-MODIFIED:20220207T201353Z
UID:6030-1653584400-1653588000@philadelphiadogtraining.org
SUMMARY:ADVANCED
DESCRIPTION:
URL:https://philadelphiadogtraining.org/event/advanced-84/
CATEGORIES:Light Blue
END:VEVENT
BEGIN:VEVENT
DTSTART;TZID=America/New_York:20220525T200000
DTEND;TZID=America/New_York:20220525T210000
DTSTAMP:20260421T045739
CREATED:20220207T200808Z
LAST-MODIFIED:20220207T200808Z
UID:6022-1653508800-1653512400@philadelphiadogtraining.org
SUMMARY:RALLY
DESCRIPTION:
URL:https://philadelphiadogtraining.org/event/rally-76/
CATEGORIES:Yellow
END:VEVENT
BEGIN:VEVENT
DTSTART;TZID=America/New_York:20220525T184500
DTEND;TZID=America/New_York:20220525T194500
DTSTAMP:20260421T045739
CREATED:20220207T200616Z
LAST-MODIFIED:20220207T200616Z
UID:6018-1653504300-1653507900@philadelphiadogtraining.org
SUMMARY:BEGINNER
DESCRIPTION:
URL:https://philadelphiadogtraining.org/event/beginner-162/
CATEGORIES:Navy
END:VEVENT
BEGIN:VEVENT
DTSTART;TZID=America/New_York:20220525T173000
DTEND;TZID=America/New_York:20220525T183000
DTSTAMP:20260421T045739
CREATED:20220207T200404Z
LAST-MODIFIED:20220207T200404Z
UID:6014-1653499800-1653503400@philadelphiadogtraining.org
SUMMARY:BEGINNER
DESCRIPTION:
URL:https://philadelphiadogtraining.org/event/beginner-160/
CATEGORIES:Light Blue
END:VEVENT
BEGIN:VEVENT
DTSTART;VALUE=DATE:20220525
DTEND;VALUE=DATE:20220527
DTSTAMP:20260421T045739
CREATED:20220207T202403Z
LAST-MODIFIED:20220210T210430Z
UID:6052-1653436800-1653609599@philadelphiadogtraining.org
SUMMARY:SIXTH NIGHT OF CLASSES
DESCRIPTION:
URL:https://philadelphiadogtraining.org/event/last-night-of-classes-22/
CATEGORIES:Class Nights,Light Blue
END:VEVENT
BEGIN:VEVENT
DTSTART;TZID=America/New_York:20220524T190000
DTEND;TZID=America/New_York:20220524T203000
DTSTAMP:20260421T045739
CREATED:20220207T202839Z
LAST-MODIFIED:20220207T202839Z
UID:6062-1653418800-1653424200@philadelphiadogtraining.org
SUMMARY:OPEN
DESCRIPTION:
URL:https://philadelphiadogtraining.org/event/open-106/
CATEGORIES:Navy
END:VEVENT
BEGIN:VEVENT
DTSTART;TZID=America/New_York:20220524T173000
DTEND;TZID=America/New_York:20220524T190000
DTSTAMP:20260421T045739
CREATED:20220207T202651Z
LAST-MODIFIED:20220207T202651Z
UID:6056-1653413400-1653418800@philadelphiadogtraining.org
SUMMARY:UTILITY
DESCRIPTION:
URL:https://philadelphiadogtraining.org/event/utility-109/
CATEGORIES:Light Blue
END:VEVENT
BEGIN:VEVENT
DTSTART;TZID=America/New_York:20220523T194500
DTEND;TZID=America/New_York:20220523T204500
DTSTAMP:20260421T045739
CREATED:20220207T203233Z
LAST-MODIFIED:20220207T203233Z
UID:6074-1653335100-1653338700@philadelphiadogtraining.org
SUMMARY:NOVICE/FOUNDATION SKILLS
DESCRIPTION:
URL:https://philadelphiadogtraining.org/event/novice-foundation-skills-37/
CATEGORIES:Yellow
END:VEVENT
BEGIN:VEVENT
DTSTART;TZID=America/New_York:20220523T184500
DTEND;TZID=America/New_York:20220523T194500
DTSTAMP:20260421T045739
CREATED:20220207T203420Z
LAST-MODIFIED:20220207T203420Z
UID:6080-1653331500-1653335100@philadelphiadogtraining.org
SUMMARY:NOVICE RING READINESS
DESCRIPTION:
URL:https://philadelphiadogtraining.org/event/novice-ring-readiness-43/
CATEGORIES:Navy
END:VEVENT
BEGIN:VEVENT
DTSTART;TZID=America/New_York:20220523T173000
DTEND;TZID=America/New_York:20220523T183000
DTSTAMP:20260421T045739
CREATED:20220207T203038Z
LAST-MODIFIED:20220207T203038Z
UID:6068-1653327000-1653330600@philadelphiadogtraining.org
SUMMARY:PUPPY K
DESCRIPTION:
URL:https://philadelphiadogtraining.org/event/puppy-k-79/
CATEGORIES:Light Blue
END:VEVENT
END:VCALENDAR