BEGIN:VCALENDAR
VERSION:2.0
PRODID:-// - ECPv5.7.0//NONSGML v1.0//EN
CALSCALE:GREGORIAN
METHOD:PUBLISH
X-ORIGINAL-URL:https://philadelphiadogtraining.org
X-WR-CALDESC:Events for 
BEGIN:VTIMEZONE
TZID:America/New_York
BEGIN:DAYLIGHT
TZOFFSETFROM:-0500
TZOFFSETTO:-0400
TZNAME:EDT
DTSTART:20220313T070000
END:DAYLIGHT
BEGIN:STANDARD
TZOFFSETFROM:-0400
TZOFFSETTO:-0500
TZNAME:EST
DTSTART:20221106T060000
END:STANDARD
END:VTIMEZONE
BEGIN:VEVENT
DTSTART;TZID=America/New_York:20220727T173000
DTEND;TZID=America/New_York:20220727T183000
DTSTAMP:20260420T005525
CREATED:20220423T150845Z
LAST-MODIFIED:20220423T151506Z
UID:6491-1658943000-1658946600@philadelphiadogtraining.org
SUMMARY:BEGINNER
DESCRIPTION:
URL:https://philadelphiadogtraining.org/event/beginner-172/
CATEGORIES:Light Blue
END:VEVENT
BEGIN:VEVENT
DTSTART;VALUE=DATE:20220727
DTEND;VALUE=DATE:20220728
DTSTAMP:20260420T005525
CREATED:20220419T024716Z
LAST-MODIFIED:20220423T150048Z
UID:6469-1658880000-1658966399@philadelphiadogtraining.org
SUMMARY:LAST NIGHT OF CLASSES
DESCRIPTION:
URL:https://philadelphiadogtraining.org/event/last-night-of-classes-26/
CATEGORIES:Class Nights,Light Blue
END:VEVENT
BEGIN:VEVENT
DTSTART;TZID=America/New_York:20220726T190000
DTEND;TZID=America/New_York:20220726T203000
DTSTAMP:20260420T005525
CREATED:20220419T023931Z
LAST-MODIFIED:20220419T023931Z
UID:6452-1658862000-1658867400@philadelphiadogtraining.org
SUMMARY:OPEN
DESCRIPTION:
URL:https://philadelphiadogtraining.org/event/open-105/
CATEGORIES:Navy
END:VEVENT
BEGIN:VEVENT
DTSTART;TZID=America/New_York:20220726T173000
DTEND;TZID=America/New_York:20220726T190000
DTSTAMP:20260420T005525
CREATED:20220207T202733Z
LAST-MODIFIED:20220419T023357Z
UID:6058-1658856600-1658862000@philadelphiadogtraining.org
SUMMARY:UTILITY
DESCRIPTION:
URL:https://philadelphiadogtraining.org/event/utility-110/
CATEGORIES:Light Blue
END:VEVENT
BEGIN:VEVENT
DTSTART;TZID=America/New_York:20220725T194500
DTEND;TZID=America/New_York:20220725T204500
DTSTAMP:20260420T005525
CREATED:20220419T023009Z
LAST-MODIFIED:20220419T023009Z
UID:6420-1658778300-1658781900@philadelphiadogtraining.org
SUMMARY:NOVICE/FOUNDATION SKILLS
DESCRIPTION:
URL:https://philadelphiadogtraining.org/event/novice-foundation-skills-36/
CATEGORIES:Yellow
END:VEVENT
BEGIN:VEVENT
DTSTART;TZID=America/New_York:20220725T184500
DTEND;TZID=America/New_York:20220725T194500
DTSTAMP:20260420T005525
CREATED:20220419T022845Z
LAST-MODIFIED:20220419T022845Z
UID:6417-1658774700-1658778300@philadelphiadogtraining.org
SUMMARY:NOVICE RING READINESS
DESCRIPTION:
URL:https://philadelphiadogtraining.org/event/novice-ring-readiness-50/
CATEGORIES:Navy
END:VEVENT
BEGIN:VEVENT
DTSTART;TZID=America/New_York:20220725T173000
DTEND;TZID=America/New_York:20220725T183000
DTSTAMP:20260420T005525
CREATED:20220419T022154Z
LAST-MODIFIED:20220419T022154Z
UID:6400-1658770200-1658773800@philadelphiadogtraining.org
SUMMARY:PUPPY K
DESCRIPTION:
URL:https://philadelphiadogtraining.org/event/puppy-k-86/
CATEGORIES:Light Blue
END:VEVENT
BEGIN:VEVENT
DTSTART;TZID=America/New_York:20220721T190000
DTEND;TZID=America/New_York:20220721T200000
DTSTAMP:20260420T005525
CREATED:20220423T151027Z
LAST-MODIFIED:20220423T151027Z
UID:6497-1658430000-1658433600@philadelphiadogtraining.org
SUMMARY:INTERMEDIATE
DESCRIPTION:
URL:https://philadelphiadogtraining.org/event/intermediate-65/
CATEGORIES:Yellow
END:VEVENT
BEGIN:VEVENT
DTSTART;TZID=America/New_York:20220721T180000
DTEND;TZID=America/New_York:20220721T190000
DTSTAMP:20260420T005525
CREATED:20220423T151134Z
LAST-MODIFIED:20220423T151134Z
UID:6496-1658426400-1658430000@philadelphiadogtraining.org
SUMMARY:ADVANCED
DESCRIPTION:
URL:https://philadelphiadogtraining.org/event/advanced-91/
CATEGORIES:Navy
END:VEVENT
BEGIN:VEVENT
DTSTART;TZID=America/New_York:20220721T170000
DTEND;TZID=America/New_York:20220721T180000
DTSTAMP:20260420T005525
CREATED:20220423T151103Z
LAST-MODIFIED:20220423T151103Z
UID:6495-1658422800-1658426400@philadelphiadogtraining.org
SUMMARY:ADVANCED
DESCRIPTION:
URL:https://philadelphiadogtraining.org/event/advanced-85/
CATEGORIES:Light Blue
END:VEVENT
BEGIN:VEVENT
DTSTART;VALUE=DATE:20220721
DTEND;VALUE=DATE:20220722
DTSTAMP:20260420T005525
CREATED:20220415T192206Z
LAST-MODIFIED:20220423T145956Z
UID:6379-1658361600-1658447999@philadelphiadogtraining.org
SUMMARY:LAST NIGHT OF CLASSES
DESCRIPTION:
URL:https://philadelphiadogtraining.org/event/last-night-of-classes-25/
CATEGORIES:Class Nights,Light Blue
END:VEVENT
BEGIN:VEVENT
DTSTART;TZID=America/New_York:20220720T200000
DTEND;TZID=America/New_York:20220720T210000
DTSTAMP:20260420T005525
CREATED:20220423T150626Z
LAST-MODIFIED:20220423T150626Z
UID:6489-1658347200-1658350800@philadelphiadogtraining.org
SUMMARY:RALLY
DESCRIPTION:
URL:https://philadelphiadogtraining.org/event/rally-77/
CATEGORIES:Yellow
END:VEVENT
BEGIN:VEVENT
DTSTART;TZID=America/New_York:20220720T184500
DTEND;TZID=America/New_York:20220720T194500
DTSTAMP:20260420T005525
CREATED:20220419T024853Z
LAST-MODIFIED:20220419T024853Z
UID:6473-1658342700-1658346300@philadelphiadogtraining.org
SUMMARY:BEGINNER
DESCRIPTION:
URL:https://philadelphiadogtraining.org/event/beginner-179/
CATEGORIES:Navy
END:VEVENT
BEGIN:VEVENT
DTSTART;TZID=America/New_York:20220720T173000
DTEND;TZID=America/New_York:20220720T183000
DTSTAMP:20260420T005525
CREATED:20220419T024829Z
LAST-MODIFIED:20220419T024829Z
UID:6471-1658338200-1658341800@philadelphiadogtraining.org
SUMMARY:BEGINNER
DESCRIPTION:
URL:https://philadelphiadogtraining.org/event/beginner-178/
CATEGORIES:Light Blue
END:VEVENT
BEGIN:VEVENT
DTSTART;VALUE=DATE:20220720
DTEND;VALUE=DATE:20220721
DTSTAMP:20260420T005525
CREATED:20220419T024603Z
LAST-MODIFIED:20220423T150304Z
UID:6095-1658275200-1658361599@philadelphiadogtraining.org
SUMMARY:SIXTH NIGHT OF CLASSES
DESCRIPTION:
URL:https://philadelphiadogtraining.org/event/sixth-night-of-classes/
CATEGORIES:Class Nights,Light Blue
END:VEVENT
BEGIN:VEVENT
DTSTART;TZID=America/New_York:20220719T190000
DTEND;TZID=America/New_York:20220719T203000
DTSTAMP:20260420T005525
CREATED:20220419T024058Z
LAST-MODIFIED:20220419T024058Z
UID:6454-1658257200-1658262600@philadelphiadogtraining.org
SUMMARY:OPEN
DESCRIPTION:
URL:https://philadelphiadogtraining.org/event/open-108/
CATEGORIES:Navy
END:VEVENT
BEGIN:VEVENT
DTSTART;TZID=America/New_York:20220719T173000
DTEND;TZID=America/New_York:20220719T190000
DTSTAMP:20260420T005525
CREATED:20220419T023442Z
LAST-MODIFIED:20220419T023442Z
UID:6442-1658251800-1658257200@philadelphiadogtraining.org
SUMMARY:UTILITY
DESCRIPTION:
URL:https://philadelphiadogtraining.org/event/utility-108/
CATEGORIES:Light Blue
END:VEVENT
BEGIN:VEVENT
DTSTART;TZID=America/New_York:20220718T194500
DTEND;TZID=America/New_York:20220718T204500
DTSTAMP:20260420T005525
CREATED:20220419T023059Z
LAST-MODIFIED:20220419T023059Z
UID:6428-1658173500-1658177100@philadelphiadogtraining.org
SUMMARY:NOVICE/FOUNDATION SKILLS
DESCRIPTION:
URL:https://philadelphiadogtraining.org/event/novice-foundation-skills-38/
CATEGORIES:Yellow
END:VEVENT
BEGIN:VEVENT
DTSTART;TZID=America/New_York:20220718T184500
DTEND;TZID=America/New_York:20220718T194500
DTSTAMP:20260420T005525
CREATED:20220419T022825Z
LAST-MODIFIED:20220419T022825Z
UID:6416-1658169900-1658173500@philadelphiadogtraining.org
SUMMARY:NOVICE RING READINESS
DESCRIPTION:
URL:https://philadelphiadogtraining.org/event/novice-ring-readiness-49/
CATEGORIES:Navy
END:VEVENT
BEGIN:VEVENT
DTSTART;TZID=America/New_York:20220718T173000
DTEND;TZID=America/New_York:20220718T183000
DTSTAMP:20260420T005525
CREATED:20220419T022136Z
LAST-MODIFIED:20220419T022136Z
UID:6399-1658165400-1658169000@philadelphiadogtraining.org
SUMMARY:PUPPY K
DESCRIPTION:
URL:https://philadelphiadogtraining.org/event/puppy-k-85/
CATEGORIES:Light Blue
END:VEVENT
BEGIN:VEVENT
DTSTART;TZID=America/New_York:20220714T190000
DTEND;TZID=America/New_York:20220714T200000
DTSTAMP:20260420T005525
CREATED:20220415T192417Z
LAST-MODIFIED:20220415T192417Z
UID:6383-1657825200-1657828800@philadelphiadogtraining.org
SUMMARY:INTERMEDIATE
DESCRIPTION:
URL:https://philadelphiadogtraining.org/event/intermediate-70/
CATEGORIES:Yellow
END:VEVENT
BEGIN:VEVENT
DTSTART;TZID=America/New_York:20220714T180000
DTEND;TZID=America/New_York:20220714T190000
DTSTAMP:20260420T005525
CREATED:20220415T191209Z
LAST-MODIFIED:20220415T191209Z
UID:6355-1657821600-1657825200@philadelphiadogtraining.org
SUMMARY:ADVANCED
DESCRIPTION:
URL:https://philadelphiadogtraining.org/event/advanced-96/
CATEGORIES:Navy
END:VEVENT
BEGIN:VEVENT
DTSTART;TZID=America/New_York:20220714T170000
DTEND;TZID=America/New_York:20220714T180000
DTSTAMP:20260420T005525
CREATED:20220415T190807Z
LAST-MODIFIED:20220415T190807Z
UID:6343-1657818000-1657821600@philadelphiadogtraining.org
SUMMARY:ADVANCED
DESCRIPTION:
URL:https://philadelphiadogtraining.org/event/advanced-90/
CATEGORIES:Light Blue
END:VEVENT
BEGIN:VEVENT
DTSTART;TZID=America/New_York:20220713T200000
DTEND;TZID=America/New_York:20220713T210000
DTSTAMP:20260420T005525
CREATED:20220415T190336Z
LAST-MODIFIED:20220415T190349Z
UID:6329-1657742400-1657746000@philadelphiadogtraining.org
SUMMARY:RALLY
DESCRIPTION:
URL:https://philadelphiadogtraining.org/event/rally-83/
CATEGORIES:Yellow
END:VEVENT
BEGIN:VEVENT
DTSTART;TZID=America/New_York:20220713T184500
DTEND;TZID=America/New_York:20220713T194500
DTSTAMP:20260420T005525
CREATED:20220415T185626Z
LAST-MODIFIED:20220415T185626Z
UID:6306-1657737900-1657741500@philadelphiadogtraining.org
SUMMARY:BEGINNER
DESCRIPTION:
URL:https://philadelphiadogtraining.org/event/beginner-177/
CATEGORIES:Navy
END:VEVENT
BEGIN:VEVENT
DTSTART;TZID=America/New_York:20220713T173000
DTEND;TZID=America/New_York:20220713T183000
DTSTAMP:20260420T005525
CREATED:20220415T185315Z
LAST-MODIFIED:20220415T190231Z
UID:6294-1657733400-1657737000@philadelphiadogtraining.org
SUMMARY:BEGINNER
DESCRIPTION:
URL:https://philadelphiadogtraining.org/event/beginner-171/
CATEGORIES:Light Blue
END:VEVENT
BEGIN:VEVENT
DTSTART;VALUE=DATE:20220713
DTEND;VALUE=DATE:20220715
DTSTAMP:20260420T005525
CREATED:20220415T192126Z
LAST-MODIFIED:20220423T145602Z
UID:6377-1657670400-1657843199@philadelphiadogtraining.org
SUMMARY:FIFTH NIGHT OF CLASSES
DESCRIPTION:
URL:https://philadelphiadogtraining.org/event/fifth-night-of-classes-6/
CATEGORIES:Class Nights
END:VEVENT
BEGIN:VEVENT
DTSTART;TZID=America/New_York:20220712T190000
DTEND;TZID=America/New_York:20220712T203000
DTSTAMP:20260420T005525
CREATED:20220419T024111Z
LAST-MODIFIED:20220419T024111Z
UID:6455-1657652400-1657657800@philadelphiadogtraining.org
SUMMARY:OPEN
DESCRIPTION:
URL:https://philadelphiadogtraining.org/event/open-109/
CATEGORIES:Navy
END:VEVENT
BEGIN:VEVENT
DTSTART;TZID=America/New_York:20220712T173000
DTEND;TZID=America/New_York:20220712T190000
DTSTAMP:20260420T005525
CREATED:20220419T023454Z
LAST-MODIFIED:20220419T023454Z
UID:6441-1657647000-1657652400@philadelphiadogtraining.org
SUMMARY:UTILITY
DESCRIPTION:
URL:https://philadelphiadogtraining.org/event/utility-111/
CATEGORIES:Light Blue
END:VEVENT
BEGIN:VEVENT
DTSTART;TZID=America/New_York:20220711T194500
DTEND;TZID=America/New_York:20220711T204500
DTSTAMP:20260420T005525
CREATED:20220419T023116Z
LAST-MODIFIED:20220419T023116Z
UID:6427-1657568700-1657572300@philadelphiadogtraining.org
SUMMARY:NOVICE/FOUNDATION SKILLS
DESCRIPTION:
URL:https://philadelphiadogtraining.org/event/novice-foundation-skills-39/
CATEGORIES:Yellow
END:VEVENT
END:VCALENDAR