BEGIN:VCALENDAR
VERSION:2.0
PRODID:-// - ECPv5.7.0//NONSGML v1.0//EN
CALSCALE:GREGORIAN
METHOD:PUBLISH
X-ORIGINAL-URL:https://philadelphiadogtraining.org
X-WR-CALDESC:Events for 
BEGIN:VTIMEZONE
TZID:America/New_York
BEGIN:DAYLIGHT
TZOFFSETFROM:-0500
TZOFFSETTO:-0400
TZNAME:EDT
DTSTART:20220313T070000
END:DAYLIGHT
BEGIN:STANDARD
TZOFFSETFROM:-0400
TZOFFSETTO:-0500
TZNAME:EST
DTSTART:20221106T060000
END:STANDARD
END:VTIMEZONE
BEGIN:VEVENT
DTSTART;TZID=America/New_York:20220217T190000
DTEND;TZID=America/New_York:20220217T200000
DTSTAMP:20260424T050316
CREATED:20211114T193747Z
LAST-MODIFIED:20220205T171029Z
UID:5418-1645124400-1645128000@philadelphiadogtraining.org
SUMMARY:INTERMEDIATE
DESCRIPTION:
URL:https://philadelphiadogtraining.org/event/intermediate-51/
CATEGORIES:Yellow
END:VEVENT
BEGIN:VEVENT
DTSTART;TZID=America/New_York:20220217T180000
DTEND;TZID=America/New_York:20220217T190000
DTSTAMP:20260424T050316
CREATED:20211114T193651Z
LAST-MODIFIED:20220205T171029Z
UID:5415-1645120800-1645124400@philadelphiadogtraining.org
SUMMARY:BEGINNER
DESCRIPTION:
URL:https://philadelphiadogtraining.org/event/beginner-122/
CATEGORIES:Navy
END:VEVENT
BEGIN:VEVENT
DTSTART;TZID=America/New_York:20220217T170000
DTEND;TZID=America/New_York:20220217T180000
DTSTAMP:20260424T050316
CREATED:20211114T193651Z
LAST-MODIFIED:20220205T171029Z
UID:5414-1645117200-1645120800@philadelphiadogtraining.org
SUMMARY:ADVANCED
DESCRIPTION:
URL:https://philadelphiadogtraining.org/event/advanced-57/
CATEGORIES:Light Blue
END:VEVENT
BEGIN:VEVENT
DTSTART;VALUE=DATE:20220217
DTEND;VALUE=DATE:20220218
DTSTAMP:20260424T050316
CREATED:20211114T193651Z
LAST-MODIFIED:20220205T171014Z
UID:5416-1645056000-1645142399@philadelphiadogtraining.org
SUMMARY:LAST NIGHT OF CLASSES
DESCRIPTION:
URL:https://philadelphiadogtraining.org/event/last-night-of-classes-16/
CATEGORIES:Class Nights,Light Blue
END:VEVENT
BEGIN:VEVENT
DTSTART;TZID=America/New_York:20220216T200000
DTEND;TZID=America/New_York:20220216T210000
DTSTAMP:20260424T050316
CREATED:20211114T193651Z
LAST-MODIFIED:20220205T171029Z
UID:5413-1645041600-1645045200@philadelphiadogtraining.org
SUMMARY:RALLY
DESCRIPTION:
URL:https://philadelphiadogtraining.org/event/rally-62/
CATEGORIES:Yellow
END:VEVENT
BEGIN:VEVENT
DTSTART;TZID=America/New_York:20220216T184500
DTEND;TZID=America/New_York:20220216T194500
DTSTAMP:20260424T050316
CREATED:20211114T193651Z
LAST-MODIFIED:20220205T171014Z
UID:5412-1645037100-1645040700@philadelphiadogtraining.org
SUMMARY:BEGINNER
DESCRIPTION:
URL:https://philadelphiadogtraining.org/event/beginner-121/
CATEGORIES:Navy
END:VEVENT
BEGIN:VEVENT
DTSTART;TZID=America/New_York:20220216T173000
DTEND;TZID=America/New_York:20220216T183000
DTSTAMP:20260424T050316
CREATED:20211114T193651Z
LAST-MODIFIED:20220205T171014Z
UID:5411-1645032600-1645036200@philadelphiadogtraining.org
SUMMARY:BEGINNER
DESCRIPTION:
URL:https://philadelphiadogtraining.org/event/beginner-120/
CATEGORIES:Light Blue
END:VEVENT
BEGIN:VEVENT
DTSTART;VALUE=DATE:20220216
DTEND;VALUE=DATE:20220217
DTSTAMP:20260424T050316
CREATED:20211114T193651Z
LAST-MODIFIED:20220205T171014Z
UID:5408-1644969600-1645055999@philadelphiadogtraining.org
SUMMARY:LAST NIGHT OF CLASSES
DESCRIPTION:
URL:https://philadelphiadogtraining.org/event/last-night-of-classes-15/
CATEGORIES:Class Nights
END:VEVENT
BEGIN:VEVENT
DTSTART;TZID=America/New_York:20220215T190000
DTEND;TZID=America/New_York:20220215T203000
DTSTAMP:20260424T050316
CREATED:20211114T193651Z
LAST-MODIFIED:20220205T170934Z
UID:5410-1644951600-1644957000@philadelphiadogtraining.org
SUMMARY:OPEN
DESCRIPTION:
URL:https://philadelphiadogtraining.org/event/open-91/
CATEGORIES:Navy
END:VEVENT
BEGIN:VEVENT
DTSTART;TZID=America/New_York:20220215T173000
DTEND;TZID=America/New_York:20220215T190000
DTSTAMP:20260424T050316
CREATED:20211114T193651Z
LAST-MODIFIED:20220205T171014Z
UID:5409-1644946200-1644951600@philadelphiadogtraining.org
SUMMARY:UTILITY
DESCRIPTION:
URL:https://philadelphiadogtraining.org/event/utility-94/
CATEGORIES:Light Blue
END:VEVENT
BEGIN:VEVENT
DTSTART;TZID=America/New_York:20220214T194500
DTEND;TZID=America/New_York:20220214T204500
DTSTAMP:20260424T050316
CREATED:20211114T193459Z
LAST-MODIFIED:20220205T170934Z
UID:5406-1644867900-1644871500@philadelphiadogtraining.org
SUMMARY:NOVICE/FOUNDATION SKILLS
DESCRIPTION:
URL:https://philadelphiadogtraining.org/event/novice-foundation-skills-22/
CATEGORIES:Yellow
END:VEVENT
BEGIN:VEVENT
DTSTART;TZID=America/New_York:20220214T184500
DTEND;TZID=America/New_York:20220214T194500
DTSTAMP:20260424T050316
CREATED:20211114T193651Z
LAST-MODIFIED:20220205T170934Z
UID:5407-1644864300-1644867900@philadelphiadogtraining.org
SUMMARY:NOVICE RING READINESS
DESCRIPTION:
URL:https://philadelphiadogtraining.org/event/novice-ring-readiness-28/
CATEGORIES:Navy
END:VEVENT
BEGIN:VEVENT
DTSTART;TZID=America/New_York:20220214T173000
DTEND;TZID=America/New_York:20220214T183000
DTSTAMP:20260424T050316
CREATED:20211114T193459Z
LAST-MODIFIED:20220205T170933Z
UID:5405-1644859800-1644863400@philadelphiadogtraining.org
SUMMARY:PUPPY K
DESCRIPTION:
URL:https://philadelphiadogtraining.org/event/puppy-k-63/
CATEGORIES:Light Blue
END:VEVENT
BEGIN:VEVENT
DTSTART;TZID=America/New_York:20220210T200000
DTEND;TZID=America/New_York:20220210T210000
DTSTAMP:20260424T050316
CREATED:20211114T193459Z
LAST-MODIFIED:20220205T170917Z
UID:5402-1644523200-1644526800@philadelphiadogtraining.org
SUMMARY:ADVANCED
DESCRIPTION:
URL:https://philadelphiadogtraining.org/event/advanced-56/
CATEGORIES:Light Blue
END:VEVENT
BEGIN:VEVENT
DTSTART;TZID=America/New_York:20220210T190000
DTEND;TZID=America/New_York:20220210T200000
DTSTAMP:20260424T050316
CREATED:20211114T193459Z
LAST-MODIFIED:20220205T170917Z
UID:5403-1644519600-1644523200@philadelphiadogtraining.org
SUMMARY:INTERMEDIATE
DESCRIPTION:
URL:https://philadelphiadogtraining.org/event/intermediate-50/
CATEGORIES:Yellow
END:VEVENT
BEGIN:VEVENT
DTSTART;TZID=America/New_York:20220210T180000
DTEND;TZID=America/New_York:20220210T190000
DTSTAMP:20260424T050316
CREATED:20211114T193450Z
LAST-MODIFIED:20220205T170806Z
UID:5394-1644516000-1644519600@philadelphiadogtraining.org
SUMMARY:BEGINNER
DESCRIPTION:
URL:https://philadelphiadogtraining.org/event/beginner-119/
CATEGORIES:Navy
END:VEVENT
BEGIN:VEVENT
DTSTART;TZID=America/New_York:20220210T170000
DTEND;TZID=America/New_York:20220210T180000
DTSTAMP:20260424T050316
CREATED:20211114T193450Z
LAST-MODIFIED:20220205T170917Z
UID:5396-1644512400-1644516000@philadelphiadogtraining.org
SUMMARY:ADVANCED
DESCRIPTION:
URL:https://philadelphiadogtraining.org/event/advanced-55/
CATEGORIES:Light Blue
END:VEVENT
BEGIN:VEVENT
DTSTART;VALUE=DATE:20220210
DTEND;VALUE=DATE:20220211
DTSTAMP:20260424T050316
CREATED:20211114T193450Z
LAST-MODIFIED:20220205T170917Z
UID:5395-1644451200-1644537599@philadelphiadogtraining.org
SUMMARY:FIFTH NIGHT OF CLASSES
DESCRIPTION:
URL:https://philadelphiadogtraining.org/event/fifth-night-of-classes-4/
CATEGORIES:Class Nights
END:VEVENT
BEGIN:VEVENT
DTSTART;TZID=America/New_York:20220209T200000
DTEND;TZID=America/New_York:20220209T210000
DTSTAMP:20260424T050316
CREATED:20211114T193450Z
LAST-MODIFIED:20220205T170917Z
UID:5393-1644436800-1644440400@philadelphiadogtraining.org
SUMMARY:RALLY
DESCRIPTION:
URL:https://philadelphiadogtraining.org/event/rally-61/
CATEGORIES:Yellow
END:VEVENT
BEGIN:VEVENT
DTSTART;TZID=America/New_York:20220209T184500
DTEND;TZID=America/New_York:20220209T194500
DTSTAMP:20260424T050316
CREATED:20211114T193450Z
LAST-MODIFIED:20220205T170806Z
UID:5392-1644432300-1644435900@philadelphiadogtraining.org
SUMMARY:BEGINNER
DESCRIPTION:
URL:https://philadelphiadogtraining.org/event/beginner-118/
CATEGORIES:Navy
END:VEVENT
BEGIN:VEVENT
DTSTART;TZID=America/New_York:20220209T173000
DTEND;TZID=America/New_York:20220209T183000
DTSTAMP:20260424T050316
CREATED:20211114T193248Z
LAST-MODIFIED:20220205T170806Z
UID:5390-1644427800-1644431400@philadelphiadogtraining.org
SUMMARY:BEGINNER
DESCRIPTION:
URL:https://philadelphiadogtraining.org/event/beginner-117/
CATEGORIES:Light Blue
END:VEVENT
BEGIN:VEVENT
DTSTART;VALUE=DATE:20220209
DTEND;VALUE=DATE:20220210
DTSTAMP:20260424T050316
CREATED:20211114T193248Z
LAST-MODIFIED:20220205T170806Z
UID:5391-1644364800-1644451199@philadelphiadogtraining.org
SUMMARY:FIFTH NIGHT OF CLASSES
DESCRIPTION:
URL:https://philadelphiadogtraining.org/event/fifth-night-of-classes-3/
CATEGORIES:Class Nights
END:VEVENT
BEGIN:VEVENT
DTSTART;TZID=America/New_York:20220208T190000
DTEND;TZID=America/New_York:20220208T203000
DTSTAMP:20260424T050316
CREATED:20211114T193248Z
LAST-MODIFIED:20220205T170751Z
UID:5389-1644346800-1644352200@philadelphiadogtraining.org
SUMMARY:OPEN
DESCRIPTION:
URL:https://philadelphiadogtraining.org/event/open-90/
CATEGORIES:Navy
END:VEVENT
BEGIN:VEVENT
DTSTART;TZID=America/New_York:20220208T173000
DTEND;TZID=America/New_York:20220208T190000
DTSTAMP:20260424T050316
CREATED:20211114T193248Z
LAST-MODIFIED:20220205T170806Z
UID:5388-1644341400-1644346800@philadelphiadogtraining.org
SUMMARY:UTILITY
DESCRIPTION:
URL:https://philadelphiadogtraining.org/event/utility-93/
CATEGORIES:Light Blue
END:VEVENT
BEGIN:VEVENT
DTSTART;TZID=America/New_York:20220207T194500
DTEND;TZID=America/New_York:20220207T204500
DTSTAMP:20260424T050316
CREATED:20211114T193233Z
LAST-MODIFIED:20220205T170751Z
UID:5386-1644263100-1644266700@philadelphiadogtraining.org
SUMMARY:NOVICE/FOUNDATION SKILLS
DESCRIPTION:
URL:https://philadelphiadogtraining.org/event/novice-foundation-skills-21/
CATEGORIES:Light Blue
END:VEVENT
BEGIN:VEVENT
DTSTART;TZID=America/New_York:20220207T184500
DTEND;TZID=America/New_York:20220207T194500
DTSTAMP:20260424T050316
CREATED:20211114T193248Z
LAST-MODIFIED:20220205T170751Z
UID:5387-1644259500-1644263100@philadelphiadogtraining.org
SUMMARY:NOVICE RING READINESS
DESCRIPTION:
URL:https://philadelphiadogtraining.org/event/novice-ring-readiness-27/
CATEGORIES:Navy,Yellow
END:VEVENT
BEGIN:VEVENT
DTSTART;TZID=America/New_York:20220207T173000
DTEND;TZID=America/New_York:20220207T183000
DTSTAMP:20260424T050316
CREATED:20211114T193233Z
LAST-MODIFIED:20220205T170751Z
UID:5385-1644255000-1644258600@philadelphiadogtraining.org
SUMMARY:PUPPY K
DESCRIPTION:
URL:https://philadelphiadogtraining.org/event/puppy-k-61/
CATEGORIES:Light Blue
END:VEVENT
BEGIN:VEVENT
DTSTART;TZID=America/New_York:20220203T200000
DTEND;TZID=America/New_York:20220203T210000
DTSTAMP:20260424T050316
CREATED:20211114T193233Z
LAST-MODIFIED:20211115T155335Z
UID:5382-1643918400-1643922000@philadelphiadogtraining.org
SUMMARY:ADVANCED
DESCRIPTION:
URL:https://philadelphiadogtraining.org/event/advanced-54/
CATEGORIES:Light Blue
END:VEVENT
BEGIN:VEVENT
DTSTART;TZID=America/New_York:20220203T190000
DTEND;TZID=America/New_York:20220203T200000
DTSTAMP:20260424T050316
CREATED:20211114T193233Z
LAST-MODIFIED:20211115T155325Z
UID:5383-1643914800-1643918400@philadelphiadogtraining.org
SUMMARY:INTERMEDIATE
DESCRIPTION:
URL:https://philadelphiadogtraining.org/event/intermediate-49/
CATEGORIES:Yellow
END:VEVENT
BEGIN:VEVENT
DTSTART;TZID=America/New_York:20220203T180000
DTEND;TZID=America/New_York:20220203T190000
DTSTAMP:20260424T050316
CREATED:20211114T193232Z
LAST-MODIFIED:20211115T155316Z
UID:5381-1643911200-1643914800@philadelphiadogtraining.org
SUMMARY:BEGINNER
DESCRIPTION:
URL:https://philadelphiadogtraining.org/event/beginner-116/
CATEGORIES:Navy
END:VEVENT
END:VCALENDAR