BEGIN:VCALENDAR
VERSION:2.0
PRODID:-// - ECPv5.7.0//NONSGML v1.0//EN
CALSCALE:GREGORIAN
METHOD:PUBLISH
X-ORIGINAL-URL:https://philadelphiadogtraining.org
X-WR-CALDESC:Events for 
BEGIN:VTIMEZONE
TZID:America/New_York
BEGIN:DAYLIGHT
TZOFFSETFROM:-0500
TZOFFSETTO:-0400
TZNAME:EDT
DTSTART:20220313T070000
END:DAYLIGHT
BEGIN:STANDARD
TZOFFSETFROM:-0400
TZOFFSETTO:-0500
TZNAME:EST
DTSTART:20221106T060000
END:STANDARD
END:VTIMEZONE
BEGIN:VEVENT
DTSTART;TZID=America/New_York:20220830T173000
DTEND;TZID=America/New_York:20220830T190000
DTSTAMP:20260419T182438
CREATED:20220722T162328Z
LAST-MODIFIED:20220722T162328Z
UID:6607-1661880600-1661886000@philadelphiadogtraining.org
SUMMARY:UTILITY
DESCRIPTION:
URL:https://philadelphiadogtraining.org/event/utility-122/
CATEGORIES:Light Blue
END:VEVENT
BEGIN:VEVENT
DTSTART;TZID=America/New_York:20220829T194500
DTEND;TZID=America/New_York:20220829T204500
DTSTAMP:20260419T182438
CREATED:20220722T160852Z
LAST-MODIFIED:20220722T160852Z
UID:6594-1661802300-1661805900@philadelphiadogtraining.org
SUMMARY:NOVICE/FOUNDATION SKILLS
DESCRIPTION:
URL:https://philadelphiadogtraining.org/event/novice-foundation-skills-46/
CATEGORIES:Yellow
END:VEVENT
BEGIN:VEVENT
DTSTART;TZID=America/New_York:20220829T184500
DTEND;TZID=America/New_York:20220829T194500
DTSTAMP:20260419T182438
CREATED:20220722T160425Z
LAST-MODIFIED:20220722T160451Z
UID:6582-1661798700-1661802300@philadelphiadogtraining.org
SUMMARY:NOVICE RING READINESS
DESCRIPTION:
URL:https://philadelphiadogtraining.org/event/novice-ring-readiness-52/
CATEGORIES:Navy
END:VEVENT
BEGIN:VEVENT
DTSTART;TZID=America/New_York:20220829T173000
DTEND;TZID=America/New_York:20220829T183000
DTSTAMP:20260419T182438
CREATED:20220722T160153Z
LAST-MODIFIED:20220722T160153Z
UID:6567-1661794200-1661797800@philadelphiadogtraining.org
SUMMARY:PUPPY K
DESCRIPTION:
URL:https://philadelphiadogtraining.org/event/puppy-k-88/
CATEGORIES:Light Blue
END:VEVENT
BEGIN:VEVENT
DTSTART;TZID=America/New_York:20220825T190000
DTEND;TZID=America/New_York:20220825T200000
DTSTAMP:20260419T182438
CREATED:20220722T232155Z
LAST-MODIFIED:20220722T232155Z
UID:6702-1661454000-1661457600@philadelphiadogtraining.org
SUMMARY:INTERMEDIATE
DESCRIPTION:
URL:https://philadelphiadogtraining.org/event/intermediate-74/
CATEGORIES:Yellow
END:VEVENT
BEGIN:VEVENT
DTSTART;TZID=America/New_York:20220825T180000
DTEND;TZID=America/New_York:20220825T190000
DTSTAMP:20260419T182438
CREATED:20220722T231828Z
LAST-MODIFIED:20220722T231828Z
UID:6690-1661450400-1661454000@philadelphiadogtraining.org
SUMMARY:ADVANCED
DESCRIPTION:
URL:https://philadelphiadogtraining.org/event/advanced-106/
CATEGORIES:Navy
END:VEVENT
BEGIN:VEVENT
DTSTART;TZID=America/New_York:20220825T170000
DTEND;TZID=America/New_York:20220825T180000
DTSTAMP:20260419T182438
CREATED:20220722T231452Z
LAST-MODIFIED:20220722T231452Z
UID:6678-1661446800-1661450400@philadelphiadogtraining.org
SUMMARY:ADVANCED
DESCRIPTION:
URL:https://philadelphiadogtraining.org/event/advanced-100/
CATEGORIES:Light Blue
END:VEVENT
BEGIN:VEVENT
DTSTART;TZID=America/New_York:20220824T200000
DTEND;TZID=America/New_York:20220824T210000
DTSTAMP:20260419T182438
CREATED:20220722T164324Z
LAST-MODIFIED:20220722T164324Z
UID:6664-1661371200-1661374800@philadelphiadogtraining.org
SUMMARY:RALLY
DESCRIPTION:
URL:https://philadelphiadogtraining.org/event/rally-86/
CATEGORIES:Yellow
END:VEVENT
BEGIN:VEVENT
DTSTART;TZID=America/New_York:20220824T184500
DTEND;TZID=America/New_York:20220824T194500
DTSTAMP:20260419T182438
CREATED:20220722T163811Z
LAST-MODIFIED:20220722T163811Z
UID:6648-1661366700-1661370300@philadelphiadogtraining.org
SUMMARY:BEGINNER
DESCRIPTION:
URL:https://philadelphiadogtraining.org/event/beginner-190/
CATEGORIES:Navy
END:VEVENT
BEGIN:VEVENT
DTSTART;TZID=America/New_York:20220824T173000
DTEND;TZID=America/New_York:20220824T183000
DTSTAMP:20260419T182438
CREATED:20220722T163356Z
LAST-MODIFIED:20220722T163356Z
UID:6633-1661362200-1661365800@philadelphiadogtraining.org
SUMMARY:BEGINNER
DESCRIPTION:
URL:https://philadelphiadogtraining.org/event/beginner-183/
CATEGORIES:Light Blue
END:VEVENT
BEGIN:VEVENT
DTSTART;VALUE=DATE:20220824
DTEND;VALUE=DATE:20220826
DTSTAMP:20260419T182438
CREATED:20220722T233109Z
LAST-MODIFIED:20220726T155701Z
UID:6716-1661299200-1661471999@philadelphiadogtraining.org
SUMMARY:THIRD NIGHT OF CLASSES
DESCRIPTION:
URL:https://philadelphiadogtraining.org/event/fourth-night-of-classes-9/
CATEGORIES:Class Nights
END:VEVENT
BEGIN:VEVENT
DTSTART;TZID=America/New_York:20220823T190000
DTEND;TZID=America/New_York:20220823T203000
DTSTAMP:20260419T182438
CREATED:20220722T162629Z
LAST-MODIFIED:20220722T162629Z
UID:6619-1661281200-1661286600@philadelphiadogtraining.org
SUMMARY:OPEN
DESCRIPTION:
URL:https://philadelphiadogtraining.org/event/open-118/
CATEGORIES:Navy
END:VEVENT
BEGIN:VEVENT
DTSTART;TZID=America/New_York:20220823T173000
DTEND;TZID=America/New_York:20220823T190000
DTSTAMP:20260419T182438
CREATED:20220722T162304Z
LAST-MODIFIED:20220722T162304Z
UID:6605-1661275800-1661281200@philadelphiadogtraining.org
SUMMARY:UTILITY
DESCRIPTION:
URL:https://philadelphiadogtraining.org/event/utility-121/
CATEGORIES:Light Blue
END:VEVENT
BEGIN:VEVENT
DTSTART;TZID=America/New_York:20220822T194500
DTEND;TZID=America/New_York:20220822T204500
DTSTAMP:20260419T182438
CREATED:20220722T160829Z
LAST-MODIFIED:20220722T160829Z
UID:6592-1661197500-1661201100@philadelphiadogtraining.org
SUMMARY:NOVICE/FOUNDATION SKILLS
DESCRIPTION:
URL:https://philadelphiadogtraining.org/event/novice-foundation-skills-45/
CATEGORIES:Yellow
END:VEVENT
BEGIN:VEVENT
DTSTART;TZID=America/New_York:20220822T184500
DTEND;TZID=America/New_York:20220822T194500
DTSTAMP:20260419T182438
CREATED:20220805T164238Z
LAST-MODIFIED:20220805T164238Z
UID:6787-1661193900-1661197500@philadelphiadogtraining.org
SUMMARY:NOVICE RING READINESS
DESCRIPTION:
URL:https://philadelphiadogtraining.org/event/novice-ring-readiness-54/
CATEGORIES:Navy
END:VEVENT
BEGIN:VEVENT
DTSTART;TZID=America/New_York:20220822T173000
DTEND;TZID=America/New_York:20220822T183000
DTSTAMP:20260419T182438
CREATED:20220722T160125Z
LAST-MODIFIED:20220722T160125Z
UID:6568-1661189400-1661193000@philadelphiadogtraining.org
SUMMARY:PUPPY K
DESCRIPTION:
URL:https://philadelphiadogtraining.org/event/puppy-k-87/
CATEGORIES:Light Blue
END:VEVENT
BEGIN:VEVENT
DTSTART;TZID=America/New_York:20220818T190000
DTEND;TZID=America/New_York:20220818T200000
DTSTAMP:20260419T182438
CREATED:20220722T232133Z
LAST-MODIFIED:20220722T232133Z
UID:6700-1660849200-1660852800@philadelphiadogtraining.org
SUMMARY:INTERMEDIATE
DESCRIPTION:
URL:https://philadelphiadogtraining.org/event/intermediate-73/
CATEGORIES:Yellow
END:VEVENT
BEGIN:VEVENT
DTSTART;TZID=America/New_York:20220818T180000
DTEND;TZID=America/New_York:20220818T190000
DTSTAMP:20260419T182438
CREATED:20220722T231800Z
LAST-MODIFIED:20220722T231800Z
UID:6688-1660845600-1660849200@philadelphiadogtraining.org
SUMMARY:ADVANCED
DESCRIPTION:
URL:https://philadelphiadogtraining.org/event/advanced-105/
CATEGORIES:Navy
END:VEVENT
BEGIN:VEVENT
DTSTART;TZID=America/New_York:20220818T170000
DTEND;TZID=America/New_York:20220818T180000
DTSTAMP:20260419T182438
CREATED:20220722T231407Z
LAST-MODIFIED:20220722T231407Z
UID:6676-1660842000-1660845600@philadelphiadogtraining.org
SUMMARY:ADVANCED
DESCRIPTION:
URL:https://philadelphiadogtraining.org/event/advanced-99/
CATEGORIES:Light Blue
END:VEVENT
BEGIN:VEVENT
DTSTART;TZID=America/New_York:20220817T200000
DTEND;TZID=America/New_York:20220817T210000
DTSTAMP:20260419T182438
CREATED:20220722T164300Z
LAST-MODIFIED:20220722T164300Z
UID:6662-1660766400-1660770000@philadelphiadogtraining.org
SUMMARY:RALLY
DESCRIPTION:
URL:https://philadelphiadogtraining.org/event/rally-85/
CATEGORIES:Yellow
END:VEVENT
BEGIN:VEVENT
DTSTART;TZID=America/New_York:20220817T184500
DTEND;TZID=America/New_York:20220817T194500
DTSTAMP:20260419T182438
CREATED:20220722T163739Z
LAST-MODIFIED:20220722T163739Z
UID:6646-1660761900-1660765500@philadelphiadogtraining.org
SUMMARY:BEGINNER
DESCRIPTION:
URL:https://philadelphiadogtraining.org/event/beginner-189/
CATEGORIES:Navy
END:VEVENT
BEGIN:VEVENT
DTSTART;TZID=America/New_York:20220817T173000
DTEND;TZID=America/New_York:20220817T183000
DTSTAMP:20260419T182438
CREATED:20220722T162956Z
LAST-MODIFIED:20220722T163029Z
UID:6629-1660757400-1660761000@philadelphiadogtraining.org
SUMMARY:BEGINNER
DESCRIPTION:
URL:https://philadelphiadogtraining.org/event/beginner-181/
CATEGORIES:Light Blue
END:VEVENT
BEGIN:VEVENT
DTSTART;VALUE=DATE:20220817
DTEND;VALUE=DATE:20220819
DTSTAMP:20260419T182438
CREATED:20220722T233034Z
LAST-MODIFIED:20220726T155523Z
UID:6714-1660694400-1660867199@philadelphiadogtraining.org
SUMMARY:SECOND NIGHT OF CLASSES
DESCRIPTION:
URL:https://philadelphiadogtraining.org/event/third-night-of-classes-9/
CATEGORIES:Class Nights
END:VEVENT
BEGIN:VEVENT
DTSTART;TZID=America/New_York:20220816T190000
DTEND;TZID=America/New_York:20220816T203000
DTSTAMP:20260419T182438
CREATED:20220722T162609Z
LAST-MODIFIED:20220722T162609Z
UID:6617-1660676400-1660681800@philadelphiadogtraining.org
SUMMARY:OPEN
DESCRIPTION:
URL:https://philadelphiadogtraining.org/event/open-117/
CATEGORIES:Navy
END:VEVENT
BEGIN:VEVENT
DTSTART;TZID=America/New_York:20220816T173000
DTEND;TZID=America/New_York:20220816T190000
DTSTAMP:20260419T182438
CREATED:20220722T161129Z
LAST-MODIFIED:20220722T161129Z
UID:6603-1660671000-1660676400@philadelphiadogtraining.org
SUMMARY:UTILITY
DESCRIPTION:
URL:https://philadelphiadogtraining.org/event/utility-120/
CATEGORIES:Light Blue
END:VEVENT
BEGIN:VEVENT
DTSTART;TZID=America/New_York:20220815T194500
DTEND;TZID=America/New_York:20220815T204500
DTSTAMP:20260419T182438
CREATED:20220722T160736Z
LAST-MODIFIED:20220722T160752Z
UID:6590-1660592700-1660596300@philadelphiadogtraining.org
SUMMARY:NOVICE/FOUNDATION SKILLS
DESCRIPTION:
URL:https://philadelphiadogtraining.org/event/novice-foundation-skills-44/
CATEGORIES:Yellow
END:VEVENT
BEGIN:VEVENT
DTSTART;TZID=America/New_York:20220815T184500
DTEND;TZID=America/New_York:20220815T194500
DTSTAMP:20260419T182438
CREATED:20220722T160355Z
LAST-MODIFIED:20220722T160355Z
UID:6580-1660589100-1660592700@philadelphiadogtraining.org
SUMMARY:NOVICE RING READINESS
DESCRIPTION:
URL:https://philadelphiadogtraining.org/event/novice-ring-readiness-51/
CATEGORIES:Navy
END:VEVENT
BEGIN:VEVENT
DTSTART;TZID=America/New_York:20220815T173000
DTEND;TZID=America/New_York:20220815T183000
DTSTAMP:20260419T182438
CREATED:20220722T160101Z
LAST-MODIFIED:20220722T160101Z
UID:6569-1660584600-1660588200@philadelphiadogtraining.org
SUMMARY:PUPPY K
DESCRIPTION:
URL:https://philadelphiadogtraining.org/event/puppy-k-83/
CATEGORIES:Light Blue
END:VEVENT
BEGIN:VEVENT
DTSTART;VALUE=DATE:20220810
DTEND;VALUE=DATE:20220812
DTSTAMP:20260419T182438
CREATED:20220726T161153Z
LAST-MODIFIED:20220726T161153Z
UID:6746-1660089600-1660262399@philadelphiadogtraining.org
SUMMARY:NO CLASSES
DESCRIPTION:
URL:https://philadelphiadogtraining.org/event/no-classes-39/
CATEGORIES:NO CLASSES,Yellow
END:VEVENT
BEGIN:VEVENT
DTSTART;TZID=America/New_York:20220809T190000
DTEND;TZID=America/New_York:20220809T203000
DTSTAMP:20260419T182438
CREATED:20220722T162546Z
LAST-MODIFIED:20220722T162546Z
UID:6615-1660071600-1660077000@philadelphiadogtraining.org
SUMMARY:OPEN
DESCRIPTION:
URL:https://philadelphiadogtraining.org/event/open-116/
CATEGORIES:Navy
END:VEVENT
END:VCALENDAR