BEGIN:VCALENDAR
VERSION:2.0
PRODID:-// - ECPv5.7.0//NONSGML v1.0//EN
CALSCALE:GREGORIAN
METHOD:PUBLISH
X-ORIGINAL-URL:https://philadelphiadogtraining.org
X-WR-CALDESC:Events for 
BEGIN:VTIMEZONE
TZID:America/New_York
BEGIN:DAYLIGHT
TZOFFSETFROM:-0500
TZOFFSETTO:-0400
TZNAME:EDT
DTSTART:20220313T070000
END:DAYLIGHT
BEGIN:STANDARD
TZOFFSETFROM:-0400
TZOFFSETTO:-0500
TZNAME:EST
DTSTART:20221106T060000
END:STANDARD
END:VTIMEZONE
BEGIN:VEVENT
DTSTART;TZID=America/New_York:20220913T190000
DTEND;TZID=America/New_York:20220913T203000
DTSTAMP:20260419T145325
CREATED:20220722T162738Z
LAST-MODIFIED:20220722T162738Z
UID:6625-1663095600-1663101000@philadelphiadogtraining.org
SUMMARY:OPEN
DESCRIPTION:
URL:https://philadelphiadogtraining.org/event/open-121/
CATEGORIES:Navy
END:VEVENT
BEGIN:VEVENT
DTSTART;TZID=America/New_York:20220913T173000
DTEND;TZID=America/New_York:20220913T190000
DTSTAMP:20260419T145325
CREATED:20220722T162415Z
LAST-MODIFIED:20220722T162415Z
UID:6611-1663090200-1663095600@philadelphiadogtraining.org
SUMMARY:UTILITY
DESCRIPTION:
URL:https://philadelphiadogtraining.org/event/utility-124/
CATEGORIES:Light Blue
END:VEVENT
BEGIN:VEVENT
DTSTART;TZID=America/New_York:20220912T194500
DTEND;TZID=America/New_York:20220912T204500
DTSTAMP:20260419T145325
CREATED:20220722T160924Z
LAST-MODIFIED:20220722T160924Z
UID:6596-1663011900-1663015500@philadelphiadogtraining.org
SUMMARY:NOVICE/FOUNDATION SKILLS
DESCRIPTION:
URL:https://philadelphiadogtraining.org/event/novice-foundation-skills-47/
CATEGORIES:Yellow
END:VEVENT
BEGIN:VEVENT
DTSTART;TZID=America/New_York:20220912T184500
DTEND;TZID=America/New_York:20220912T194500
DTSTAMP:20260419T145325
CREATED:20220722T160538Z
LAST-MODIFIED:20220722T160538Z
UID:6586-1663008300-1663011900@philadelphiadogtraining.org
SUMMARY:NOVICE RING READINESS
DESCRIPTION:
URL:https://philadelphiadogtraining.org/event/novice-ring-readiness-53/
CATEGORIES:Navy
END:VEVENT
BEGIN:VEVENT
DTSTART;TZID=America/New_York:20220912T173000
DTEND;TZID=America/New_York:20220912T183000
DTSTAMP:20260419T145325
CREATED:20220722T160518Z
LAST-MODIFIED:20220722T160518Z
UID:6584-1663003800-1663007400@philadelphiadogtraining.org
SUMMARY:PUPPY K
DESCRIPTION:
URL:https://philadelphiadogtraining.org/event/puppy-k-89/
CATEGORIES:Light Blue
END:VEVENT
BEGIN:VEVENT
DTSTART;TZID=America/New_York:20220908T190000
DTEND;TZID=America/New_York:20220908T200000
DTSTAMP:20260419T145325
CREATED:20220722T232256Z
LAST-MODIFIED:20220722T232256Z
UID:6706-1662663600-1662667200@philadelphiadogtraining.org
SUMMARY:INTERMEDIATE
DESCRIPTION:
URL:https://philadelphiadogtraining.org/event/intermediate-76/
CATEGORIES:Yellow
END:VEVENT
BEGIN:VEVENT
DTSTART;TZID=America/New_York:20220908T180000
DTEND;TZID=America/New_York:20220908T190000
DTSTAMP:20260419T145325
CREATED:20220722T231925Z
LAST-MODIFIED:20220722T231925Z
UID:6694-1662660000-1662663600@philadelphiadogtraining.org
SUMMARY:ADVANCED
DESCRIPTION:
URL:https://philadelphiadogtraining.org/event/advanced-108/
CATEGORIES:Navy
END:VEVENT
BEGIN:VEVENT
DTSTART;TZID=America/New_York:20220908T170000
DTEND;TZID=America/New_York:20220908T180000
DTSTAMP:20260419T145325
CREATED:20220722T231558Z
LAST-MODIFIED:20220722T231558Z
UID:6682-1662656400-1662660000@philadelphiadogtraining.org
SUMMARY:ADVANCED
DESCRIPTION:
URL:https://philadelphiadogtraining.org/event/advanced-102/
CATEGORIES:Light Blue
END:VEVENT
BEGIN:VEVENT
DTSTART;VALUE=DATE:20220908
DTEND;VALUE=DATE:20220909
DTSTAMP:20260419T145325
CREATED:20220723T131602Z
LAST-MODIFIED:20220726T160226Z
UID:6726-1662595200-1662681599@philadelphiadogtraining.org
SUMMARY:FIFTH NIGHT OF CLASSES
DESCRIPTION:
URL:https://philadelphiadogtraining.org/event/last-night-of-classes-27/
CATEGORIES:Class Nights,Light Blue
END:VEVENT
BEGIN:VEVENT
DTSTART;TZID=America/New_York:20220907T200000
DTEND;TZID=America/New_York:20220907T210000
DTSTAMP:20260419T145325
CREATED:20220722T164414Z
LAST-MODIFIED:20220722T164414Z
UID:6668-1662580800-1662584400@philadelphiadogtraining.org
SUMMARY:RALLY
DESCRIPTION:
URL:https://philadelphiadogtraining.org/event/rally-88/
CATEGORIES:Yellow
END:VEVENT
BEGIN:VEVENT
DTSTART;TZID=America/New_York:20220907T184500
DTEND;TZID=America/New_York:20220907T194500
DTSTAMP:20260419T145325
CREATED:20220722T163907Z
LAST-MODIFIED:20220722T163907Z
UID:6652-1662576300-1662579900@philadelphiadogtraining.org
SUMMARY:BEGINNER
DESCRIPTION:
URL:https://philadelphiadogtraining.org/event/beginner-192/
CATEGORIES:Navy
END:VEVENT
BEGIN:VEVENT
DTSTART;TZID=America/New_York:20220907T173000
DTEND;TZID=America/New_York:20220907T183000
DTSTAMP:20260419T145325
CREATED:20220722T163450Z
LAST-MODIFIED:20220722T163450Z
UID:6638-1662571800-1662575400@philadelphiadogtraining.org
SUMMARY:BEGINNER
DESCRIPTION:
URL:https://philadelphiadogtraining.org/event/beginner-185/
CATEGORIES:Light Blue
END:VEVENT
BEGIN:VEVENT
DTSTART;VALUE=DATE:20220907
DTEND;VALUE=DATE:20220908
DTSTAMP:20260419T145325
CREATED:20220722T233238Z
LAST-MODIFIED:20220726T160004Z
UID:6722-1662508800-1662595199@philadelphiadogtraining.org
SUMMARY:FIFTH NIGHT OF CLASSES
DESCRIPTION:
URL:https://philadelphiadogtraining.org/event/sixth-night-of-classes-2/
CATEGORIES:Class Nights,Light Blue
END:VEVENT
BEGIN:VEVENT
DTSTART;TZID=America/New_York:20220906T190000
DTEND;TZID=America/New_York:20220906T203000
DTSTAMP:20260419T145325
CREATED:20220722T162713Z
LAST-MODIFIED:20220722T162713Z
UID:6623-1662490800-1662496200@philadelphiadogtraining.org
SUMMARY:OPEN
DESCRIPTION:
URL:https://philadelphiadogtraining.org/event/open-120/
CATEGORIES:Navy
END:VEVENT
BEGIN:VEVENT
DTSTART;TZID=America/New_York:20220906T173000
DTEND;TZID=America/New_York:20220906T190000
DTSTAMP:20260419T145325
CREATED:20220722T162355Z
LAST-MODIFIED:20220722T162355Z
UID:6609-1662485400-1662490800@philadelphiadogtraining.org
SUMMARY:UTILITY
DESCRIPTION:
URL:https://philadelphiadogtraining.org/event/utility-123/
CATEGORIES:Light Blue
END:VEVENT
BEGIN:VEVENT
DTSTART;VALUE=DATE:20220905
DTEND;VALUE=DATE:20220906
DTSTAMP:20260419T145325
CREATED:20220722T233327Z
LAST-MODIFIED:20220722T233327Z
UID:6724-1662336000-1662422399@philadelphiadogtraining.org
SUMMARY:NO CLASSES
DESCRIPTION:
URL:https://philadelphiadogtraining.org/event/no-classes-37/
CATEGORIES:NO CLASSES,Yellow
END:VEVENT
BEGIN:VEVENT
DTSTART;TZID=America/New_York:20220901T190000
DTEND;TZID=America/New_York:20220901T200000
DTSTAMP:20260419T145325
CREATED:20220722T232225Z
LAST-MODIFIED:20220722T232225Z
UID:6704-1662058800-1662062400@philadelphiadogtraining.org
SUMMARY:INTERMEDIATE
DESCRIPTION:
URL:https://philadelphiadogtraining.org/event/intermediate-75/
CATEGORIES:Yellow
END:VEVENT
BEGIN:VEVENT
DTSTART;TZID=America/New_York:20220901T180000
DTEND;TZID=America/New_York:20220901T190000
DTSTAMP:20260419T145325
CREATED:20220722T231857Z
LAST-MODIFIED:20220722T231857Z
UID:6692-1662055200-1662058800@philadelphiadogtraining.org
SUMMARY:ADVANCED
DESCRIPTION:
URL:https://philadelphiadogtraining.org/event/advanced-107/
CATEGORIES:Navy
END:VEVENT
BEGIN:VEVENT
DTSTART;TZID=America/New_York:20220901T170000
DTEND;TZID=America/New_York:20220901T180000
DTSTAMP:20260419T145325
CREATED:20220722T231523Z
LAST-MODIFIED:20220722T231523Z
UID:6680-1662051600-1662055200@philadelphiadogtraining.org
SUMMARY:ADVANCED
DESCRIPTION:
URL:https://philadelphiadogtraining.org/event/advanced-101/
CATEGORIES:Light Blue
END:VEVENT
BEGIN:VEVENT
DTSTART;TZID=America/New_York:20220831T200000
DTEND;TZID=America/New_York:20220831T210000
DTSTAMP:20260419T145325
CREATED:20220722T164349Z
LAST-MODIFIED:20220722T164349Z
UID:6666-1661976000-1661979600@philadelphiadogtraining.org
SUMMARY:RALLY
DESCRIPTION:
URL:https://philadelphiadogtraining.org/event/rally-87/
CATEGORIES:Yellow
END:VEVENT
BEGIN:VEVENT
DTSTART;TZID=America/New_York:20220831T184500
DTEND;TZID=America/New_York:20220831T194500
DTSTAMP:20260419T145325
CREATED:20220722T163830Z
LAST-MODIFIED:20220722T163830Z
UID:6650-1661971500-1661975100@philadelphiadogtraining.org
SUMMARY:BEGINNER
DESCRIPTION:
URL:https://philadelphiadogtraining.org/event/beginner-191/
CATEGORIES:Navy
END:VEVENT
BEGIN:VEVENT
DTSTART;TZID=America/New_York:20220831T173000
DTEND;TZID=America/New_York:20220831T183000
DTSTAMP:20260419T145325
CREATED:20220722T163417Z
LAST-MODIFIED:20220722T163417Z
UID:6636-1661967000-1661970600@philadelphiadogtraining.org
SUMMARY:BEGINNER
DESCRIPTION:
URL:https://philadelphiadogtraining.org/event/beginner-184/
CATEGORIES:Light Blue
END:VEVENT
BEGIN:VEVENT
DTSTART;VALUE=DATE:20220831
DTEND;VALUE=DATE:20220902
DTSTAMP:20260419T145325
CREATED:20220722T233138Z
LAST-MODIFIED:20220726T155920Z
UID:6718-1661904000-1662076799@philadelphiadogtraining.org
SUMMARY:FOURTH NIGHT OF CLASSES
DESCRIPTION:
URL:https://philadelphiadogtraining.org/event/fifth-night-of-classes-7/
CATEGORIES:Class Nights
END:VEVENT
BEGIN:VEVENT
DTSTART;TZID=America/New_York:20220830T190000
DTEND;TZID=America/New_York:20220830T203000
DTSTAMP:20260419T145325
CREATED:20220722T162651Z
LAST-MODIFIED:20220722T162651Z
UID:6621-1661886000-1661891400@philadelphiadogtraining.org
SUMMARY:OPEN
DESCRIPTION:
URL:https://philadelphiadogtraining.org/event/open-119/
CATEGORIES:Navy
END:VEVENT
BEGIN:VEVENT
DTSTART;TZID=America/New_York:20220830T173000
DTEND;TZID=America/New_York:20220830T190000
DTSTAMP:20260419T145325
CREATED:20220722T162328Z
LAST-MODIFIED:20220722T162328Z
UID:6607-1661880600-1661886000@philadelphiadogtraining.org
SUMMARY:UTILITY
DESCRIPTION:
URL:https://philadelphiadogtraining.org/event/utility-122/
CATEGORIES:Light Blue
END:VEVENT
BEGIN:VEVENT
DTSTART;TZID=America/New_York:20220829T194500
DTEND;TZID=America/New_York:20220829T204500
DTSTAMP:20260419T145325
CREATED:20220722T160852Z
LAST-MODIFIED:20220722T160852Z
UID:6594-1661802300-1661805900@philadelphiadogtraining.org
SUMMARY:NOVICE/FOUNDATION SKILLS
DESCRIPTION:
URL:https://philadelphiadogtraining.org/event/novice-foundation-skills-46/
CATEGORIES:Yellow
END:VEVENT
BEGIN:VEVENT
DTSTART;TZID=America/New_York:20220829T184500
DTEND;TZID=America/New_York:20220829T194500
DTSTAMP:20260419T145325
CREATED:20220722T160425Z
LAST-MODIFIED:20220722T160451Z
UID:6582-1661798700-1661802300@philadelphiadogtraining.org
SUMMARY:NOVICE RING READINESS
DESCRIPTION:
URL:https://philadelphiadogtraining.org/event/novice-ring-readiness-52/
CATEGORIES:Navy
END:VEVENT
BEGIN:VEVENT
DTSTART;TZID=America/New_York:20220829T173000
DTEND;TZID=America/New_York:20220829T183000
DTSTAMP:20260419T145325
CREATED:20220722T160153Z
LAST-MODIFIED:20220722T160153Z
UID:6567-1661794200-1661797800@philadelphiadogtraining.org
SUMMARY:PUPPY K
DESCRIPTION:
URL:https://philadelphiadogtraining.org/event/puppy-k-88/
CATEGORIES:Light Blue
END:VEVENT
BEGIN:VEVENT
DTSTART;TZID=America/New_York:20220825T190000
DTEND;TZID=America/New_York:20220825T200000
DTSTAMP:20260419T145325
CREATED:20220722T232155Z
LAST-MODIFIED:20220722T232155Z
UID:6702-1661454000-1661457600@philadelphiadogtraining.org
SUMMARY:INTERMEDIATE
DESCRIPTION:
URL:https://philadelphiadogtraining.org/event/intermediate-74/
CATEGORIES:Yellow
END:VEVENT
BEGIN:VEVENT
DTSTART;TZID=America/New_York:20220825T180000
DTEND;TZID=America/New_York:20220825T190000
DTSTAMP:20260419T145325
CREATED:20220722T231828Z
LAST-MODIFIED:20220722T231828Z
UID:6690-1661450400-1661454000@philadelphiadogtraining.org
SUMMARY:ADVANCED
DESCRIPTION:
URL:https://philadelphiadogtraining.org/event/advanced-106/
CATEGORIES:Navy
END:VEVENT
END:VCALENDAR