BEGIN:VCALENDAR
VERSION:2.0
PRODID:-// - ECPv5.7.0//NONSGML v1.0//EN
CALSCALE:GREGORIAN
METHOD:PUBLISH
X-ORIGINAL-URL:https://philadelphiadogtraining.org
X-WR-CALDESC:Events for 
BEGIN:VTIMEZONE
TZID:America/New_York
BEGIN:DAYLIGHT
TZOFFSETFROM:-0500
TZOFFSETTO:-0400
TZNAME:EDT
DTSTART:20230312T070000
END:DAYLIGHT
BEGIN:STANDARD
TZOFFSETFROM:-0400
TZOFFSETTO:-0500
TZNAME:EST
DTSTART:20231105T060000
END:STANDARD
END:VTIMEZONE
BEGIN:VEVENT
DTSTART;VALUE=DATE:20230130
DTEND;VALUE=DATE:20230203
DTSTAMP:20260422T025552
CREATED:20220906T185330Z
LAST-MODIFIED:20221220T204218Z
UID:7179-1675036800-1675382399@philadelphiadogtraining.org
SUMMARY:FIRST NIGHT OF CLASSES
DESCRIPTION:
URL:https://philadelphiadogtraining.org/event/first-night-of-classes-23/
CATEGORIES:Class Nights
END:VEVENT
BEGIN:VEVENT
DTSTART;TZID=America/New_York:20230131T173000
DTEND;TZID=America/New_York:20230131T183000
DTSTAMP:20260422T025552
CREATED:20221218T165644Z
LAST-MODIFIED:20221218T165644Z
UID:7422-1675186200-1675189800@philadelphiadogtraining.org
SUMMARY:BEGINNER
DESCRIPTION:
URL:https://philadelphiadogtraining.org/event/beginner-228/
CATEGORIES:Light Blue
END:VEVENT
BEGIN:VEVENT
DTSTART;TZID=America/New_York:20230131T183000
DTEND;TZID=America/New_York:20230131T193000
DTSTAMP:20260422T025552
CREATED:20221219T132744Z
LAST-MODIFIED:20221219T132744Z
UID:7434-1675189800-1675193400@philadelphiadogtraining.org
SUMMARY:INTERMEDIATE
DESCRIPTION:
URL:https://philadelphiadogtraining.org/event/intermediate-95/
CATEGORIES:Navy
END:VEVENT
BEGIN:VEVENT
DTSTART;TZID=America/New_York:20230131T193000
DTEND;TZID=America/New_York:20230131T203000
DTSTAMP:20260422T025552
CREATED:20221219T133911Z
LAST-MODIFIED:20221219T133911Z
UID:7448-1675193400-1675197000@philadelphiadogtraining.org
SUMMARY:RALLY
DESCRIPTION:
URL:https://philadelphiadogtraining.org/event/rally-95/
CATEGORIES:Yellow
END:VEVENT
END:VCALENDAR