BEGIN:VCALENDAR
VERSION:2.0
PRODID:-// - ECPv5.7.0//NONSGML v1.0//EN
CALSCALE:GREGORIAN
METHOD:PUBLISH
X-ORIGINAL-URL:https://philadelphiadogtraining.org
X-WR-CALDESC:Events for 
BEGIN:VTIMEZONE
TZID:America/New_York
BEGIN:DAYLIGHT
TZOFFSETFROM:-0500
TZOFFSETTO:-0400
TZNAME:EDT
DTSTART:20230312T070000
END:DAYLIGHT
BEGIN:STANDARD
TZOFFSETFROM:-0400
TZOFFSETTO:-0500
TZNAME:EST
DTSTART:20231105T060000
END:STANDARD
END:VTIMEZONE
BEGIN:VEVENT
DTSTART;VALUE=DATE:20230125
DTEND;VALUE=DATE:20230126
DTSTAMP:20260422T045007
CREATED:20221106T174749Z
LAST-MODIFIED:20221106T174749Z
UID:7226-1674604800-1674691199@philadelphiadogtraining.org
SUMMARY:LAST NIGHT OF CLASSES
DESCRIPTION:
URL:https://philadelphiadogtraining.org/event/last-night-of-classes-33/
CATEGORIES:Class Nights,Light Blue
END:VEVENT
BEGIN:VEVENT
DTSTART;TZID=America/New_York:20230125T173000
DTEND;TZID=America/New_York:20230125T183000
DTSTAMP:20260422T045007
CREATED:20221106T175132Z
LAST-MODIFIED:20221106T175132Z
UID:7230-1674667800-1674671400@philadelphiadogtraining.org
SUMMARY:BEGINNER
DESCRIPTION:
URL:https://philadelphiadogtraining.org/event/beginner-218/
CATEGORIES:Light Blue
END:VEVENT
BEGIN:VEVENT
DTSTART;TZID=America/New_York:20230125T184500
DTEND;TZID=America/New_York:20230125T194500
DTSTAMP:20260422T045007
CREATED:20221106T175035Z
LAST-MODIFIED:20221106T175035Z
UID:7228-1674672300-1674675900@philadelphiadogtraining.org
SUMMARY:BEGINNER
DESCRIPTION:
URL:https://philadelphiadogtraining.org/event/beginner-211/
CATEGORIES:Navy
END:VEVENT
END:VCALENDAR