BEGIN:VCALENDAR
VERSION:2.0
PRODID:-// - ECPv5.7.0//NONSGML v1.0//EN
CALSCALE:GREGORIAN
METHOD:PUBLISH
X-ORIGINAL-URL:https://philadelphiadogtraining.org
X-WR-CALDESC:Events for 
BEGIN:VTIMEZONE
TZID:America/New_York
BEGIN:DAYLIGHT
TZOFFSETFROM:-0500
TZOFFSETTO:-0400
TZNAME:EDT
DTSTART:20230312T070000
END:DAYLIGHT
BEGIN:STANDARD
TZOFFSETFROM:-0400
TZOFFSETTO:-0500
TZNAME:EST
DTSTART:20231105T060000
END:STANDARD
END:VTIMEZONE
BEGIN:VEVENT
DTSTART;VALUE=DATE:20230118
DTEND;VALUE=DATE:20230120
DTSTAMP:20260422T044052
CREATED:20220906T185725Z
LAST-MODIFIED:20221106T174236Z
UID:7191-1674000000-1674172799@philadelphiadogtraining.org
SUMMARY:SIXTH NIGHT OF CLASSES
DESCRIPTION:
URL:https://philadelphiadogtraining.org/event/last-night-of-classes-32/
CATEGORIES:Class Nights,Light Blue
END:VEVENT
BEGIN:VEVENT
DTSTART;TZID=America/New_York:20230119T170000
DTEND;TZID=America/New_York:20230119T180000
DTSTAMP:20260422T044052
CREATED:20221112T183835Z
LAST-MODIFIED:20221112T183835Z
UID:7267-1674147600-1674151200@philadelphiadogtraining.org
SUMMARY:INTERMEDIATE
DESCRIPTION:
URL:https://philadelphiadogtraining.org/event/intermediate-94/
CATEGORIES:Yellow
END:VEVENT
BEGIN:VEVENT
DTSTART;TZID=America/New_York:20230119T180000
DTEND;TZID=America/New_York:20230119T190000
DTSTAMP:20260422T044052
CREATED:20220906T184715Z
LAST-MODIFIED:20221106T175545Z
UID:7157-1674151200-1674154800@philadelphiadogtraining.org
SUMMARY:ADVANCED
DESCRIPTION:
URL:https://philadelphiadogtraining.org/event/advanced-133/
CATEGORIES:Navy
END:VEVENT
BEGIN:VEVENT
DTSTART;TZID=America/New_York:20230119T190000
DTEND;TZID=America/New_York:20230119T200000
DTSTAMP:20260422T044052
CREATED:20221106T175621Z
LAST-MODIFIED:20221106T175621Z
UID:7236-1674154800-1674158400@philadelphiadogtraining.org
SUMMARY:INTERMEDIATE
DESCRIPTION:
URL:https://philadelphiadogtraining.org/event/intermediate-86/
CATEGORIES:Yellow
END:VEVENT
END:VCALENDAR