BEGIN:VCALENDAR
VERSION:2.0
PRODID:-// - ECPv5.7.0//NONSGML v1.0//EN
CALSCALE:GREGORIAN
METHOD:PUBLISH
X-ORIGINAL-URL:https://philadelphiadogtraining.org
X-WR-CALDESC:Events for 
BEGIN:VTIMEZONE
TZID:America/New_York
BEGIN:DAYLIGHT
TZOFFSETFROM:-0500
TZOFFSETTO:-0400
TZNAME:EDT
DTSTART:20230312T070000
END:DAYLIGHT
BEGIN:STANDARD
TZOFFSETFROM:-0400
TZOFFSETTO:-0500
TZNAME:EST
DTSTART:20231105T060000
END:STANDARD
END:VTIMEZONE
BEGIN:VEVENT
DTSTART;VALUE=DATE:20230111
DTEND;VALUE=DATE:20230113
DTSTAMP:20260422T045007
CREATED:20220906T185639Z
LAST-MODIFIED:20221106T174051Z
UID:7189-1673395200-1673567999@philadelphiadogtraining.org
SUMMARY:FIFTH NIGHT OF CLASSES
DESCRIPTION:
URL:https://philadelphiadogtraining.org/event/sixth-night-of-classes-4/
CATEGORIES:Class Nights,Light Blue
END:VEVENT
BEGIN:VEVENT
DTSTART;TZID=America/New_York:20230112T170000
DTEND;TZID=America/New_York:20230112T180000
DTSTAMP:20260422T045007
CREATED:20221112T183737Z
LAST-MODIFIED:20221112T183737Z
UID:7265-1673542800-1673546400@philadelphiadogtraining.org
SUMMARY:INTERMEDIATE
DESCRIPTION:
URL:https://philadelphiadogtraining.org/event/intermediate-93/
CATEGORIES:Yellow
END:VEVENT
BEGIN:VEVENT
DTSTART;TZID=America/New_York:20230112T180000
DTEND;TZID=America/New_York:20230112T190000
DTSTAMP:20260422T045007
CREATED:20220906T184650Z
LAST-MODIFIED:20221112T182831Z
UID:7156-1673546400-1673550000@philadelphiadogtraining.org
SUMMARY:ADVANCED
DESCRIPTION:
URL:https://philadelphiadogtraining.org/event/advanced-132/
CATEGORIES:Navy
END:VEVENT
BEGIN:VEVENT
DTSTART;TZID=America/New_York:20230112T190000
DTEND;TZID=America/New_York:20230112T200000
DTSTAMP:20260422T045007
CREATED:20220906T185154Z
LAST-MODIFIED:20220906T185154Z
UID:7171-1673550000-1673553600@philadelphiadogtraining.org
SUMMARY:INTERMEDIATE
DESCRIPTION:
URL:https://philadelphiadogtraining.org/event/intermediate-88/
CATEGORIES:Yellow
END:VEVENT
END:VCALENDAR