BEGIN:VCALENDAR
VERSION:2.0
PRODID:-// - ECPv5.7.0//NONSGML v1.0//EN
CALSCALE:GREGORIAN
METHOD:PUBLISH
X-ORIGINAL-URL:https://philadelphiadogtraining.org
X-WR-CALDESC:Events for 
BEGIN:VTIMEZONE
TZID:America/New_York
BEGIN:DAYLIGHT
TZOFFSETFROM:-0500
TZOFFSETTO:-0400
TZNAME:EDT
DTSTART:20230312T070000
END:DAYLIGHT
BEGIN:STANDARD
TZOFFSETFROM:-0400
TZOFFSETTO:-0500
TZNAME:EST
DTSTART:20231105T060000
END:STANDARD
END:VTIMEZONE
BEGIN:VEVENT
DTSTART;VALUE=DATE:20230111
DTEND;VALUE=DATE:20230113
DTSTAMP:20260422T044052
CREATED:20220906T185639Z
LAST-MODIFIED:20221106T174051Z
UID:7189-1673395200-1673567999@philadelphiadogtraining.org
SUMMARY:FIFTH NIGHT OF CLASSES
DESCRIPTION:
URL:https://philadelphiadogtraining.org/event/sixth-night-of-classes-4/
CATEGORIES:Class Nights,Light Blue
END:VEVENT
BEGIN:VEVENT
DTSTART;TZID=America/New_York:20230111T173000
DTEND;TZID=America/New_York:20230111T183000
DTSTAMP:20260422T044052
CREATED:20220906T182622Z
LAST-MODIFIED:20220906T182622Z
UID:7101-1673458200-1673461800@philadelphiadogtraining.org
SUMMARY:BEGINNER
DESCRIPTION:
URL:https://philadelphiadogtraining.org/event/beginner-213/
CATEGORIES:Light Blue
END:VEVENT
BEGIN:VEVENT
DTSTART;TZID=America/New_York:20230111T184500
DTEND;TZID=America/New_York:20230111T194500
DTSTAMP:20260422T044052
CREATED:20220906T183043Z
LAST-MODIFIED:20220906T183043Z
UID:7115-1673462700-1673466300@philadelphiadogtraining.org
SUMMARY:BEGINNER
DESCRIPTION:
URL:https://philadelphiadogtraining.org/event/beginner-220/
CATEGORIES:Navy
END:VEVENT
BEGIN:VEVENT
DTSTART;TZID=America/New_York:20230111T200000
DTEND;TZID=America/New_York:20230111T210000
DTSTAMP:20260422T044052
CREATED:20220906T183604Z
LAST-MODIFIED:20220906T183604Z
UID:7129-1673467200-1673470800@philadelphiadogtraining.org
SUMMARY:RALLY
DESCRIPTION:
URL:https://philadelphiadogtraining.org/event/rally-101/
CATEGORIES:Yellow
END:VEVENT
END:VCALENDAR