BEGIN:VCALENDAR
VERSION:2.0
PRODID:-// - ECPv5.7.0//NONSGML v1.0//EN
CALSCALE:GREGORIAN
METHOD:PUBLISH
X-ORIGINAL-URL:https://philadelphiadogtraining.org
X-WR-CALDESC:Events for 
BEGIN:VTIMEZONE
TZID:America/New_York
BEGIN:DAYLIGHT
TZOFFSETFROM:-0500
TZOFFSETTO:-0400
TZNAME:EDT
DTSTART:20230312T070000
END:DAYLIGHT
BEGIN:STANDARD
TZOFFSETFROM:-0400
TZOFFSETTO:-0500
TZNAME:EST
DTSTART:20231105T060000
END:STANDARD
END:VTIMEZONE
BEGIN:VEVENT
DTSTART;VALUE=DATE:20230104
DTEND;VALUE=DATE:20230106
DTSTAMP:20260422T043930
CREATED:20220906T185558Z
LAST-MODIFIED:20221106T174016Z
UID:7187-1672790400-1672963199@philadelphiadogtraining.org
SUMMARY:FOURTH NIGHT OF CLASSES
DESCRIPTION:
URL:https://philadelphiadogtraining.org/event/fifth-night-of-classes-9/
CATEGORIES:Class Nights,Light Blue
END:VEVENT
BEGIN:VEVENT
DTSTART;TZID=America/New_York:20230105T170000
DTEND;TZID=America/New_York:20230105T180000
DTSTAMP:20260422T043930
CREATED:20221112T183610Z
LAST-MODIFIED:20221112T183610Z
UID:7262-1672938000-1672941600@philadelphiadogtraining.org
SUMMARY:INTERMEDIATE
DESCRIPTION:
URL:https://philadelphiadogtraining.org/event/intermediate-92/
CATEGORIES:Yellow
END:VEVENT
BEGIN:VEVENT
DTSTART;TZID=America/New_York:20230105T180000
DTEND;TZID=America/New_York:20230105T190000
DTSTAMP:20260422T043930
CREATED:20221211T141845Z
LAST-MODIFIED:20221211T141845Z
UID:7261-1672941600-1672945200@philadelphiadogtraining.org
SUMMARY:ADVANCED
DESCRIPTION:
URL:https://philadelphiadogtraining.org/event/advanced-115/
CATEGORIES:Navy
END:VEVENT
BEGIN:VEVENT
DTSTART;TZID=America/New_York:20230105T190000
DTEND;TZID=America/New_York:20230105T200000
DTSTAMP:20260422T043930
CREATED:20220906T185132Z
LAST-MODIFIED:20220906T185132Z
UID:7170-1672945200-1672948800@philadelphiadogtraining.org
SUMMARY:INTERMEDIATE
DESCRIPTION:
URL:https://philadelphiadogtraining.org/event/intermediate-87/
CATEGORIES:Yellow
END:VEVENT
END:VCALENDAR