BEGIN:VCALENDAR
VERSION:2.0
PRODID:-// - ECPv5.7.0//NONSGML v1.0//EN
CALSCALE:GREGORIAN
METHOD:PUBLISH
X-ORIGINAL-URL:https://philadelphiadogtraining.org
X-WR-CALDESC:Events for 
BEGIN:VTIMEZONE
TZID:America/New_York
BEGIN:DAYLIGHT
TZOFFSETFROM:-0500
TZOFFSETTO:-0400
TZNAME:EDT
DTSTART:20230312T070000
END:DAYLIGHT
BEGIN:STANDARD
TZOFFSETFROM:-0400
TZOFFSETTO:-0500
TZNAME:EST
DTSTART:20231105T060000
END:STANDARD
END:VTIMEZONE
BEGIN:VEVENT
DTSTART;TZID=America/New_York:20230102T173000
DTEND;TZID=America/New_York:20230102T183000
DTSTAMP:20260422T044904
CREATED:20220906T155834Z
LAST-MODIFIED:20220906T160037Z
UID:7018-1672680600-1672684200@philadelphiadogtraining.org
SUMMARY:PUPPY K
DESCRIPTION:
URL:https://philadelphiadogtraining.org/event/puppy-k-99/
CATEGORIES:Light Blue
END:VEVENT
BEGIN:VEVENT
DTSTART;TZID=America/New_York:20230102T184500
DTEND;TZID=America/New_York:20230102T194500
DTSTAMP:20260422T044904
CREATED:20220906T160456Z
LAST-MODIFIED:20220906T160456Z
UID:7033-1672685100-1672688700@philadelphiadogtraining.org
SUMMARY:NOVICE RING READINESS
DESCRIPTION:
URL:https://philadelphiadogtraining.org/event/novice-ring-readiness-68/
CATEGORIES:Navy
END:VEVENT
BEGIN:VEVENT
DTSTART;TZID=America/New_York:20230102T194500
DTEND;TZID=America/New_York:20230102T204500
DTSTAMP:20260422T044904
CREATED:20220906T161236Z
LAST-MODIFIED:20220906T161236Z
UID:7052-1672688700-1672692300@philadelphiadogtraining.org
SUMMARY:NOVICE/FOUNDATION SKILLS
DESCRIPTION:
URL:https://philadelphiadogtraining.org/event/novice-foundation-skills-61/
CATEGORIES:Yellow
END:VEVENT
END:VCALENDAR