BEGIN:VCALENDAR
VERSION:2.0
PRODID:-// - ECPv5.7.0//NONSGML v1.0//EN
CALSCALE:GREGORIAN
METHOD:PUBLISH
X-ORIGINAL-URL:https://philadelphiadogtraining.org
X-WR-CALDESC:Events for 
BEGIN:VTIMEZONE
TZID:America/New_York
BEGIN:DAYLIGHT
TZOFFSETFROM:-0500
TZOFFSETTO:-0400
TZNAME:EDT
DTSTART:20220313T070000
END:DAYLIGHT
BEGIN:STANDARD
TZOFFSETFROM:-0400
TZOFFSETTO:-0500
TZNAME:EST
DTSTART:20221106T060000
END:STANDARD
END:VTIMEZONE
BEGIN:VEVENT
DTSTART;TZID=America/New_York:20221219T173000
DTEND;TZID=America/New_York:20221219T183000
DTSTAMP:20260422T055746
CREATED:20220906T155915Z
LAST-MODIFIED:20220906T155915Z
UID:7020-1671471000-1671474600@philadelphiadogtraining.org
SUMMARY:PUPPY K
DESCRIPTION:
URL:https://philadelphiadogtraining.org/event/puppy-k-101/
CATEGORIES:Light Blue
END:VEVENT
BEGIN:VEVENT
DTSTART;TZID=America/New_York:20221219T184500
DTEND;TZID=America/New_York:20221219T194500
DTSTAMP:20260422T055746
CREATED:20220906T160321Z
LAST-MODIFIED:20220906T160358Z
UID:7030-1671475500-1671479100@philadelphiadogtraining.org
SUMMARY:NOVICE RING READINESS
DESCRIPTION:
URL:https://philadelphiadogtraining.org/event/novice-ring-readiness-65/
CATEGORIES:Navy
END:VEVENT
BEGIN:VEVENT
DTSTART;TZID=America/New_York:20221219T194500
DTEND;TZID=America/New_York:20221219T204500
DTSTAMP:20260422T055746
CREATED:20220906T161102Z
LAST-MODIFIED:20220906T161102Z
UID:7050-1671479100-1671482700@philadelphiadogtraining.org
SUMMARY:NOVICE/FOUNDATION SKILLS
DESCRIPTION:
URL:https://philadelphiadogtraining.org/event/novice-foundation-skills-59/
CATEGORIES:Yellow
END:VEVENT
END:VCALENDAR