BEGIN:VCALENDAR
VERSION:2.0
PRODID:-// - ECPv5.7.0//NONSGML v1.0//EN
CALSCALE:GREGORIAN
METHOD:PUBLISH
X-ORIGINAL-URL:https://philadelphiadogtraining.org
X-WR-CALDESC:Events for 
BEGIN:VTIMEZONE
TZID:America/New_York
BEGIN:DAYLIGHT
TZOFFSETFROM:-0500
TZOFFSETTO:-0400
TZNAME:EDT
DTSTART:20220313T070000
END:DAYLIGHT
BEGIN:STANDARD
TZOFFSETFROM:-0400
TZOFFSETTO:-0500
TZNAME:EST
DTSTART:20221106T060000
END:STANDARD
END:VTIMEZONE
BEGIN:VEVENT
DTSTART;TZID=America/New_York:20221128T173000
DTEND;TZID=America/New_York:20221128T183000
DTSTAMP:20260422T060451
CREATED:20220906T155811Z
LAST-MODIFIED:20220906T155811Z
UID:7017-1669656600-1669660200@philadelphiadogtraining.org
SUMMARY:PUPPY K
DESCRIPTION:
URL:https://philadelphiadogtraining.org/event/puppy-k-98/
CATEGORIES:Light Blue
END:VEVENT
BEGIN:VEVENT
DTSTART;TZID=America/New_York:20221128T184500
DTEND;TZID=America/New_York:20221128T194500
DTSTAMP:20260422T060451
CREATED:20220906T160303Z
LAST-MODIFIED:20220906T160303Z
UID:7029-1669661100-1669664700@philadelphiadogtraining.org
SUMMARY:NOVICE RING READINESS
DESCRIPTION:
URL:https://philadelphiadogtraining.org/event/novice-ring-readiness-64/
CATEGORIES:Navy
END:VEVENT
BEGIN:VEVENT
DTSTART;TZID=America/New_York:20221128T194500
DTEND;TZID=America/New_York:20221128T204500
DTSTAMP:20260422T060451
CREATED:20220906T161005Z
LAST-MODIFIED:20220906T161005Z
UID:7048-1669664700-1669668300@philadelphiadogtraining.org
SUMMARY:NOVICE/FOUNDATION SKILLS
DESCRIPTION:
URL:https://philadelphiadogtraining.org/event/novice-foundation-skills-57/
CATEGORIES:Yellow
END:VEVENT
END:VCALENDAR