BEGIN:VCALENDAR
VERSION:2.0
PRODID:-// - ECPv5.7.0//NONSGML v1.0//EN
CALSCALE:GREGORIAN
METHOD:PUBLISH
X-ORIGINAL-URL:https://philadelphiadogtraining.org
X-WR-CALDESC:Events for 
BEGIN:VTIMEZONE
TZID:America/New_York
BEGIN:DAYLIGHT
TZOFFSETFROM:-0500
TZOFFSETTO:-0400
TZNAME:EDT
DTSTART:20220313T070000
END:DAYLIGHT
BEGIN:STANDARD
TZOFFSETFROM:-0400
TZOFFSETTO:-0500
TZNAME:EST
DTSTART:20221106T060000
END:STANDARD
END:VTIMEZONE
BEGIN:VEVENT
DTSTART;VALUE=DATE:20221026
DTEND;VALUE=DATE:20221028
DTSTAMP:20260422T085330
CREATED:20220905T230045Z
LAST-MODIFIED:20220905T230102Z
UID:6987-1666742400-1666915199@philadelphiadogtraining.org
SUMMARY:FIFTH NIGHT OF CLASSES
DESCRIPTION:
URL:https://philadelphiadogtraining.org/event/fifth-night-of-classes-8/
CATEGORIES:Class Nights,Light Blue
END:VEVENT
BEGIN:VEVENT
DTSTART;TZID=America/New_York:20221026T173000
DTEND;TZID=America/New_York:20221026T183000
DTSTAMP:20260422T085330
CREATED:20220905T215504Z
LAST-MODIFIED:20220905T215504Z
UID:6892-1666805400-1666809000@philadelphiadogtraining.org
SUMMARY:BEGINNER
DESCRIPTION:
URL:https://philadelphiadogtraining.org/event/beginner-198/
CATEGORIES:Light Blue
END:VEVENT
BEGIN:VEVENT
DTSTART;TZID=America/New_York:20221026T184500
DTEND;TZID=America/New_York:20221026T194500
DTSTAMP:20260422T085330
CREATED:20220905T220550Z
LAST-MODIFIED:20220905T220550Z
UID:6914-1666809900-1666813500@philadelphiadogtraining.org
SUMMARY:BEGINNER
DESCRIPTION:
URL:https://philadelphiadogtraining.org/event/beginner-205/
CATEGORIES:Navy
END:VEVENT
BEGIN:VEVENT
DTSTART;TZID=America/New_York:20221026T200000
DTEND;TZID=America/New_York:20221026T210000
DTSTAMP:20260422T085330
CREATED:20220905T222008Z
LAST-MODIFIED:20220905T222008Z
UID:6928-1666814400-1666818000@philadelphiadogtraining.org
SUMMARY:RALLY
DESCRIPTION:
URL:https://philadelphiadogtraining.org/event/rally-93/
CATEGORIES:Yellow
END:VEVENT
END:VCALENDAR