BEGIN:VCALENDAR
VERSION:2.0
PRODID:-// - ECPv5.7.0//NONSGML v1.0//EN
CALSCALE:GREGORIAN
METHOD:PUBLISH
X-ORIGINAL-URL:https://philadelphiadogtraining.org
X-WR-CALDESC:Events for 
BEGIN:VTIMEZONE
TZID:America/New_York
BEGIN:DAYLIGHT
TZOFFSETFROM:-0500
TZOFFSETTO:-0400
TZNAME:EDT
DTSTART:20220313T070000
END:DAYLIGHT
BEGIN:STANDARD
TZOFFSETFROM:-0400
TZOFFSETTO:-0500
TZNAME:EST
DTSTART:20221106T060000
END:STANDARD
END:VTIMEZONE
BEGIN:VEVENT
DTSTART;VALUE=DATE:20221019
DTEND;VALUE=DATE:20221021
DTSTAMP:20260422T085151
CREATED:20220905T230015Z
LAST-MODIFIED:20220905T230015Z
UID:6985-1666137600-1666310399@philadelphiadogtraining.org
SUMMARY:FOURTH NIGHT OF CLASSES
DESCRIPTION:
URL:https://philadelphiadogtraining.org/event/fourth-night-of-classes-10/
CATEGORIES:Class Nights
END:VEVENT
BEGIN:VEVENT
DTSTART;TZID=America/New_York:20221020T170000
DTEND;TZID=America/New_York:20221020T180000
DTSTAMP:20260422T085151
CREATED:20220905T222421Z
LAST-MODIFIED:20220905T222421Z
UID:6940-1666285200-1666288800@philadelphiadogtraining.org
SUMMARY:ADVANCED
DESCRIPTION:
URL:https://philadelphiadogtraining.org/event/advanced-112/
CATEGORIES:Light Blue
END:VEVENT
BEGIN:VEVENT
DTSTART;TZID=America/New_York:20221020T180000
DTEND;TZID=America/New_York:20221020T190000
DTSTAMP:20260422T085151
CREATED:20220905T224502Z
LAST-MODIFIED:20220905T224502Z
UID:6954-1666288800-1666292400@philadelphiadogtraining.org
SUMMARY:ADVANCED
DESCRIPTION:
URL:https://philadelphiadogtraining.org/event/advanced-119/
CATEGORIES:Navy
END:VEVENT
BEGIN:VEVENT
DTSTART;TZID=America/New_York:20221020T190000
DTEND;TZID=America/New_York:20221020T200000
DTSTAMP:20260422T085151
CREATED:20220905T224923Z
LAST-MODIFIED:20220905T224923Z
UID:6966-1666292400-1666296000@philadelphiadogtraining.org
SUMMARY:INTERMEDIATE
DESCRIPTION:
URL:https://philadelphiadogtraining.org/event/intermediate-80/
CATEGORIES:Yellow
END:VEVENT
END:VCALENDAR