BEGIN:VCALENDAR
VERSION:2.0
PRODID:-// - ECPv5.7.0//NONSGML v1.0//EN
CALSCALE:GREGORIAN
METHOD:PUBLISH
X-ORIGINAL-URL:https://philadelphiadogtraining.org
X-WR-CALDESC:Events for 
BEGIN:VTIMEZONE
TZID:America/New_York
BEGIN:DAYLIGHT
TZOFFSETFROM:-0500
TZOFFSETTO:-0400
TZNAME:EDT
DTSTART:20220313T070000
END:DAYLIGHT
BEGIN:STANDARD
TZOFFSETFROM:-0400
TZOFFSETTO:-0500
TZNAME:EST
DTSTART:20221106T060000
END:STANDARD
END:VTIMEZONE
BEGIN:VEVENT
DTSTART;VALUE=DATE:20221005
DTEND;VALUE=DATE:20221007
DTSTAMP:20260422T085236
CREATED:20220905T225825Z
LAST-MODIFIED:20220905T225825Z
UID:6981-1664928000-1665100799@philadelphiadogtraining.org
SUMMARY:SECOND NIGHT OF CLASSES
DESCRIPTION:
URL:https://philadelphiadogtraining.org/event/second-night-of-classes-9/
CATEGORIES:Class Nights
END:VEVENT
BEGIN:VEVENT
DTSTART;TZID=America/New_York:20221005T173000
DTEND;TZID=America/New_York:20221005T183000
DTSTAMP:20260422T085236
CREATED:20220905T215338Z
LAST-MODIFIED:20220905T215338Z
UID:6888-1664991000-1664994600@philadelphiadogtraining.org
SUMMARY:BEGINNER
DESCRIPTION:
URL:https://philadelphiadogtraining.org/event/beginner-196/
CATEGORIES:Light Blue
END:VEVENT
BEGIN:VEVENT
DTSTART;TZID=America/New_York:20221005T184500
DTEND;TZID=America/New_York:20221005T194500
DTSTAMP:20260422T085236
CREATED:20220905T220338Z
LAST-MODIFIED:20220905T220338Z
UID:6908-1664995500-1664999100@philadelphiadogtraining.org
SUMMARY:BEGINNER
DESCRIPTION:
URL:https://philadelphiadogtraining.org/event/beginner-202/
CATEGORIES:Navy
END:VEVENT
BEGIN:VEVENT
DTSTART;TZID=America/New_York:20221005T200000
DTEND;TZID=America/New_York:20221005T210000
DTSTAMP:20260422T085236
CREATED:20220905T220914Z
LAST-MODIFIED:20220905T220914Z
UID:6922-1665000000-1665003600@philadelphiadogtraining.org
SUMMARY:RALLY
DESCRIPTION:
URL:https://philadelphiadogtraining.org/event/rally-90/
CATEGORIES:Yellow
END:VEVENT
END:VCALENDAR