BEGIN:VCALENDAR
VERSION:2.0
PRODID:-// - ECPv5.7.0//NONSGML v1.0//EN
CALSCALE:GREGORIAN
METHOD:PUBLISH
X-ORIGINAL-URL:https://philadelphiadogtraining.org
X-WR-CALDESC:Events for 
BEGIN:VTIMEZONE
TZID:America/New_York
BEGIN:DAYLIGHT
TZOFFSETFROM:-0500
TZOFFSETTO:-0400
TZNAME:EDT
DTSTART:20220313T070000
END:DAYLIGHT
BEGIN:STANDARD
TZOFFSETFROM:-0400
TZOFFSETTO:-0500
TZNAME:EST
DTSTART:20221106T060000
END:STANDARD
END:VTIMEZONE
BEGIN:VEVENT
DTSTART;TZID=America/New_York:20221003T173000
DTEND;TZID=America/New_York:20221003T183000
DTSTAMP:20260422T085328
CREATED:20220805T164606Z
LAST-MODIFIED:20220905T212307Z
UID:6793-1664818200-1664821800@philadelphiadogtraining.org
SUMMARY:PUPPY K
DESCRIPTION:
URL:https://philadelphiadogtraining.org/event/puppy-k-90/
CATEGORIES:Light Blue
END:VEVENT
BEGIN:VEVENT
DTSTART;TZID=America/New_York:20221003T184500
DTEND;TZID=America/New_York:20221003T194500
DTSTAMP:20260422T085328
CREATED:20220905T212856Z
LAST-MODIFIED:20220905T212856Z
UID:6835-1664822700-1664826300@philadelphiadogtraining.org
SUMMARY:NOVICE RING READINESS
DESCRIPTION:
URL:https://philadelphiadogtraining.org/event/novice-ring-readiness-56/
CATEGORIES:Navy
END:VEVENT
BEGIN:VEVENT
DTSTART;TZID=America/New_York:20221003T194500
DTEND;TZID=America/New_York:20221003T204500
DTSTAMP:20260422T085328
CREATED:20220905T213310Z
LAST-MODIFIED:20220905T213310Z
UID:6847-1664826300-1664829900@philadelphiadogtraining.org
SUMMARY:NOVICE/FOUNDATION SKILLS
DESCRIPTION:
URL:https://philadelphiadogtraining.org/event/novice-foundation-skills-49/
CATEGORIES:Yellow
END:VEVENT
END:VCALENDAR